Workbook

Sheet SERVENTE - GRAU (40%)
A1: LIMPEZA - Regime de Tributação: Lucro Real
A2: ANEXO ---- do Pregão IFSul nº XX/2019 – CONTA VINCULADA PLANILHA DE CUSTOS E FORMAÇÃO DE PREÇOS
A3: Nº do processo: | H3: XXXX
A4: Licitação nº:
A5: Dia:
A6: DISCRIMINAÇÃO DOS SERVIÇOS (DADOS REFERENTES À CONTRATAÇÃO)
A7: A | B7: Data de apresentação da proposta (dia/mês/ano)
A8: B | B8: Município/UF | H8: Sapiranga/RS
A9: C | B9: Ano do Acordo, Convenção ou Dissídio Coletivo | H9: SINDIASSEIO VALE DOS SINOS – RS005068/2021
A10: D | B10: Número de meses de execução contratual | H10: 20
A11: IDENTIFICAÇÃO DO SERVIÇO
A12: Tipo de Serviço: Limpeza e Conservação Predial para o Câmpus Sapiranga IFSUL (Insalubridade 40%) | G12: Unidade de Medida | I12: Quantidade total a contratar (Em função da unidade de medida)
A13: a) Áreas internas - Pisos frios | G13: m2 | I13: 1329.6
A14: b) Áreas internas - Laboratórios | G14: m2 | I14: 700
A15: c) Áreas internas - Almoxarifados/galpões | G15: m2 | I15: 215
A16: d) Áreas internas - Áreas com espaços livres - saguão, hall e salão | D16: m-2 | E16: m-1 | F16: m0 | G16: m2 | I16: 410
A17: e) Banheiros | G17: m2 | I17: 160
A18: TOTAL DA ÁREA INTERNA | I18: =ROUND(I13+I14+I15+I16+I17,2) -> 2814.6
A20: b) Áreas externas - Varrição de passeios e arruamentos | H20: m2 | J20: 8000
A21: f) Áreas externas - Coleta de detritos em pátios e áreas verdes com frequência diária | H21: m2 | J21: 15000
A22: TOTAL DA ÁREA EXTERNA | J22: =ROUND(J20+J21,2) -> 23000
A24: a) Esquadrias externas - Face externa com exposição a situação de risco | H24: m2 | J24: 160
A25: b) Esquadrias externas - Face externa sem exposição a situação de risco | H25: m2 | J25: 380
A26: c) Esquadrias - Face interna | H26: m2 | J26: 380
A27: TOTAL DA ÁREA DA ESQUADRIA EXTERNA - FACE INTERNA/EXTERNA | J27: =ROUND(J24+J25+J26,2) -> 920
A29: TOTAL GERAL | J29: =ROUND(I18+J22+J27,2) -> 26734.6
A31: 1. MÓDULOS Mão de obra Mão de obra vinculada à execução contratual
A33: Dados para composição dos custos referente à mão de obra
A34: 1 | B34: Tipo de Serviço (mesmo serviço com características distintas) | H34: Limpeza e conservação
A35: 2 | B35: Classificação Brasileira de Ocupações (CBO) | H35: 5143-20
A36: 3 | B36: Salário Normativo da Categoria Profissional - para a jornada de 44 h/sem | H36: 1314.09
A37: 4 | B37: Categoria Profissional (vinculada à execução contratual) | H37: Servente de limpeza
A38: 5 | B38: Data-Base da Categoria (dia/mês/ano) | H38: 44562
A40: Módulo 1: Composição da Remuneração
A41: 1 | B41: Composição da Remuneração | H41: Percentual (R$) | J41: Valor (R$)
A42: A | B42: Salário-Base (valor para somente 1 servente de limpeza - 40h/semanais) | J42: =H36/220*200 -> 1194.6273
A43: B | B43: Adicional de Insalubridade (40% do SB - cláusula 55 da CCT/2019) | I43: 0.4 | J43: =ROUND(I43*J42,2) -> 477.85
A44: Total | J44: =SUM(J42:J43) -> 1672.4773
A46: Módulo 2 – Encargos e Benefícios Anuais, Mensais e Diários
A47: Submódulo 2.1 – 13º (décimo terceiro) Salário e Adicional de Férias
...

Sheet INSUMOS
A1: LIMPEZA - Regime de Tributação: Lucro Real
A2: ANEXO ---- do Pregão IFSul nº XX/2019 – CONTA VINCULADA MODELO DE PLANILHA DE CUSTOS E FORMAÇÃO DE PREÇOS
A3: Nº do processo: | F3: xxxxxx
A4: Licitação nº: | F4: xxxxxx
A5: Dia: | F5: xxxxxx
A6: INSUMOS DIVERSOS
A7: Materiais de Limpeza – SANEANTES DOMISSANITÁRIOS | B7: Unidade | C7: Quantidade Mensal | D7: Quantidade 20 meses | E7: Valor Unitário | F7: Custo 20 meses
A8: Água Sanitária de 1ª qualidade, galão de 5 litros | B8: galão | C8: 10 | D8: =C8*20 -> 200 | E8: 7.87 | F8: =D8*E8 -> 1574
A9: Álcool 70 °INPM (70% p/p) ou 77 °GL (77% v/v) | B9: litro | C9: 20 | D9: =C9*20 -> 400 | E9: 8.4 | F9: =D9*E9 -> 3360
A10: Álcool gel(álcool etílico, tipo hidratado) – 450 ml | B10: unidade | C10: 8 | D10: =C10*20 -> 160 | E10: 13.48 | F10: =E10*D10 -> 2156.8
A11: Detergente líquido, para lavagem de louças – 500ml. | B11: unidade | C11: 5 | D11: =C11*20 -> 100 | E11: 3.57 | F11: =D11*E11 -> 357
A12: Desinfetante bactericida de uso geral para banheiros | B12: litro | C12: 40 | D12: =C12*20 -> 800 | E12: 5.15 | F12: =D12*E12 -> 4120
A13: Desodorizador de ar de 360 ml (tipo aerossol) | B13: unidade | C13: 10 | D13: =C13*20 -> 200 | E13: 8.51 | F13: =D13*E13 -> 1702
A14: Inseticida aerosol / spray para eliminação de pragas, tais como baratas, aranhas, etc. 300ml | B14: unidade | C14: 2 | D14: =C14*20 -> 40 | E14: 7.1 | F14: =E14*12 -> 85.2
A15: Limpa vidros | B15: litro | C15: 5 | D15: =C15*20 -> 100 | E15: 6.48 | F15: =D15*E15 -> 648
A16: Limpador Multiuso para limpeza pesada – 500 ml | B16: unidade | C16: 10 | D16: =C16*20 -> 200 | E16: 6.57 | F16: =D16*E16 -> 1314
A17: Desinfetante perfumado para pisos – 5l- Lavanda ou Floral | B17: unidade | C17: 8 | D17: =C17*20 -> 160 | E17: 26.81 | F17: =E17*D17 -> 4289.6
A18: Lustra móveis em creme – 200 ml | B18: unidade | C18: 3 | D18: =C18*20 -> 60 | E18: 2.75 | F18: =E18*D18 -> 165
A19: Sabão em barra, pacote 5 unidades | B19: pacote | C19: 1 | D19: =C19*20 -> 20 | E19: 5.93 | F19: =E19*D19 -> 118.6
A20: Sabão em pó | B20: kg | C20: 8 | D20: =C20*20 -> 160 | E20: 4.56 | F20: =D20*E20 -> 729.6
A21: Saponáceo cremoso – 300 ml | B21: unidade | C21: 10 | D21: =C21*20 -> 200 | E21: 2.76 | F21: =D21*E21 -> 552
A22: Tela desodorante para mictório | B22: unidade | C22: 10 | D22: =C22*20 -> 200 | E22: 3.93 | F22: =D22*E22 -> 786
A23: CISTO DOS SANEANTES DOMISSANITÁRIOS | F23: =SUM(F8:F22) -> 21957.8
A24: CUSTO MENSAL DOS SANEANTES DOMISSANITÁRIOS | F24: =F23/20 -> 1097.89
A26: Materiais de Limpeza – COMPLEMENTARES | B26: Unidade | C26: Quantidade Mensal | D26: Quantidade 20 meses | E26: Valor Unitário | F26: Custo 20 meses
A27: Papel higiênico branco de alta qualidade, folha dupla, tipo personal, Nice ou similar, fardo com 8 rolos de 300m x 10 cm | B27: fardo | C27: 10 | D27: =C27*20 -> 200 | E27: 49.47 | F27: =D27*E27 -> 9894
A28: Papel toalha branco 100% celulose interfolhado com 1000 folhas 20cm x 21cm | B28: pacote | C28: 80 | D28: =C28*20 -> 1600 | E28: 8.47 | F28: =D28*E28 -> 13552
A29: Sabonete líquido para mãos, cremoso, 5 litros (galão) | B29: galão | C29: 5 | D29: =C29*20 -> 100 | E29: 25.59 | F29: =D29*E29 -> 2559
A30: CUSTO DOS MATERIAIS DE LIMPEZA – COMPLEMENTARES | F30: =SUM(F27:F29) -> 26005
A31: CUSTO MENSAL DOS MATERIAIS DE LIMPEZA – COMPLEMENTARES | E31: =F30*12 -> 312060 | F31: =F30/20 -> 1300.25
A33: UTENSÍLIOS | B33: Unidade | C33: Quantidade a disponibilizar | D33: Vida Útil (em meses) | E33: Quantidade 20 meses | F33: Valor Unitário | G33: Custo 20 meses
A34: Balde plástico, 20 litros | B34: unidade | C34: 12 | D34: 12 | E34: =20/D34*C34 -> 20 | F34: 19.5 | G34: =E34*F34 -> 390
A35: Desentupidor de pia | B35: unidade | C35: 2 | D35: 24 | E35: =20/D35*C35 -> 1.6666667 | F35: 3 | G35: =E35*F35 -> 5
A36: Desentupidor de vaso sanitário | B36: unidade | C36: 2 | D36: 12 | E36: =20/D36*C36 -> 3.3333333 | F36: 5.87 | G36: =E36*F36 -> 19.566667
A37: Escova nylon manual, cerdas duras (escova de mão) | B37: unidade | C37: 5 | D37: 12 | E37: =20/D37*C37 -> 8.3333333 | F37: 3.07 | G37: =E37*F37 -> 25.583333
A38: Escova para vaso sanitário | B38: unidade | C38: 8 | D38: 12 | E38: =20/D38*C38 -> 13.333333 | F38: 6.6 | G38: =E38*F38 -> 88
A39: Esponja dupla face | B39: unidade | C39: 10 | D39: 1 | E39: =20/D39*C39 -> 200 | F39: 1.08 | G39: =E39*F39 -> 216
A40: Extensão elétrica com cabo PP - comprimento = 50m | B40: unidade | C40: 1 | D40: 60 | E40: =20/D40*C40 -> 0.33333333 | F40: 349.05 | G40: =E40*F40 -> 116.35
A41: Flanela amarela de algodão, 40x60cm | B41: unidade | C41: 15 | D41: 1 | E41: =20/D41*C41 -> 300 | F41: 2.09 | G41: =E41*F41 -> 627
A42: Varal portátil para secagem de panos | B42: unidade | C42: 3 | D42: 60 | E42: =20/D42*C42 -> 1 | F42: 164.32 | G42: =E42*F42 -> 164.32
...

Sheet RESUMO
A1: LIMPEZA - Regime de Tributação: Lucro Real
A2: ANEXO ---- do Pregão nº XX/2019 – CONTA VINCULADA MODELO DE PLANILHA DE CUSTOS E FORMAÇÃO DE PREÇOS
A3: Nº do processo: | H3: xxxxxxx
A4: Licitação nº:
A5: Dia:
A6: DISCRIMINAÇÃO DOS SERVIÇOS (DADOS REFERENTES À CONTRATAÇÃO)
A7: A | B7: Data de apresentação da proposta (dia/mês/ano)
A8: B | B8: Município/UF | H8: Sapiranga/RS
A9: C | B9: Ano do Acordo, Convenção ou Dissídio Coletivo | H9: SINDIASSEIO VALE DOS SINOS – RS005068/2021
A10: D | B10: Número de meses de execução contratual | H10: 20
A12: Tipo de Serviço: Limpeza e Conservação Predial Para o Câmpus Sapiranga do IFSUL (Insalubridade 40%)
A13: Valor mensal do serviço | I13: ='SERVENTE - GRAU (40%)'!I224:J224 -> 25566.89
A15: Número de meses do contrato | I15: ='SERVENTE - GRAU (40%)'!I226:J226 -> 20
A17: Valor global da proposta (valor mensal do serviço x nº de meses do contrato) | I17: ='SERVENTE - GRAU (40%)'!I228:J228 -> 511337.8
A19: Valor Total Mensal do Contrato | I19: =I13 -> 25566.89
A20: Valor Total Anual do Contrato | I20: =I17 -> 511337.8
