Workbook

Sheet Orçamento
A1: INCLUIR LOGOTIPO DA EMPRESA
A6: DADOS DA EMPRESA
A7: DADOS DA EMPRESA
A9: Planilha de Orçamento - GLOBAL
A11: Obra: REFORMA DO GRADIL DE CONCRETO PRÉ-MOLDADO - Câmpus Avançado Jaguarão | F11: Endereço: Rua Corredor das tropas, 801 - Bairro Vila Branca
A12: Cliente: Instituto Federal Sul-Rio-Grandense | F12: Cidade: JAGUARÃO - RS | J12: BDI = | K12: XX | L12: XX/2021
A13: Item/Descrição | B13: Qtd. | C13: Un | D13: Mão-de-Obra | F13: Material | H13: Custo Unit. Total | I13: Custo Direto | J13: BDI | L13: Sub-Total do Item | M13: Total do Item
D14: Custo Unitário | E14: Custo Parcial | F14: Custo Unitário | G14: Custo Parcial | J14: Valor | K14: %
A16: 2. SERVIÇOS PRELIMINARES / TÉCNICOS | M16: =SUM(L17:L21) -> #VALUE!
A17: 2. 7. PLACA DE IDENTIFICAÇÃO DE OBRA
A18: .1 PLACA DE OBRA | B18: 2.03 | C18: M2 | E18: =D18*B18 -> 0 | G18: =F18*B18 -> 0 | H18: =+D18+F18 -> 0 | I18: =E18+G18 -> 0 | J18: =K18*I18 -> #VALUE! | K18: =$K$12 -> XX | L18: =I18+J18 -> #VALUE!
A19: 2.8. DEMOLIÇÕES E REMOÇÕES
A20: 2.8.43. REMOÇÃO DE GRADIL DE CONCRETO PRÉ-MOLDADO
A21: .1 REMOÇÃO DE GRADIL DE CONCRETO PRÉ-MOLDADO (MÓDULO 2,40x2,60m) | B21: 31.2 | C21: M2 | E21: =D21*B21 -> 0 | G21: =F21*B21 -> 0 | H21: =+D21+F21 -> 0 | I21: =E21+G21 -> 0 | J21: =K21*I21 -> #VALUE! | K21: =$K$12 -> XX | L21: =I21+J21 -> #VALUE!
A22: 3. MOVIMENTO DE TERRA | M22: =SUM(L23:L24) -> #VALUE!
A23: 3. 1. ESCAVAÇÕES
A24: .1 ESCAVACAO MANUAL DE SOLO ATE 1,50M | B24: 8.42 | C24: M3 | E24: =D24*B24 -> 0 | G24: =F24*B24 -> 0 | H24: =+D24+F24 -> 0 | I24: =E24+G24 -> 0 | J24: =K24*I24 -> #VALUE! | K24: =$K$12 -> XX | L24: =I24+J24 -> #VALUE!
A25: 4. INFRA-ESTRUTURA/FUNDAÇÕES SIMPLES | M25: =SUM(L26:L30) -> #VALUE!
A26: 4. 4. BLOCOS
A27: .1 FORMA DE FUNDAÇÃO | B27: 60.84 | C27: M2 | E27: =D27*B27 -> 0 | G27: =F27*B27 -> 0 | H27: =+D27+F27 -> 0 | I27: =E27+G27 -> 0 | J27: =K27*I27 -> #VALUE! | K27: =$K$12 -> XX | L27: =I27+J27 -> #VALUE!
A28: .2 ARMADURA CA-50 MEDIA 1/4 A 3/8-6,35 A 9,53MM | B28: 191.04 | C28: KG | E28: =D28*B28 -> 0 | G28: =F28*B28 -> 0 | H28: =+D28+F28 -> 0 | I28: =E28+G28 -> 0 | J28: =K28*I28 -> #VALUE! | K28: =$K$12 -> XX | L28: =I28+J28 -> #VALUE!
A29: .3 ARMADURA CA-60 MEDIA 5,0 A 6,0MM | B29: 61.84 | C29: KG | E29: =D29*B29 -> 0 | G29: =F29*B29 -> 0 | H29: =+D29+F29 -> 0 | I29: =E29+G29 -> 0 | J29: =K29*I29 -> #VALUE! | K29: =$K$12 -> XX | L29: =I29+J29 -> #VALUE!
A30: .4 CONCRETO FCK 25MPA - PREPARO, LANÇAMENTO E CURA | B30: 8.42 | C30: M3 | E30: =D30*B30 -> 0 | G30: =F30*B30 -> 0 | H30: =+D30+F30 -> 0 | I30: =E30+G30 -> 0 | J30: =K30*I30 -> #VALUE! | K30: =$K$12 -> XX | L30: =I30+J30 -> #VALUE!
A31: 6. SUPERESTRUTURA | M31: =SUM(L32:L33) -> #VALUE!
A32: 6.2 ESTRUTURA METÁLICA
A33: .1 PERFIL "U" 100x130x3,2mm - CHAPA METÁLICA AÇO CARBONO DOBRADA, GALVANIZADA E CORTADA - FIXADA C/ PARAFUSO 3.8x40mm + bucha 6mm | B33: 39 | C33: pçs | E33: =D33*B33 -> 0 | G33: =F33*B33 -> 0 | H33: =+D33+F33 -> 0 | I33: =E33+G33 -> 0 | J33: =K33*I33 -> #VALUE! | K33: =$K$12 -> XX | L33: =I33+J33 -> #VALUE!
A34: 9. COBERTURA | M34: =SUM(L35:L37) -> #VALUE!
A35: 9.2 TELHAMENTO
A36: 9.2.1 COM TELHAS DE FIBROCIMENTO (SEM AMIANTO)
A37: .1 COBERTURA COM TELHA FIBROCIMENTO 5MM, INCL. FIXAÇÃO | B37: =2.44*1.1*20 -> 53.68 | C37: M2 | E37: =D37*B37 -> 0 | G37: =F37*B37 -> 0 | H37: =+D37+F37 -> 0 | I37: =E37+G37 -> 0 | J37: =K37*I37 -> #VALUE! | K37: =$K$12 -> XX | L37: =I37+J37 -> #VALUE!
A38: 19. PAISAGISMO/URBANIZAÇÃO | M38: =SUM(L39:L41) -> #VALUE!
A39: 19.5. MUROS E CERCAS
A40: 19.5.2. GRADIL DE CONCRETO PRÉ-MOLDADO
A41: .1 GRADIL DE CONCRETO PRÉ-MOLDADO + frete | B41: 31.2 | C41: M2 | E41: =D41*B41 -> 0 | G41: =F41*B41 -> 0 | H41: =+D41+F41 -> 0 | I41: =E41+G41 -> 0 | J41: =K41*I41 -> #VALUE! | K41: =$K$12 -> XX | L41: =I41+J41 -> #VALUE!
A42: 21. GERENCIAMENTO DE OBRAS/FISCALIZAÇÃO | M42: =SUM(L43:L45) -> #VALUE!
A43: 21. 1. ADMINISTRAÇÃO DA OBRA
A44: 21. 1. 1. DESPESAS COM PESSOAL
A45: .1 CONTRAMESTRE | B45: 1 | C45: ME | E45: =D45*B45 -> 0 | G45: =F45*B45 -> 0 | H45: =+D45+F45 -> 0 | I45: =E45+G45 -> 0 | J45: =K45*I45 -> #VALUE! | K45: =$K$12 -> XX | L45: =I45+J45 -> #VALUE!
H46: TOTAL DO ORÇAMENTO | M46: =SUM(M16:M45) -> #VALUE!
J50: Local e Data
...

Sheet Cronograma
A2: INCLUIR LOGOTIPO DA EMPRESA
A7: DADOS DA EMPRESA
A8: DADOS DA EMPRESA
A10: Obra: REFORMA DO GRADIL DE CONCRETO PRÉ-MOLDADO - Câmpus Avançado Jaguarão | D10: Endereço: Rua Corredor das tropas, 801 - Bairro Vila Branca
A11: Cliente: Instituto Federal Sul-Rio-Grandense | D11: Jaguarão - RS
A13: ITEM | B13: 15 dias | D13: 30 dias | F13: TOTAL
B14: VALOR | C14: % | D14: VALOR | E14: % | F14: VALOR | G14: %
A15: 2. SERVIÇOS PRELIMINARES / TÉCNICOS | B15: =C15*$F15 -> #VALUE! | D15: =E15*$F15 -> #VALUE! | F15: =Orçamento!M16 -> #VALUE! | G15: =C15+E15 -> 0 | Q15: =B15+D15 -> #VALUE! | R15: =F15-Q15 -> #VALUE!
A16: 3. MOVIMENTO DE TERRA | B16: =C16*$F16 -> #VALUE! | D16: =E16*$F16 -> #VALUE! | F16: =Orçamento!M22 -> #VALUE! | G16: =C16+E16 -> 0
A17: 4. INFRA-ESTRUTURA / FUNDAÇÕES SIMPLES | B17: =C17*$F17 -> #VALUE! | D17: =E17*$F17 -> #VALUE! | F17: =Orçamento!M25 -> #VALUE! | G17: =C17+E17 -> 0
A18: 6. SUPERESTRUTURA | B18: =C18*$F18 -> #VALUE! | D18: =E18*$F18 -> #VALUE! | F18: =Orçamento!M31 -> #VALUE! | G18: =C18+E18 -> 0
A19: 9. COBERTURA | B19: =$F$19*C19 -> #VALUE! | D19: =$F$19*E19 -> #VALUE! | F19: =Orçamento!M34 -> #VALUE! | G19: =C19+E19 -> 0
A20: 19. PAISAGISMO/URBANIZAÇÃO | B20: =C20*$F20 -> #VALUE! | D20: =E20*$F20 -> #VALUE! | F20: =Orçamento!M38 -> #VALUE! | G20: =C20+E20 -> 0 | Q20: =B20+D20 -> #VALUE! | R20: =F20-Q20 -> #VALUE!
A21: 21. GERENCIAMENTO DE OBRAS/FISCALIZAÇÃO | B21: =C21*$F21 -> #VALUE! | D21: =E21*$F21 -> #VALUE! | F21: =Orçamento!M42 -> #VALUE! | G21: =C21+E21 -> 0 | Q21: =B21+D21 -> #VALUE! | R21: =F21-Q21 -> #VALUE!
A22: Total da Etapa | B22: =SUM(B15:B21) -> #VALUE! | C22: =B22/$F$22 -> #VALUE! | D22: =SUM(D15:D21) -> #VALUE! | E22: =D22/$F$22 -> #VALUE! | F22: =B22+D22 -> #VALUE! | G22: =C22+E22 -> #VALUE!
A23: Total Acumulado | B23: =B22 -> #VALUE! | C23: =C22 -> #VALUE! | D23: =B23+D22 -> #VALUE! | E23: =C23+E22 -> #VALUE! | F23: =SUM(F15:F21) -> #VALUE!
E26: Local e Data
E29: Nome do Profissional Responsável
E30: Especificação do Cargo/função
E31: N° do CREA ou CAU
