Workbook
Name Print_Area: 'Orçamento REFORÇO ESTRUTURAL'!$A$6:$M$110
Name Print_Titles: 'Orçamento REFORÇO ESTRUTURAL'!$6:$16

Sheet Orçamento ADEQUAÇÕES HIDRAÚLICA
A1: INCLUIR LOGOTIPO DA EMPRESA
A6: DADOS DA EMPRESA
A7: DADOS DA EMPRESA
A9: Planilha de Orçamento - GLOBAL
A11: Obra: REFORMAS 2021 - PARTE 1 - ADEQUAÇÕES HIDRAÚLICAS - ETAPA 1 | B11: Endereço: Rua João Goulart nº 2150 - Bairro Olarias
A12: Cliente: Instituto Federal Sul-Rio-Grandense | B12: Cidade: Lajeado - RS | J12: BDI =
A13: Item/Descrição | B13: Qtd. | C13: Un | D13: Mão-de-Obra | F13: Material | H13: Custo Unit. Total | I13: Custo Direto | J13: BDI | L13: Sub-Total do Item | M13: Total do Item
D14: Custo Unitário | E14: Custo Parcial | F14: Custo Unitário | G14: Custo Parcial | J14: Valor | K14: %
A16: 2. SERVIÇOS PRELIMINARES / TÉCNICOS | M16: =SUM(L17:L27) -> 0
A17: 2. 6. TAPUMES | L17: =I17+J17 -> 0
A18: 2. 6. 3. TELA DE POLIETILENO | L18: =I18+J18 -> 0
A19: .1 TAPUME COM TELA DE POLIETILENO, ALTURA 1,20M, INCL. BASE | B19: 7 | C19: M | E19: =D19*B19 -> 0 | G19: =F19*B19 -> 0 | H19: =+D19+F19 -> 0 | I19: =E19+G19 -> 0 | J19: =K19*I19 -> 0 | K19: =$K$12 -> 0 | L19: =I19+J19 -> 0
A20: 2.8.DEMOLIÇÕES E REMOÇÕES | L20: =I20+J20 -> 0
A21: 2.8.7. DEMOLIÇÃO E REMOÇÃO DE PISOS | L21: =I21+J21 -> 0
A22: .1 DEMOLIÇÃO DE CONTRAPISO DE CONCRETO SIMPLES 8CM | B22: 0.95 | C22: M2 | E22: =D22*B22 -> 0 | G22: =F22*B22 -> 0 | H22: =+D22+F22 -> 0 | I22: =E22+G22 -> 0 | J22: =K22*I22 -> 0 | K22: =$K$12 -> 0 | L22: =I22+J22 -> 0
A23: .2 REMOÇÃO E REPOSIÇÃO DE PLACAS DE CONCRETO PRÉ-MOLDADAS | B23: 0.95 | C23: M2 | E23: =D23*B23 -> 0 | G23: =F23*B23 -> 0 | H23: =+D23+F23 -> 0 | I23: =E23+G23 -> 0 | J23: =K23*I23 -> 0 | K23: =$K$12 -> 0 | L23: =I23+J23 -> 0
A24: .3 REMOÇÃO E REPOSIÇÃO DE MEIO-FIO DE CONCRETO | B24: 1.2 | C24: M | E24: =D24*B24 -> 0 | G24: =F24*B24 -> 0 | H24: =+D24+F24 -> 0 | I24: =E24+G24 -> 0 | J24: =K24*I24 -> 0 | K24: =$K$12 -> 0 | L24: =I24+J24 -> 0
A25: .4 REASSENTAMENTO DE BLOCOS INTERTRAVADOS - C/ REAPROVEITAMENTO - RETIRADA E COLOCAÇÃO | B25: 1.2 | C25: M2 | E25: =D25*B25 -> 0 | G25: =F25*B25 -> 0 | H25: =+D25+F25 -> 0 | I25: =E25+G25 -> 0 | J25: =K25*I25 -> 0 | K25: =$K$12 -> 0 | L25: =I25+J25 -> 0
A26: 2.9. LOCAÇÃO DA OBRA
A27: .1 LOCAÇÃO DAS VALAS | B27: 105.87 | C27: M | E27: =D27*B27 -> 0 | G27: =F27*B27 -> 0 | H27: =+D27+F27 -> 0 | I27: =E27+G27 -> 0 | J27: =K27*I27 -> 0 | K27: =$K$12 -> 0 | L27: =I27+J27 -> 0
A28: 3. MOVIMENTO DE TERRA | M28: =SUM(L29:L34) -> 0
A29: 3.1. ESCAVAÇÕES
A30: .1 ESCAVAÇÃO MANUAL DE VALAS ATÉ 2M | B30: 30.22 | C30: M3 | E30: =D30*B30 -> 0 | G30: =F30*B30 -> 0 | H30: =+D30+F30 -> 0 | I30: =E30+G30 -> 0 | J30: =K30*I30 -> 0 | K30: =$K$12 -> 0 | L30: =I30+J30 -> 0
A31: 3.2. ATERROS
A32: 3.2.2. REATERRO E COMPACTAÇÃO MANUAL DE VALAS
A33: .1 REATERRO MAT. DA VALA - COMPACTAÇÃO MECANICA | B33: 19.28 | C33: M3 | E33: =D33*B33 -> 0 | G33: =F33*B33 -> 0 | H33: =+D33+F33 -> 0 | I33: =E33+G33 -> 0 | J33: =K33*I33 -> 0 | K33: =$K$12 -> 0 | L33: =I33+J33 -> 0
A34: .2 REATERRO MANUAL DE VALAS COM AREIA | B34: 9.64 | C34: M3 | E34: =D34*B34 -> 0 | G34: =F34*B34 -> 0 | H34: =+D34+F34 -> 0 | I34: =E34+G34 -> 0 | J34: =K34*I34 -> 0 | K34: =$K$12 -> 0 | L34: =I34+J34 -> 0
A35: 12. INSTALAÇÕES HIDRÁULICAS E SANITÁRIAS | M35: =SUM(L36:L67) -> 0
A36: 12.1. REDE DE ÁGUA E ABASTECIMENTO
A37: 12.1.1. TUBOS E CONEXÕES
A38: .1 TUBO PVC RIGIDO SOLDAVEL 25MM | B38: 118.66 | C38: M | E38: =D38*B38 -> 0 | G38: =F38*B38 -> 0 | H38: =+D38+F38 -> 0 | I38: =E38+G38 -> 0 | J38: =K38*I38 -> 0 | K38: =$K$12 -> 0 | L38: =I38+J38 -> 0
A39: .2 TE 90 PVC RIGIDO SOLDAVEL 25MM | B39: 11 | C39: UN | E39: =D39*B39 -> 0 | G39: =F39*B39 -> 0 | H39: =+D39+F39 -> 0 | I39: =E39+G39 -> 0 | J39: =K39*I39 -> 0 | K39: =$K$12 -> 0 | L39: =I39+J39 -> 0
A40: .3 JOELHO 90 PVC RIGIDO SOLDAVEL 25MM | B40: 16 | C40: UN | E40: =D40*B40 -> 0 | G40: =F40*B40 -> 0 | H40: =+D40+F40 -> 0 | I40: =E40+G40 -> 0 | J40: =K40*I40 -> 0 | K40: =$K$12 -> 0 | L40: =I40+J40 -> 0
A41: .4 JOELHO 45 GRAUS, PVC, SOLDÁVEL, DN 25MM, INSTALADO EM PRUMADA DE ÁGUA | B41: 1 | C41: UN | E41: =D41*B41 -> 0 | G41: =F41*B41 -> 0 | H41: =+D41+F41 -> 0 | I41: =E41+G41 -> 0 | J41: =K41*I41 -> 0 | K41: =$K$12 -> 0 | L41: =I41+J41 -> 0
A42: .5 JOELHO 90 GRAUS COM BUCHA DE LATÃO, PVC, SOLDÁVEL, DN 25MM, X 1/2” | B42: 5 | C42: UN | E42: =D42*B42 -> 0 | G42: =F42*B42 -> 0 | H42: =+D42+F42 -> 0 | I42: =E42+G42 -> 0 | J42: =K42*I42 -> 0 | K42: =$K$12 -> 0 | L42: =I42+J42 -> 0
A43: .6 TÊ COM BUCHA DE LATÃO NA BOLSA CENTRAL, PVC, SOLDÁVEL, DN 25MM X 1/2” | B43: 1 | C43: UN | E43: =D43*B43 -> 0 | G43: =F43*B43 -> 0 | H43: =+D43+F43 -> 0 | I43: =E43+G43 -> 0 | J43: =K43*I43 -> 0 | K43: =$K$12 -> 0 | L43: =I43+J43 -> 0
A44: .7 ABRAÇADEIRA AÇO ZINC. TIPO D C/TRAVA 1" (25MM) | B44: 5 | C44: UN | E44: =D44*B44 -> 0 | G44: =F44*B44 -> 0 | H44: =+D44+F44 -> 0 | I44: =E44+G44 -> 0 | J44: =K44*I44 -> 0 | K44: =$K$12 -> 0 | L44: =I44+J44 -> 0
A45: 12. 1. 2. REGISTROS E VÁLVULAS DE RETENÇÃO | B45: 0
A46: .1 REGISTRO DE ESFERA, PVC, SOLDÁVEL, DN 25 MM, INSTALADO EM RESERVAÇÃO DE ÁG | B46: 2 | C46: UN | E46: =D46*B46 -> 0 | G46: =F46*B46 -> 0 | H46: =+D46+F46 -> 0 | I46: =E46+G46 -> 0 | J46: =K46*I46 -> 0 | K46: =$K$12 -> 0 | L46: =I46+J46 -> 0
A47: 12. 1. 3. ENGATES FLEXÍVEIS | B47: 0
...

Sheet Orçamento COBERTURA GUARITA
A1: INCLUIR LOGOTIPO DA EMPRESA
A6: DADOS DA EMPRESA
A7: DADOS DA EMPRESA
A9: Planilha de Orçamento - GLOBAL
A11: Obra: REFORMAS 2021 - PARTE 1 - REFORMA NA COBERTURA DA GUARITA | B11: Endereço: Rua João Goulart nº 2150 - Bairro Olarias
A12: Cliente: Instituto Federal Sul-Rio-Grandense | B12: Cidade: Lajeado - RS | J12: BDI =
A13: Item/Descrição | B13: Qtd. | C13: Un | D13: Mão-de-Obra | F13: Material | H13: Custo Unit. Total | I13: Custo Direto | J13: BDI | L13: Sub-Total do Item | M13: Total do Item
D14: Custo Unitário | E14: Custo Parcial | F14: Custo Unitário | G14: Custo Parcial | J14: Valor | K14: %
A16: 2. SERVIÇOS PRELIMINARES / TÉCNICOS | M16: =SUM(L17:L30) -> 0
A17: 2. 5. INSTALAÇÃO DO CANTEIRO DE OBRAS
A18: 2. 5. 2. ESCRITÓRIO E ALMOXARIFADO
A19: .1 LOCAÇÃO CONTAINER 2,30x6,00/h=2,50m P/ESCRIT + ALMOX | B19: 2 | C19: MS | D19: 0 | E19: =D19*B19 -> 0 | G19: =F19*B19 -> 0 | H19: =+D19+F19 -> 0 | I19: =E19+G19 -> 0 | J19: =K19*I19 -> 0 | K19: =$K$12 -> 0 | L19: =I19+J19 -> 0
A20: .2 MOBILIZAÇÃO / DESMOBILIZAÇÃO (TRANSPORTE/FRETES) P/ CONTAINER | B20: 2 | C20: UN | D20: 0 | E20: =D20*B20 -> 0 | G20: =F20*B20 -> 0 | H20: =+D20+F20 -> 0 | I20: =E20+G20 -> 0 | J20: =K20*I20 -> 0 | K20: =$K$12 -> 0 | L20: =I20+J20 -> 0
A21: 2. 6. TAPUMES | L21: =I21+J21 -> 0
A22: 2. 6. 3. TELA DE POLIETILENO | L22: =I22+J22 -> 0
A23: .1 TAPUME COM TELA DE POLIETILENO, ALTURA 1,20M, INCL. BASE | B23: 54.64 | C23: M | E23: =D23*B23 -> 0 | G23: =F23*B23 -> 0 | H23: =+D23+F23 -> 0 | I23: =E23+G23 -> 0 | J23: =K23*I23 -> 0 | K23: =$K$12 -> 0 | L23: =I23+J23 -> 0
A24: 2. 7. PLACAS DE IDENTIFICAÇÃO DE EXERCÍCIO PROFISSIONAL EM OBRAS | L24: =I24+J24 -> 0
A25: .1 PLACA DE OBRA-PINTADA/FIXADA ESTRUTURA METÁLICA (METALON) | B25: 2.03 | C25: M2 | E25: =D25*B25 -> 0 | G25: =F25*B25 -> 0 | H25: =+D25+F25 -> 0 | I25: =E25+G25 -> 0 | J25: =K25*I25 -> 0 | K25: =$K$12 -> 0 | L25: =I25+J25 -> 0
A26: 2.12. MÁQUINAS, EQUIPAMENTOS E FERRAMENTAS
A27: .1 LOCAÇÃO DE ANDAIME TUBULAR COM PLATAFORMA METÁLICA | B27: 2 | C27: MS | E27: =D27*B27 -> 0 | G27: =F27*B27 -> 0 | H27: =+D27+F27 -> 0 | I27: =E27+G27 -> 0 | J27: =K27*I27 -> 0 | K27: =$K$12 -> 0 | L27: =I27+J27 -> 0
A28: 2.14. ESCORAMENTO
A29: 2.14.2 ESCORA METÁLICA
A30: .1 ESCORAMENTO METÁLICO POR TUBO - LOCAÇÃO MENSAL | B30: 95 | C30: UN | E30: =D30*B30 -> 0 | G30: =F30*B30 -> 0 | H30: =+D30+F30 -> 0 | I30: =E30+G30 -> 0 | J30: =K30*I30 -> 0 | K30: =$K$12 -> 0 | L30: =I30+J30 -> 0
A31: 6. SUPERESTRUTURA | M31: =SUM(L32:L51) -> 0
A32: 6.1. ESTRUTURA DE CONCRETO
A33: 6.1.4. CINTA DE AMARRAÇÃO
A34: 6.1.4.1. FORMA
A35: .1 FORMA COMPENS.RESINADO-REAP.3X-INCL.ESCORAM. | B35: 12.04 | C35: M2 | E35: =D35*B35 -> 0 | G35: =F35*B35 -> 0 | H35: =+D35+F35 -> 0 | I35: =E35+G35 -> 0 | J35: =K35*I35 -> 0 | K35: =$K$12 -> 0 | L35: =I35+J35 -> 0
A36: 6.1.4.2. AÇO
A37: .1 ARMADURA CA-60 FINA 4,2 A 4,6MM | B37: 13.08 | C37: KG | E37: =D37*B37 -> 0 | G37: =F37*B37 -> 0 | H37: =+D37+F37 -> 0 | I37: =E37+G37 -> 0 | J37: =K37*I37 -> 0 | K37: =$K$12 -> 0 | L37: =I37+J37 -> 0
A38: .2 ARMADURA CA-50 MEDIA 1/4 A 3/8-6,35 A 9,53MM | B38: 39.34 | C38: KG | E38: =D38*B38 -> 0 | G38: =F38*B38 -> 0 | H38: =+D38+F38 -> 0 | I38: =E38+G38 -> 0 | J38: =K38*I38 -> 0 | K38: =$K$12 -> 0 | L38: =I38+J38 -> 0
A39: 6.1.4.3. CONCRETO
A40: .1 CONCRETO FCK 25MPA - PRE-MISTURADO - CONV. | B40: 0.6 | C40: M3 | E40: =D40*B40 -> 0 | G40: =F40*B40 -> 0 | H40: =+D40+F40 -> 0 | I40: =E40+G40 -> 0 | J40: =K40*I40 -> 0 | K40: =$K$12 -> 0 | L40: =I40+J40 -> 0
A41: .2 LANCAMENTO MANUAL CONCRETO ESTRUTURAL-ADENSAM.VIB. | B41: 0.6 | C41: M3 | E41: =D41*B41 -> 0 | G41: =F41*B41 -> 0 | H41: =+D41+F41 -> 0 | I41: =E41+G41 -> 0 | J41: =K41*I41 -> 0 | K41: =$K$12 -> 0 | L41: =I41+J41 -> 0
A42: 6.1.7. PILARETES
A43: 6.1.4.1. FORMA
A44: .1 FORMA COMPENS.RESINADO-VIGA-REAP.3X-INCL.ESCORAM. | B44: 4.8 | C44: M2 | E44: =D44*B44 -> 0 | G44: =F44*B44 -> 0 | H44: =+D44+F44 -> 0 | I44: =E44+G44 -> 0 | J44: =K44*I44 -> 0 | K44: =$K$12 -> 0 | L44: =I44+J44 -> 0
A45: 6.1.4.2. AÇO
A46: .1 ARMADURA CA-60 FINA 4,2 A 4,6MM | B46: 10.46 | C46: KG | E46: =D46*B46 -> 0 | G46: =F46*B46 -> 0 | H46: =+D46+F46 -> 0 | I46: =E46+G46 -> 0 | J46: =K46*I46 -> 0 | K46: =$K$12 -> 0 | L46: =I46+J46 -> 0
A47: .2 ARMADURA CA-50 MEDIA 1/4 A 3/8-6,35 A 9,53MM | B47: 21.5 | C47: KG | E47: =D47*B47 -> 0 | G47: =F47*B47 -> 0 | H47: =+D47+F47 -> 0 | I47: =E47+G47 -> 0 | J47: =K47*I47 -> 0 | K47: =$K$12 -> 0 | L47: =I47+J47 -> 0
...

Sheet Orçamento REFORÇO ESTRUTURAL
A1: INCLUIR LOGOTIPO DA EMPRESA
A7: DADOS DA EMPRESA
A8: DADOS DA EMPRESA
A10: Planilha de Orçamento - GLOBAL
A12: Obra: REFORMAS 2021 - PARTE 1 - REFORÇO ESTRUTURAL NA SALA DOS PROFESSORES | F12: Endereço: Rua João Goulart nº 2150 - Bairro Olarias
A13: Cliente: Instituto Federal Sul-Rio-Grandense | F13: Cidade: Lajeado - RS | J13: BDI =
A14: Item/Descrição | B14: Qtd. | C14: Un | D14: Mão-de-Obra | F14: Material | H14: Custo Unit. Total | I14: Custo Direto | J14: BDI | L14: Sub-Total do Item | M14: Total do Item
D15: Custo Unitário | E15: Custo Parcial | F15: Custo Unitário | G15: Custo Parcial | J15: Valor | K15: %
A17: 2. SERVIÇOS PRELIMINARES / TÉCNICOS | M17: =SUM(L18:L32) -> 0
A18: 2.8. DEMOLIÇÕES E REMOÇÕES
A19: 2.8.7 DEMOLIÇÃO E REMOÇÃO DE PISO
A20: .1 REMOÇÃO DE PISO CERÂMICOS, INCL. ARGAMASSA DE ASSENTAMENTO | B20: 95.13 | C20: M2 | E20: =D20*B20 -> 0 | G20: =F20*B20 -> 0 | H20: =+D20+F20 -> 0 | I20: =E20+G20 -> 0 | J20: =K20*I20 -> 0 | K20: =$K$13 -> 0 | L20: =I20+J20 -> 0
A21: .2 RETIRADA DE RODAPÉ CERÂMICO, INCL. ARGAMASSA DE ASSENTAMENTO | B21: 35.84 | C21: M2 | E21: =D21*B21 -> 0 | G21: =F21*B21 -> 0 | H21: =+D21+F21 -> 0 | I21: =E21+G21 -> 0 | J21: =K21*I21 -> 0 | K21: =$K$13 -> 0 | L21: =I21+J21 -> 0
A22: 2.8.14 DEMOLIÇÃO DE CONTRAPISO
A23: .1 DEMOLIÇÃO DE CONTRAPISO DE CONCRETO SIMPLES 8CM | B23: 2 | C23: M2 | E23: =D23*B23 -> 0 | G23: =F23*B23 -> 0 | H23: =+D23+F23 -> 0 | I23: =E23+G23 -> 0 | J23: =K23*I23 -> 0 | K23: =$K$13 -> 0 | L23: =I23+J23 -> 0
A24: 2.8.25 REMOÇÃO DE DIVISÓRIAS
A25: .1 DESMONTAGEM DE DIVISÓRIAS LEVES | B25: 17.25 | C25: M2 | E25: =D25*B25 -> 0 | G25: =F25*B25 -> 0 | H25: =+D25+F25 -> 0 | I25: =E25+G25 -> 0 | J25: =K25*I25 -> 0 | K25: =$K$13 -> 0 | L25: =I25+J25 -> 0
A26: 2.10. TRANSPORTES
A27: .1 LOCAÇÃO DE CAÇAMBA COLETORA DE ENTULHO, CAPACIDADE 7M3 | B27: 1 | C27: UN | E27: =D27*B27 -> 0 | G27: =F27*B27 -> 0 | H27: =+D27+F27 -> 0 | I27: =E27+G27 -> 0 | J27: =K27*I27 -> 0 | K27: =$K$13 -> 0 | L27: =I27+J27 -> 0
A28: 2.12. MÁQUINAS, EQUIPAMENTOS E FERRAMENTAS
A29: .1 LOCAÇÃO DE MACACO HIDRAULICO, TIPO GARRAFA, CAP. 50T, DIÁRIA | B29: 3 | C29: UN | E29: =D29*B29 -> 0 | G29: =F29*B29 -> 0 | H29: =+D29+F29 -> 0 | I29: =E29+G29 -> 0 | J29: =K29*I29 -> 0 | K29: =$K$13 -> 0 | L29: =I29+J29 -> 0
A30: 2.14. ESCORAMENTO
A31: 2.14.2 ESCORA METÁLICA
A32: .1 ESCORAMENTO METÁLICO POR TUBO - LOCAÇÃO MENSAL | B32: 90 | C32: UN | E32: =D32*B32 -> 0 | G32: =F32*B32 -> 0 | H32: =+D32+F32 -> 0 | I32: =E32+G32 -> 0 | J32: =K32*I32 -> 0 | K32: =$K$13 -> 0 | L32: =I32+J32 -> 0
A33: 3. MOVIMENTO DE TERRA | M33: =SUM(L34:L37) -> 0
A34: 3. 1. ESCAVAÇÕES
A35: .1 ESCAVACAO MANUAL DE SOLO DE 1A. ATE 1,50M | B35: 2 | C35: M3 | E35: =D35*B35 -> 0 | G35: =F35*B35 -> 0 | H35: =+D35+F35 -> 0 | I35: =E35+G35 -> 0 | J35: =K35*I35 -> 0 | K35: =$K$13 -> 0 | L35: =I35+J35 -> 0
A36: 3. 3. REATERRO DE VALAS DE FUNDAÇÃO
A37: .1 REATERRO VALAS COM AREIA - COMPACTADA | B37: 1.27 | C37: M3 | E37: =D37*B37 -> 0 | G37: =F37*B37 -> 0 | H37: =+D37+F37 -> 0 | I37: =E37+G37 -> 0 | J37: =K37*I37 -> 0 | K37: =$K$13 -> 0 | L37: =I37+J37 -> 0
A38: 4. INFRA-ESTRUTURA / FUNDAÇÕES SIMPLES | M38: =SUM(L39:L48) -> 0
A39: 4.2. SAPATAS
A40: 4.2.1. FORMA
A41: .1 FORMA COMPENS.RESINADO-REAP.3X-INCL.ESCORAM. | B41: 4.08 | C41: M2 | E41: =D41*B41 -> 0 | G41: =F41*B41 -> 0 | H41: =+D41+F41 -> 0 | I41: =E41+G41 -> 0 | J41: =K41*I41 -> 0 | K41: =$K$13 -> 0 | L41: =I41+J41 -> 0
A42: 4.2.2. AÇO
A43: .1 ARMADURA CA-60 MEDIA 5,0 A 6,0MM | B43: 2 | C43: KG | E43: =D43*B43 -> 0 | G43: =F43*B43 -> 0 | H43: =+D43+F43 -> 0 | I43: =E43+G43 -> 0 | J43: =K43*I43 -> 0 | K43: =$K$13 -> 0 | L43: =I43+J43 -> 0
A44: .2 ARMADURA CA-50 MEDIA 1/4 A 3/8-6,35 A 9,53MM | B44: 26 | C44: KG | E44: =D44*B44 -> 0 | G44: =F44*B44 -> 0 | H44: =+D44+F44 -> 0 | I44: =E44+G44 -> 0 | J44: =K44*I44 -> 0 | K44: =$K$13 -> 0 | L44: =I44+J44 -> 0
A45: 4.2.3. CONCRETO
A46: .1 CONCRETO FCK 25MPA - PRE-MISTURADO - CONV. | B46: 0.73 | C46: M3 | E46: =D46*B46 -> 0 | G46: =F46*B46 -> 0 | H46: =+D46+F46 -> 0 | I46: =E46+G46 -> 0 | J46: =K46*I46 -> 0 | K46: =$K$13 -> 0 | L46: =I46+J46 -> 0
A47: .2 LANCAMENTO MANUAL CONCRETO ESTRUTURAL-ADENSAM.VIB. | B47: 0.73 | C47: M3 | E47: =D47*B47 -> 0 | G47: =F47*B47 -> 0 | H47: =+D47+F47 -> 0 | I47: =E47+G47 -> 0 | J47: =K47*I47 -> 0 | K47: =$K$13 -> 0 | L47: =I47+J47 -> 0
A48: .3 LASTRO MANUAL DE BRITA (BASE SAPATAS) | B48: 0.2 | C48: M3 | E48: =D48*B48 -> 0 | G48: =F48*B48 -> 0 | H48: =+D48+F48 -> 0 | I48: =E48+G48 -> 0 | J48: =K48*I48 -> 0 | K48: =$K$13 -> 0 | L48: =I48+J48 -> 0
...

Sheet Cronograma
A1: INCLUIR LOGOTIPO DA EMPRESA
A6: DADOS DA EMPRESA
A7: DADOS DA EMPRESA
A8: DADOS DA EMPRESA
A9: CRONOGRAMA
A12: ITEM | B12: 30 dias | D12: 60 dias | F12: TOTAL
B13: VALOR | C13: % | D13: VALOR | E13: % | F13: VALOR | G13: %
A14: 2. SERVIÇOS PRELIMINARES / TÉCNICOS | B14: =C14*$F14 -> 0 | C14: 0.55 | D14: =E14*$F14 -> 0 | E14: 0.45 | F14: ='Orçamento COBERTURA GUARITA'!M16 + 'Orçamento REFORÇO ESTRUTURAL'!M17+'Orçamento ADEQUAÇÕES HIDRAÚLICA'!M16 -> 0 | G14: =C14+E14 -> 1
A15: 3. MOVIMENTO DE TERRA | B15: =C15*$F15 -> 0 | C15: 0.35 | D15: =E15*$F15 -> 0 | E15: 0.65 | F15: ='Orçamento REFORÇO ESTRUTURAL'!M33+'Orçamento ADEQUAÇÕES HIDRAÚLICA'!M28 -> 0 | G15: =C15+E15 -> 1
A16: 4. INFRA-ESTRUTURA / FUNDAÇÕES SIMPLES | B16: =C16*$F16 -> 0 | C16: 1 | D16: =E16*$F16 -> 0 | F16: ='Orçamento REFORÇO ESTRUTURAL'!M38 -> 0 | G16: =C16+E16 -> 1
A17: 6. SUPERESTRUTURA | B17: =C17*$F17 -> 0 | C17: 0.2 | D17: =E17*$F17 -> 0 | E17: 0.8 | F17: ='Orçamento COBERTURA GUARITA'!M31+'Orçamento REFORÇO ESTRUTURAL'!M49 -> 0 | G17: =C17+E17 -> 1
A18: 7. ALVENARIA/ VEDAÇÃO/ DIVISÓRIA | B18: =C18*$F18 -> 0 | D18: =E18*$F18 -> 0 | E18: 1 | F18: ='Orçamento COBERTURA GUARITA'!M52+'Orçamento REFORÇO ESTRUTURAL'!M55 -> 0 | G18: =C18+E18 -> 1
A19: 8. ESQUADRIAS | B19: =C19*$F19 -> 0 | D19: =E19*$F19 -> 0 | E19: 1 | F19: ='Orçamento REFORÇO ESTRUTURAL'!M60 -> 0 | G19: =C19+E19 -> 1
A20: 9. COBERTURA | B20: =C20*$F20 -> 0 | C20: 0.2 | D20: =E20*$F20 -> 0 | E20: 0.8 | F20: ='Orçamento COBERTURA GUARITA'!M56 -> 0 | G20: =C20+E20 -> 1
A21: 12. INSTALAÇÕES HIDRÁULICAS E SANITÁRIAS | B21: =C21*$F21 -> 0 | D21: =E21*$F21 -> 0 | E21: 1 | F21: ='Orçamento COBERTURA GUARITA'!M68+'Orçamento ADEQUAÇÕES HIDRAÚLICA'!M35 -> 0 | G21: =C21+E21 -> 1
A22: 13. IMPERMEABILIZAÇÕES | B22: =C22*$F22 -> 0 | D22: =E22*$F22 -> 0 | E22: 1 | F22: ='Orçamento COBERTURA GUARITA'!M72 -> 0 | G22: =C22+E22 -> 1
A23: 15. REVESTIMENTOS | B23: =C23*$F23 -> 0 | C23: 0.8 | D23: =E23*$F23 -> 0 | E23: 0.2 | F23: ='Orçamento COBERTURA GUARITA'!M75+'Orçamento ADEQUAÇÕES HIDRAÚLICA'!M68 -> 0 | G23: =C23+E23 -> 1
A24: 17. PINTURA | B24: =C24*$F24 -> 0 | D24: =E24*$F24 -> 0 | E24: 1 | F24: ='Orçamento COBERTURA GUARITA'!M81+'Orçamento REFORÇO ESTRUTURAL'!M72 -> 0 | G24: =C24+E24 -> 1
A25: 18. SERVIÇOS COMPLEMENTARES | B25: =C25*$F25 -> 0 | C25: 0.7 | D25: =E25*$F25 -> 0 | E25: 0.3 | F25: ='Orçamento COBERTURA GUARITA'!M86+'Orçamento REFORÇO ESTRUTURAL'!M81 -> 0 | G25: =C25+E25 -> 1
A26: 19. PAISAGISMO/URBANIZAÇÃO | B26: =C26*$F26 -> 0 | C26: 0 | D26: =E26*$F26 -> 0 | E26: 1 | F26: ='Orçamento ADEQUAÇÕES HIDRAÚLICA'!M71 -> 0 | G26: =C26+E26 -> 1
A27: 21. GERENCIAMENTO DE OBRAS / FISCALIZAÇÃO | B27: =C27*$F27 -> 0 | C27: 0.5 | D27: =E27*$F27 -> 0 | E27: 0.5 | F27: ='Orçamento COBERTURA GUARITA'!M89 -> 0 | G27: =C27+E27 -> 1
A28: 24. PISO | B28: =C28*$F28 -> 0 | D28: =E28*$F28 -> 0 | E28: 1 | F28: ='Orçamento REFORÇO ESTRUTURAL'!M84 -> 0 | G28: =C28+E28 -> 1
A29: Total da Etapa | B29: =SUM(B14:B28) -> 0 | C29: =B29/$F$29 -> #DIV/0! | D29: =SUM(D14:D28) -> 0 | E29: =D29/$F$29 -> #DIV/0! | F29: =SUM(F14:F28) -> 0 | G29: =C29+E29 -> #DIV/0!
D32: Local e Data
D35: Nome do Profissional Responsável
D36: Especificação do Cargo/função
D37: N° do CREA ou CAU
