Workbook

Sheet ORÇAMENTO
A1: INCLUIR LOGOTIPO DA EMPRESA
A6: DADOS DA EMPRESA
A7: DADOS DA EMPRESA
A9: Planilha de Orçamento - GLOBAL
A11: Obra: QUADRA POLIESPORTIVA - Câmpus Avançado Jaguarão | F11: Endereço: Rua Corredor das tropas, 801 - Bairro Vila Branca
A12: Cliente: Instituto Federal Sul-Rio-Grandense | F12: Cidade: Jaguarão - RS | J12: BDI =
A13: Item/Descrição | B13: Qtd. | C13: Un | D13: Mão-de-Obra | F13: Material | H13: Custo Unit. Total | I13: Custo Direto | J13: BDI | L13: Sub-Total do Item | M13: Total do Item
D14: Custo Unitário | E14: Custo Parcial | F14: Custo Unitário | G14: Custo Parcial | J14: Valor | K14: %
A16: 2. SERVIÇOS PRELIMINARES / TÉCNICOS | M16: =SUM(L17:L23) -> 0
A17: 2. 7. PLACAS DE IDENTIFICAÇÃO DE OBRAS
A18: .1 PLACA DE OBRA | B18: 2.03 | C18: M2 | E18: =D18*B18 -> 0 | G18: =F18*B18 -> 0 | H18: =+D18+F18 -> 0 | I18: =E18+G18 -> 0 | J18: =K18*I18 -> 0 | K18: =$K$12 -> 0 | L18: =I18+J18 -> 0
A19: 2.8. DEMOLIÇÕES E REMOÇÕES
A20: 2.8.7. DEMOLIÇÃO E REMOÇÃO DE PISOS
A21: .1 DEMOLIÇÃO DE PLACAS DE CONCRETO PRÉ- MOLDADAS E MEIO-FIO | B21: 0.45 | C21: M2 | E21: =D21*B21 -> 0 | G21: =F21*B21 -> 0 | H21: =+D21+F21 -> 0 | I21: =E21+G21 -> 0 | J21: =K21*I21 -> 0 | K21: =$K$12 -> 0 | L21: =I21+J21 -> 0
A22: 2. 9. LOCAÇÃO DA OBRA
A23: .1 LOCACAO DE OBRA POR M2 CONSTRUIDO | B23: 1290.78 | C23: M2 | E23: =D23*B23 -> 0 | G23: =F23*B23 -> 0 | H23: =+D23+F23 -> 0 | I23: =E23+G23 -> 0 | J23: =K23*I23 -> 0 | K23: =$K$12 -> 0 | L23: =I23+J23 -> 0
A24: 3. MOVIMENTO DE TERRA | M24: =SUM(L25:L34) -> 0
A25: 3. 1. ESCAVAÇÕES
A26: .1 ESCAVACAO MECANICA DE SOLO ATE 2,50M | B26: 387.23 | C26: M3 | E26: =D26*B26 -> 0 | G26: =F26*B26 -> 0 | H26: =+D26+F26 -> 0 | I26: =E26+G26 -> 0 | J26: =K26*I26 -> 0 | K26: =$K$12 -> 0 | L26: =I26+J26 -> 0
A27: .2 ESCAVAÇÃO MANUAL DE VALAS EM MAT. 1A CAT ATE 2M | B27: 5.92 | C27: M3 | E27: =D27*B27 -> 0 | G27: =F27*B27 -> 0 | H27: =+D27+F27 -> 0 | I27: =E27+G27 -> 0 | J27: =K27*I27 -> 0 | K27: =$K$12 -> 0 | L27: =I27+J27 -> 0
A28: 3. 2. ATERROS
A29: 3. 2. 1. NIVELAMENTO E COMPACTAÇÃO DO TERRENO
A30: .1 ESPALHAMENTO DE BOTA FORA | B30: 487.23 | C30: M3 | E30: =D30*B30 -> 0 | G30: =F30*B30 -> 0 | H30: =+D30+F30 -> 0 | I30: =E30+G30 -> 0 | J30: =K30*I30 -> 0 | K30: =$K$12 -> 0 | L30: =I30+J30 -> 0
A31: .2 REGULARIZACAO E COMPACTACAO DO SUB-LEITO 100% PN | B31: 1290.78 | C31: M2 | E31: =D31*B31 -> 0 | G31: =F31*B31 -> 0 | H31: =+D31+F31 -> 0 | I31: =E31+G31 -> 0 | J31: =K31*I31 -> 0 | K31: =$K$12 -> 0 | L31: =I31+J31 -> 0
A32: 3. 2. 2. REATERRO E COMPACTAÇÃO MANUAL DE VALAS
A33: .1 REATERRO MANUAL DE VALAS COM MATERIAL LOCAL | B33: 3.84 | C33: M3 | E33: =D33*B33 -> 0 | G33: =F33*B33 -> 0 | H33: =+D33+F33 -> 0 | I33: =E33+G33 -> 0 | J33: =K33*I33 -> 0 | K33: =$K$12 -> 0 | L33: =I33+J33 -> 0
A34: .2 LASTRO MANUAL COM AREIA | B34: 1.92 | C34: M3 | E34: =D34*B34 -> 0 | G34: =F34*B34 -> 0 | H34: =+D34+F34 -> 0 | I34: =E34+G34 -> 0 | J34: =K34*I34 -> 0 | K34: =$K$12 -> 0 | L34: =I34+J34 -> 0
A35: 4. INFRA-ESTRUTURA/FUNDAÇÕES SIMPLES | M35: =SUM(L36:L40) -> 0
A36: 4. 3. VIGAS DE BALDRAME
A37: .1 FORMA DE FUNDAÇÃO | B37: 40.8 | C37: M2 | E37: =D37*B37 -> 0 | G37: =F37*B37 -> 0 | H37: =+D37+F37 -> 0 | I37: =E37+G37 -> 0 | J37: =K37*I37 -> 0 | K37: =$K$12 -> 0 | L37: =I37+J37 -> 0
A38: .2 ARMADURA CA-50 MEDIA 1/4 A 3/8-6,35 A 9,53MM | B38: 338.96 | C38: KG | E38: =D38*B38 -> 0 | G38: =F38*B38 -> 0 | H38: =+D38+F38 -> 0 | I38: =E38+G38 -> 0 | J38: =K38*I38 -> 0 | K38: =$K$12 -> 0 | L38: =I38+J38 -> 0
A39: .3 ARMADURA CA-60 MEDIA 5,0 A 6,0MM | B39: 99.29 | C39: KG | E39: =D39*B39 -> 0 | G39: =F39*B39 -> 0 | H39: =+D39+F39 -> 0 | I39: =E39+G39 -> 0 | J39: =K39*I39 -> 0 | K39: =$K$12 -> 0 | L39: =I39+J39 -> 0
A40: .4 CONCRETO FCK 25MPA - PREPARO, LANÇAMENTO E CURA | B40: 7.48 | C40: M3 | E40: =D40*B40 -> 0 | G40: =F40*B40 -> 0 | H40: =+D40+F40 -> 0 | I40: =E40+G40 -> 0 | J40: =K40*I40 -> 0 | K40: =$K$12 -> 0 | L40: =I40+J40 -> 0
A41: 12. INSTALAÇÕES HIDRÁULICAS E SANITÁRIAS | M41: =SUM(L42:L57) -> 0
A42: 12. 1. REDE DE ÁGUA E ABASTECIMENTO
A43: 12. 1. 1. TUBOS E CONEXÕES
A44: .1 TUBO PVC RIGIDO SOLDAVEL 32MM | B44: 24 | C44: M | E44: =D44*B44 -> 0 | G44: =F44*B44 -> 0 | H44: =+D44+F44 -> 0 | I44: =E44+G44 -> 0 | J44: =K44*I44 -> 0 | K44: =$K$12 -> 0 | L44: =I44+J44 -> 0
A45: .2 TUBO PVC RIGIDO SOLDAVEL 25MM | B45: 1.2 | C45: M | E45: =D45*B45 -> 0 | G45: =F45*B45 -> 0 | H45: =+D45+F45 -> 0 | I45: =E45+G45 -> 0 | J45: =K45*I45 -> 0 | K45: =$K$12 -> 0 | L45: =I45+J45 -> 0
A46: .3 JOELHO 90 GRAUS COM BUCHA DE LATÃO, PVC, SOLDÁVEL, DN 25MM, X 1/2” INSTALAD O EM RAMAL OU SUB-RAMAL DE ÁGUA - FORNECIMENTO E INSTALAÇÃO. AF_12/2014 | B46: 1 | C46: UN. | E46: =D46*B46 -> 0 | G46: =F46*B46 -> 0 | H46: =+D46+F46 -> 0 | I46: =E46+G46 -> 0 | J46: =K46*I46 -> 0 | K46: =$K$12 -> 0 | L46: =I46+J46 -> 0
A47: .4 TE PVC SOLDÁVEL DN 32MM | B47: 1 | C47: UN. | E47: =D47*B47 -> 0 | G47: =F47*B47 -> 0 | H47: =+D47+F47 -> 0 | I47: =E47+G47 -> 0 | J47: =K47*I47 -> 0 | K47: =$K$12 -> 0 | L47: =I47+J47 -> 0
...

Sheet Cronograma
A2: INCLUIR LOGOTIPO DA EMPRESA
A7: DADOS DA EMPRESA
A8: DADOS DA EMPRESA
A11: Obra: QUADRA POLIESPORTIVA - Câmpus Avançado Jaguarão | D11: Endereço: Rua Corredor das tropas, 801 - Bairro Vila Branca
A12: Cliente: Instituto Federal Sul-Rio-Grandense | D12: Cidade: Jaguarão - RS
A14: ITEM | B14: 30 dias | D14: 60 dias | F14: 90 dias | H14: TOTAL
B15: VALOR | C15: % | D15: VALOR | E15: % | F15: VALOR | G15: % | H15: VALOR | I15: %
A16: 2. SERVIÇOS PRELIMINARES / TÉCNICOS | B16: =C16*$H16 -> 0 | C16: 0.9374 | D16: =E16*$H16 -> 0 | E16: 0.0313 | F16: =G16*$H16 -> 0 | G16: 0.0313 | H16: =ORÇAMENTO!M16 -> 0 | I16: =C16+E16+G16 -> 1
A17: 3. MOVIMENTO DE TERRA | B17: =C17*$H17 -> 0 | C17: 0.8 | D17: =E17*$H17 -> 0 | E17: 0.1739 | F17: =G17*$H17 -> 0 | G17: 0.0261 | H17: =ORÇAMENTO!M24 -> 0 | I17: =C17+E17+G17 -> 1
A18: 4. INFRA-ESTRUTURA / FUNDAÇÕES SIMPLES | B18: =C18*$H18 -> 0 | C18: 0.2 | D18: =E18*$H18 -> 0 | E18: 0.6 | F18: =G18*$H18 -> 0 | G18: 0.2 | H18: =ORÇAMENTO!M35 -> 0 | I18: =C18+E18+G18 -> 1
A19: 12. INSTALAÇÕES HIDRÁULICAS E SANITÁRIAS | B19: =C19*$H19 -> 0 | D19: =E19*$H19 -> 0 | F19: =G19*$H19 -> 0 | G19: 1 | H19: =ORÇAMENTO!M41 -> 0 | I19: =C19+E19+G19 -> 1
A20: 17. PINTURA | B20: =C20*$H20 -> 0 | D20: =E20*$H20 -> 0 | F20: =G20*$H20 -> 0 | G20: 1 | H20: =ORÇAMENTO!M58 -> 0 | I20: =C20+E20+G20 -> 1
A21: 19. PAISAGISMO / URBANIZAÇÃO | B21: =C21*$H21 -> 0 | D21: =E21*$H21 -> 0 | E21: 0.2 | F21: =G21*$H21 -> 0 | G21: 0.8 | H21: =ORÇAMENTO!M68 -> 0 | I21: =C21+E21+G21 -> 1
A22: 20. EQUIPAMENTOS | D22: =E22*$H22 -> 0 | E22: 0.2 | F22: =G22*$H22 -> 0 | G22: 0.8 | H22: =ORÇAMENTO!M82 -> 0 | I22: =C22+E22+G22 -> 1
A23: 21. GERENCIAMENTO DE OBRAS / FISCALIZAÇÃO | B23: =C23*$H23 -> 0 | C23: 0.3333 | D23: =E23*$H23 -> 0 | E23: 0.3333 | F23: =G23*$H23 -> 0 | G23: 0.3334 | H23: =ORÇAMENTO!M94 -> 0 | I23: =C23+E23+G23 -> 1
A24: 24. PISO | B24: =C24*$H24 -> 0 | C24: 0.2 | D24: =E24*$H24 -> 0 | E24: 0.6 | F24: =G24*$H24 -> 0 | G24: 0.2 | H24: =ORÇAMENTO!M98 -> 0 | I24: =C24+E24+G24 -> 1
A25: Total da Etapa | B25: =SUM(B16:B24) -> 0 | C25: =B25/$H$25 -> #DIV/0! | D25: =SUM(D16:D24) -> 0 | E25: =D25/$H$25 -> #DIV/0! | F25: =SUM(F16:F24) -> 0 | G25: =F25/$H$25 -> #DIV/0! | H25: =B25+D25+F25 -> 0 | I25: =C25+E25+G25 -> #DIV/0!
A26: Total Acumulado | B26: =B25 -> 0 | C26: =C25 -> #DIV/0! | D26: =B26+D25 -> 0 | E26: =C26+E25 -> #DIV/0! | F26: =D26+F25 -> 0 | G26: =E26+G25 -> #DIV/0! | H26: =SUM(H16:H24) -> 0
F29: Local e Data
F32: Nome do Profissional Responsável
F33: Especificação do Cargo/função
F34: N° do CREA ou CAU
