Workbook

Sheet Orçamento empresa
A1: INCLUIR LOGOTIPO DA EMPRESA
A6: DADOS DA EMPRESA
A7: DADOS DA EMPRESA
A8: DADOS DA EMPRESA
A9: Planilha de Orçamento - GLOBAL
A11: Obra: Reformas e adaptações quadra poliesportiva e bloco 03 (etapa 05) | F11: Endereço: Pinheiro Machado, nº 205
A12: Cliente: Instituto Federal Sul-rio-grandense | F12: Cidade: Novo Hamburgo - RS | J12: BDI = | L12: 43344
A13: Item/Descrição | B13: Qtd. | C13: Un | D13: Mão-de-Obra | F13: Material | H13: Custo Unit. Total | I13: Custo Direto | J13: BDI | L13: Sub-Total do Item | M13: Total do Item
D14: Custo Unitário | E14: Custo Parcial | F14: Custo Unitário | G14: Custo Parcial | J14: Valor | K14: %
A16: 2. SERVIÇOS PRELIMINARES/ TÉCNICOS | M16: =SUM(L17:L28) -> 0
A17: 2. 6. TAPUMES
A18: 2. 6. 3. TELA DE POLIETILENO
A19: TAPUME TELA POLIETILENO, ALT 1,20M (incluindo montantes de aço 1,70m) | B19: 27.7 | C19: M | E19: =B19*D19 -> 0 | G19: =B19*F19 -> 0 | H19: =D19+F19 -> 0 | I19: =E19+G19 -> 0 | J19: =I19*K19 -> 0 | K19: =$K$12 -> 0 | L19: =I19+J19 -> 0
A20: 2. 7. PLACAS DE IDENTIFICAÇÃO DE EXERCÍCIO PROFISIONAL EM OBRAS
A21: PLACA DE OBRA-PINTADA/FIXADA ESTRUTURA DE MADEIRA | B21: 2.03 | C21: M2 | E21: =B21*D21 -> 0 | G21: =B21*F21 -> 0 | H21: =D21+F21 -> 0 | I21: =E21+G21 -> 0 | J21: =I21*K21 -> 0 | K21: =$K$12 -> 0 | L21: =I21+J21 -> 0
A22: 2. 8. DEMOLIÇÕES E REMOÇÕES
A23: 2. 8. 2. DEMOLIÇÃO DE ALVENARIA DE TIJOLOS
A24: DEMOLICAO DE ALVENARIA DE TIJOLOS | B24: 0.47 | C24: M3 | E24: =B24*D24 -> 0 | G24: =B24*F24 -> 0 | H24: =D24+F24 -> 0 | I24: =E24+G24 -> 0 | J24: =I24*K24 -> 0 | K24: =$K$12 -> 0 | L24: =I24+J24 -> 0
A25: 2. 8.16. REMOÇÃO DE COBERTURA
A26: REMOÇÃO DE TELHAS, FIBROCIMENTO, METÁLICA E CERÂMICA, DE FORMA MANUAL, SEM REAP. | B26: 252.08 | C26: M2 | E26: =B26*D26 -> 0 | G26: =B26*F26 -> 0 | H26: =D26+F26 -> 0 | I26: =E26+G26 -> 0 | J26: =I26*K26 -> 0 | K26: =$K$12 -> 0 | L26: =I26+J26 -> 0
A27: 2. 8.22. REMOÇÃO DE ESQUADRIAS DE FERRO
A28: REMOÇÃO DE PORTAS, DE FORMA MANUAL, SEM REAPROVEITAMENTO | B28: 11.73 | C28: M2 | E28: =B28*D28 -> 0 | G28: =B28*F28 -> 0 | H28: =D28+F28 -> 0 | I28: =E28+G28 -> 0 | J28: =I28*K28 -> 0 | K28: =$K$12 -> 0 | L28: =I28+J28 -> 0
A29: 7. ALVENARIA/ VEDAÇÃO/ DIVISÓRIA | M29: =SUM(L29:L35) -> 0
A30: 7. 1. ALVENARIA
A31: 7. 1. 1. ALVENARIA DE TIJOLOS CERÂMICOS FURADOS
A32: ALVENARIA TIJ.6FUROS-DE 10CM-J15MM CI-CA-AR 1:2:8 | B32: 8.22 | C32: M2 | E32: =B32*D32 -> 0 | G32: =B32*F32 -> 0 | H32: =D32+F32 -> 0 | I32: =E32+G32 -> 0 | J32: =I32*K32 -> 0 | K32: =$K$12 -> 0 | L32: =I32+J32 -> 0
A33: 7. 3. VEDAÇÕES
A34: 7. 3. 3. TELA OTIS
A35: VEDAÇÃO EM TELA OTIS | B35: 46.51 | C35: M2 | E35: =B35*D35 -> 0 | G35: =B35*F35 -> 0 | H35: =D35+F35 -> 0 | I35: =E35+G35 -> 0 | J35: =I35*K35 -> 0 | K35: =$K$12 -> 0 | L35: =I35+J35 -> 0
A36: 8. ESQUADRIAS | M36: =SUM(L37:L41) -> 0
A37: 8. 3. 1. PORTÕES
A38: PORTÃO EM TELA OTIS | B38: 11.16 | C38: M2 | E38: =B38*D38 -> 0 | G38: =B38*F38 -> 0 | H38: =D38+F38 -> 0 | I38: =E38+G38 -> 0 | J38: =I38*K38 -> 0 | K38: =$K$12 -> 0 | L38: =I38+J38 -> 0
A39: CAIXILHO CORRER-FERRO TUBO METALON | B39: 2.52 | C39: M2 | E39: =B39*D39 -> 0 | G39: =B39*F39 -> 0 | H39: =D39+F39 -> 0 | I39: =E39+G39 -> 0 | J39: =I39*K39 -> 0 | K39: =$K$12 -> 0 | L39: =I39+J39 -> 0
A40: 8. 6. RECUPERAÇÃO E/ OU REUTILIZAÇÃO DE ESQUADRIAS
A41: RECUPERAÇÃO DE ESQUADRIAS | B41: 24 | C41: M2 | E41: =B41*D41 -> 0 | G41: =B41*F41 -> 0 | H41: =D41+F41 -> 0 | I41: =E41+G41 -> 0 | J41: =I41*K41 -> 0 | K41: =$K$12 -> 0 | L41: =I41+J41 -> 0
A42: 9. COBERTURA | M42: =SUM(L43:L51) -> 0
A43: 9. 2. TELHAMENTO
A44: 9. 2. 1. COM TELHAS DE FIBROCIMENTO ( SEM AMIANTO)
A45: COBERTURA COM TELHA FIBROCIMENTO 8MM | B45: 252.08 | C45: M2 | E45: =B45*D45 -> 0 | G45: =B45*F45 -> 0 | H45: =D45+F45 -> 0 | I45: =E45+G45 -> 0 | J45: =I45*K45 -> 0 | K45: =$K$12 -> 0 | L45: =I45+J45 -> 0
A46: 9. 3. CALHAS
A47: CALHA CIRCULAR EM PVC RIGIDO 13,5CM | B47: 27.2 | C47: M | E47: =B47*D47 -> 0 | G47: =B47*F47 -> 0 | H47: =D47+F47 -> 0 | I47: =E47+G47 -> 0 | J47: =I47*K47 -> 0 | K47: =$K$12 -> 0 | L47: =I47+J47 -> 0
A48: 9. 4. RUFOS
A49: 9. 4. 1. PARA TELHA DE FIBROCIMENTO
A50: RUFO EM CHAPA AÇO GALVANIZADO NÚMERO 24, CORTE 40 CM, INCLUSO TRANSPO. | B50: 27.55 | C50: M | E50: =B50*D50 -> 0 | G50: =B50*F50 -> 0 | H50: =D50+F50 -> 0 | I50: =E50+G50 -> 0 | J50: =I50*K50 -> 0 | K50: =$K$12 -> 0 | L50: =I50+J50 -> 0
A51: RUFO EM CHAPA AÇO GALVANIZADO NÚMERO 24, CORTE 25 CM, INCLUSO TRANSPO. | B51: 17 | C51: M | E51: =B51*D51 -> 0 | G51: =B51*F51 -> 0 | H51: =D51+F51 -> 0 | I51: =E51+G51 -> 0 | J51: =I51*K51 -> 0 | K51: =$K$12 -> 0 | L51: =I51+J51 -> 0
A52: 10. INSTALAÇÕES ELÉTRICAS | M52: =SUM(L53:L79) -> 0
A53: 10. 1. INSTALAÇÕES DE BAIXA TENSÃO
A54: 10. 1. 1. LUMINÁRIAS
A55: REFLETOR LED 200 W | B55: 13 | C55: UN | E55: =B55*D55 -> 0 | G55: =B55*F55 -> 0 | H55: =D55+F55 -> 0 | I55: =E55+G55 -> 0 | J55: =I55*K55 -> 0 | K55: =$K$12 -> 0 | L55: =I55+J55 -> 0
A56: 10. 1. 2. INTERRUPTORES, TOMADAS E ACESSÓRIOS
A57: TOMADA SIMPLES 10A S/ PLACA | B57: 22 | C57: UN | E57: =B57*D57 -> 0 | G57: =B57*F57 -> 0 | H57: =D57+F57 -> 0 | I57: =E57+G57 -> 0 | J57: =I57*K57 -> 0 | K57: =$K$12 -> 0 | L57: =I57+J57 -> 0
A58: 10. 1. 3. CONDUTORES | E58: =B58*D58 -> 0 | G58: =B58*F58 -> 0
A59: CABO ISOLADO FLEXIVEL 2.5MM2 (12AWG) | B59: 1065 | C59: M | E59: =B59*D59 -> 0 | G59: =B59*F59 -> 0 | H59: =D59+F59 -> 0 | I59: =E59+G59 -> 0 | J59: =I59*K59 -> 0 | K59: =$K$12 -> 0 | L59: =I59+J59 -> 0
A60: CABO ISOLADO FLEXIVEL 6.0MM2 ( 8AWG) | B60: 41.5 | C60: M | E60: =B60*D60 -> 0 | G60: =B60*F60 -> 0 | H60: =D60+F60 -> 0 | I60: =E60+G60 -> 0 | J60: =I60*K60 -> 0 | K60: =$K$12 -> 0 | L60: =I60+J60 -> 0
A61: 10. 1. 4. ELETRODUTOS E ACESSÓRIOS
A62: ADAPTADOR P/ CONDULETE TOP 3/4" - COR CINZA | B62: 24 | C62: UN | E62: =B62*D62 -> 0 | G62: =B62*F62 -> 0 | H62: =D62+F62 -> 0 | I62: =E62+G62 -> 0 | J62: =I62*K62 -> 0 | K62: =$K$12 -> 0 | L62: =I62+J62 -> 0
A63: ABRAÇADEIRA P/ ELETRODUTO CONDULETE TOP 3/4" - COR CINZA | B63: 130 | C63: UN | E63: =B63*D63 -> 0 | G63: =B63*F63 -> 0 | H63: =D63+F63 -> 0 | I63: =E63+G63 -> 0 | J63: =I63*K63 -> 0 | K63: =$K$12 -> 0 | L63: =I63+J63 -> 0
A64: CURVA 90 ELETRODUTO PVC RIGIDO ROSCAVEL 3/4"(19MM) | B64: 41 | C64: UN | E64: =B64*D64 -> 0 | G64: =B64*F64 -> 0 | H64: =D64+F64 -> 0 | I64: =E64+G64 -> 0 | J64: =I64*K64 -> 0 | K64: =$K$12 -> 0 | L64: =I64+J64 -> 0
A65: ELETRODUTO PVC RIGIDO ROSCAVEL 3/4" (19MM) | B65: 98 | C65: M | E65: =B65*D65 -> 0 | G65: =B65*F65 -> 0 | H65: =D65+F65 -> 0 | I65: =E65+G65 -> 0 | J65: =I65*K65 -> 0 | K65: =$K$12 -> 0 | L65: =I65+J65 -> 0
A66: 10. 1. 5. QUADROS DE CARGA
A67: HASTE COOPERWELD 19X2400MM C/CONECTOR | B67: 1 | C67: UN | E67: =B67*D67 -> 0 | G67: =B67*F67 -> 0 | H67: =D67+F67 -> 0 | I67: =E67+G67 -> 0 | J67: =I67*K67 -> 0 | K67: =$K$12 -> 0 | L67: =I67+J67 -> 0
A68: CENTRO DISTRIBUICAO CHAPA 18-ATE 12 DISJUNTORES | B68: 1 | C68: UN | E68: =B68*D68 -> 0 | G68: =B68*F68 -> 0 | H68: =D68+F68 -> 0 | I68: =E68+G68 -> 0 | J68: =I68*K68 -> 0 | K68: =$K$12 -> 0 | L68: =I68+J68 -> 0
A69: 10. 1. 6. DISJUNTORES
A70: DISJUNTOR MONOPOLAR 20A | B70: 3 | C70: UN | E70: =B70*D70 -> 0 | G70: =B70*F70 -> 0 | H70: =D70+F70 -> 0 | I70: =E70+G70 -> 0 | J70: =I70*K70 -> 0 | K70: =$K$12 -> 0 | L70: =I70+J70 -> 0
A71: DISJUNTOR MONOPOLAR 30A | B71: 1 | C71: UN | E71: =B71*D71 -> 0 | G71: =B71*F71 -> 0 | H71: =D71+F71 -> 0 | I71: =E71+G71 -> 0 | J71: =I71*K71 -> 0 | K71: =$K$12 -> 0 | L71: =I71+J71 -> 0
A72: 10. 1. 7. CAIXAS DE PASSAGEM
A73: CONDULETE 6 ENTRADAS TOP 3/4" | B73: 23 | C73: UN | E73: =B73*D73 -> 0 | G73: =B73*F73 -> 0 | H73: =D73+F73 -> 0 | I73: =E73+G73 -> 0 | J73: =I73*K73 -> 0 | K73: =$K$12 -> 0 | L73: =I73+J73 -> 0
A74: TAMPA CONDULETE TOP 3/4" INTERRUPTOR TRIPLO | B74: 1 | C74: UN | E74: =B74*D74 -> 0 | G74: =B74*F74 -> 0 | H74: =D74+F74 -> 0 | I74: =E74+G74 -> 0 | J74: =I74*K74 -> 0 | K74: =$K$12 -> 0 | L74: =I74+J74 -> 0
A75: PARAFUSO E BUCHA NYLON S-8 | B75: 42 | C75: CJ | E75: =B75*D75 -> 0 | G75: =B75*F75 -> 0 | H75: =D75+F75 -> 0 | I75: =E75+G75 -> 0 | J75: =I75*K75 -> 0 | K75: =$K$12 -> 0 | L75: =I75+J75 -> 0
A76: TAMPA CONDULETE TOP 3/4" P/ TOMADA SIMPLES | B76: 21 | C76: UN | E76: =B76*D76 -> 0 | G76: =B76*F76 -> 0 | H76: =D76+F76 -> 0 | I76: =E76+G76 -> 0 | J76: =I76*K76 -> 0 | K76: =$K$12 -> 0 | L76: =I76+J76 -> 0
A77: 10. 1. 9. ELETROCALHAS E ACESSÓRIOS
A78: ELETROCALHA PERFURADA, ZINCADA 100X70MM | B78: 59 | C78: M | E78: =B78*D78 -> 0 | G78: =B78*F78 -> 0 | H78: =D78+F78 -> 0 | I78: =E78+G78 -> 0 | J78: =I78*K78 -> 0 | K78: =$K$12 -> 0 | L78: =I78+J78 -> 0
A79: CURVA ELETROCALHA PERF. VERTICAL EXT. 90 -100X70MM | B79: 1 | C79: UN | E79: =B79*D79 -> 0 | G79: =B79*F79 -> 0 | H79: =D79+F79 -> 0 | I79: =E79+G79 -> 0 | J79: =I79*K79 -> 0 | K79: =$K$12 -> 0 | L79: =I79+J79 -> 0
A80: 14. INSTALAÇÕES DE COMBATE A INCÊNDIO | M80: =SUM(L81:L88) -> 0
A81: 14. 1. EXTINTORES
A82: EXTINTOR INCENDIO TP PO QUIMICO 6KG - FORNECIMENTO E INSTALACAO | B82: 8 | C82: UN | E82: =B82*D82 -> 0 | G82: =B82*F82 -> 0 | H82: =D82+F82 -> 0 | I82: =E82+G82 -> 0 | J82: =I82*K82 -> 0 | K82: =$K$12 -> 0 | L82: =I82+J82 -> 0
A83: 14. 2. ILUMINAÇÃO DE EMERGÊNCIA
A84: LUMINÁRIA DE EMERGÊNCIA - FORNECIMENTO E INSTALAÇÃO | B84: 21 | C84: UN | E84: =B84*D84 -> 0 | G84: =B84*F84 -> 0 | H84: =D84+F84 -> 0 | I84: =E84+G84 -> 0 | J84: =I84*K84 -> 0 | K84: =$K$12 -> 0 | L84: =I84+J84 -> 0
A85: 14. 3. SINALIZAÇÕES
A86: PLACA ACRÍLICA DE SINALIZAÇÃO DE PROIBIDO FUMAR - CÓD 1 | B86: 14 | C86: UN | E86: =B86*D86 -> 0 | G86: =B86*F86 -> 0 | H86: =D86+F86 -> 0 | I86: =E86+G86 -> 0 | J86: =I86*K86 -> 0 | K86: =$K$12 -> 0 | L86: =I86+J86 -> 0
A87: PLACA ACRÍLICA DE SINALIZAÇÃO DE SAÍDA DE EMERGÊNCIA - CÓD 13D/13E/17 | B87: 9 | C87: UN | E87: =B87*D87 -> 0 | G87: =B87*F87 -> 0 | H87: =D87+F87 -> 0 | I87: =E87+G87 -> 0 | J87: =I87*K87 -> 0 | K87: =$K$12 -> 0 | L87: =I87+J87 -> 0
A88: PLACA ACRÍLICA DE SINALIZAÇÃO DE EXTINTOR - CÓD 23 | B88: 8 | C88: UN | E88: =B88*D88 -> 0 | G88: =B88*F88 -> 0 | H88: =D88+F88 -> 0 | I88: =E88+G88 -> 0 | J88: =I88*K88 -> 0 | K88: =$K$12 -> 0 | L88: =I88+J88 -> 0
A89: 15. REVESTIMENTO | M89: =SUM(L90:L94) -> 0
A90: 15. 1. DE ARGAMASSA
A91: 15. 1. 1. CHAPISCO
A92: CHAPISCO APLICADO EM ALVENARIA TRAÇO 1:3 COM PREPARO E APLICAÇÃO | B92: 16.44 | C92: M2 | E92: =B92*D92 -> 0 | G92: =B92*F92 -> 0 | H92: =D92+F92 -> 0 | I92: =E92+G92 -> 0 | J92: =I92*K92 -> 0 | K92: =$K$12 -> 0 | L92: =I92+J92 -> 0
A93: 15. 1. 2. MASSA ÚNICA
A94: MASSA ÚNICA EM ARGAMASSA TRAÇO 1:2:8, PREPARO MANUAL. | B94: 16.44 | C94: M2 | E94: =B94*D94 -> 0 | G94: =B94*F94 -> 0 | H94: =D94+F94 -> 0 | I94: =E94+G94 -> 0 | J94: =I94*K94 -> 0 | K94: =$K$12 -> 0 | L94: =I94+J94 -> 0
A95: 16. VIDROS | M95: =L97 -> 0
A96: 16. 2. VIDRO FANTASIA
A97: VIDRO FANTASIA MARTELADO 4MM | B97: 9.6 | C97: M2 | E97: =B97*D97 -> 0 | G97: =B97*F97 -> 0 | H97: =D97+F97 -> 0 | I97: =E97+G97 -> 0 | J97: =I97*K97 -> 0 | K97: =$K$12 -> 0 | L97: =I97+J97 -> 0
A98: 17. PINTURA | M98: =SUM(L99:L104) -> 0
A99: 17. 1. SELADOR / PREPARAÇÃO
A100: APLICAÇÃO DE FUNDO SELADOR ACRÍLICO EM PAREDES, UMA DEMÃO | B100: 509.62 | C100: M2 | E100: =B100*D100 -> 0 | G100: =B100*F100 -> 0 | H100: =D100+F100 -> 0 | I100: =E100+G100 -> 0 | J100: =I100*K100 -> 0 | K100: =$K$12 -> 0 | L100: =I100+J100 -> 0
A101: 17. 3. BASE ACRÍLICA
A102: PINTURA ACRILICA SOBRE REBOCO-2 DEMAOS | B102: 509.62 | C102: M2 | E102: =B102*D102 -> 0 | G102: =B102*F102 -> 0 | H102: =D102+F102 -> 0 | I102: =E102+G102 -> 0 | J102: =I102*K102 -> 0 | K102: =$K$12 -> 0 | L102: =I102+J102 -> 0
A103: 17.14. BASE BORRACHA CLORADA
A104: PINTURA SUPERFICIAL PARA DEMARCAÇÃO DA QUADRA | B104: 522 | C104: M2 | E104: =B104*D104 -> 0 | G104: =B104*F104 -> 0 | H104: =D104+F104 -> 0 | I104: =E104+G104 -> 0 | J104: =I104*K104 -> 0 | K104: =$K$12 -> 0 | L104: =I104+J104 -> 0
A105: 18. SERVIÇOS COMPLEMENTARES | M105: =L107 -> 0
A106: 18. 5. LIMPEZA E ENTREGA DA OBRA
...

Sheet Cronograma empresa
A1: INCLUIR LOGOTIPO DA EMPRESA
A6: DADOS DA EMPRESA
A7: DADOS DA EMPRESA
A8: DADOS DA EMPRESA
A9: CRONOGRAMA FÍSICO-FINANCEIRO
A11: Obra: Reforma e adaptações quadra poliesportiva e bloco 03 (etapa 5) | C11: Endereço: Pinheiro Machado, nº 205
A12: Cliente: Instituto Federal Sul-rio-grandense | C12: Cidade: Novo Hamburgo - RS
A13: ITEM | B13: VALOR | C13: 30 dias | E13: 60 dias | G13: TOTAL
C14: VALOR | D14: % | E14: VALOR | F14: % | G14: VALOR | H14: %
A15: 2. SERVIÇOS PRELIMINARES/ TÉCNICOS | B15: ='Orçamento empresa'!M16 -> 0 | C15: =$B$15*D15 -> 0 | D15: 1 | E15: =$B$15*F15 -> 0 | F15: 0 | G15: =C15+E15 -> 0 | H15: =B15/G15 -> #DIV/0!
A16: 7. ALVENARIA/ VEDAÇÕES/ DIVISÓRIAS | B16: ='Orçamento empresa'!M29 -> 0 | C16: =$B$16*D16 -> 0 | D16: 0 | E16: =$B$16*F16 -> 0 | F16: 1 | G16: =C16+E16 -> 0 | H16: =B16/G16 -> #DIV/0!
A17: 8. ESQUADRIAS | B17: ='Orçamento empresa'!M36 -> 0 | C17: =$B$17*D17 -> 0 | D17: 0.045 | E17: =$B$17*F17 -> 0 | F17: 0.955 | G17: =C17+E17 -> 0 | H17: =B17/G17 -> #DIV/0!
A18: 9. COBERTURAS | B18: ='Orçamento empresa'!M42 -> 0 | C18: =$B$18*D18 -> 0 | D18: 0 | E18: =$B$18*F18 -> 0 | F18: 1 | G18: =C18+E18 -> 0 | H18: =B18/G18 -> #DIV/0!
A19: 10. INSTALAÇÕES ELÉTRICAS | B19: ='Orçamento empresa'!M52 -> 0 | C19: =$B$19*D19 -> 0 | D19: 0 | E19: =$B$19*F19 -> 0 | F19: 1 | G19: =C19+E19 -> 0 | H19: =B19/G19 -> #DIV/0!
A20: 14. INSTALAÇÕES DE COMBATE A INCÊNDIO | B20: ='Orçamento empresa'!M80 -> 0 | C20: =$B$20*D20 -> 0 | D20: 0 | E20: =$B$20*F20 -> 0 | F20: 1 | G20: =C20+E20 -> 0 | H20: =B20/G20 -> #DIV/0!
A21: 15. REVESTIMENTOS | B21: ='Orçamento empresa'!M89 -> 0 | C21: =$B$21*D21 -> 0 | D21: 1 | E21: =$B$21*F21 -> 0 | F21: 0 | G21: =C21+E21 -> 0 | H21: =B21/G21 -> #DIV/0!
A22: 16. VIDROS | B22: ='Orçamento empresa'!M95 -> 0 | C22: =$B$22*D22 -> 0 | D22: 1 | E22: =$B$22*F22 -> 0 | F22: 0 | G22: =C22+E22 -> 0 | H22: =B22/G22 -> #DIV/0!
A23: 17. PINTURA | B23: ='Orçamento empresa'!M98 -> 0 | C23: =$B$23*D23 -> 0 | D23: 0.5 | E23: =$B$23*F23 -> 0 | F23: 0.5 | G23: =C23+E23 -> 0 | H23: =B23/G23 -> #DIV/0!
A24: 18. SERVIÇOS COMPLEMENTARES | B24: ='Orçamento empresa'!M105 -> 0 | C24: =$B$24*D24 -> 0 | D24: 0 | E24: =$B$24*F24 -> 0 | F24: 1 | G24: =C24+E24 -> 0 | H24: =B24/G24 -> #DIV/0!
A25: 20. EQUIPAMENTOS | B25: ='Orçamento empresa'!M108 -> 0 | C25: =$B$25*D25 -> 0 | D25: 0 | E25: =$B$25*F25 -> 0 | F25: 1 | G25: =C25+E25 -> 0 | H25: =B25/G25 -> #DIV/0!
A26: 21. GERENCIAMENTO DE OBRAS/ FISCALIZAÇÃO | B26: ='Orçamento empresa'!M111 -> 0 | C26: =$B$26*D26 -> 0 | D26: 0.5 | E26: =$B$26*F26 -> 0 | F26: 0.5 | G26: =C26+E26 -> 0 | H26: =B26/G26 -> #DIV/0!
A27: 24. PISO | B27: ='Orçamento empresa'!M115 -> 0 | C27: =$B$27*D27 -> 0 | D27: 1 | E27: =$B$27*F27 -> 0 | F27: 0 | G27: =C27+E27 -> 0 | H27: =B27/G27 -> #DIV/0!
A28: TOTAL DA ETAPA | B28: =SUM(B15:B27) -> 0 | C28: =SUM(C15:C27) -> 0 | D28: =C28/$B$28 -> #DIV/0! | E28: =SUM(E15:E27) -> 0 | F28: =E28/$B$28 -> #DIV/0! | G28: =SUM(G15:G27) -> 0 | H28: =B28/G28 -> #DIV/0!
A29: TOTAL ACUMULADO | B29: =B28 -> 0 | C29: =C28 -> 0 | D29: =C29/$B$29 -> #DIV/0! | E29: =C29+E28 -> 0 | F29: =E29/$B$29 -> #DIV/0! | G29: =G28 -> 0
A32: Local e Data
A38: Nome do Profissional Responsável
A39: Especificação do Cargo/função
A40: N° do CREA ou CAU
