Workbook

Sheet Orçamento empresa
A1: INCLUIR LOGOTIPO DA EMPRESA
A6: DADOS DA EMPRESA
A7: DADOS DA EMPRESA
A8: DADOS DA EMPRESA
A9: Planilha de Orçamento - GLOBAL
A11: Obra: Reformas e adaptações quadra poliesportiva e bloco 03 (etapa 05) | F11: Endereço: Pinheiro Machado, nº 205
A12: Cliente: Instituto Federal Sul-rio-grandense | F12: Cidade: Novo Hamburgo - RS | J12: BDI = | L12: 43344
A13: Item/Descrição | B13: Qtd. | C13: Un | D13: Mão-de-Obra | F13: Material | H13: Custo Unit. Total | I13: Custo Direto | J13: BDI | L13: Sub-Total do Item | M13: Total do Item
D14: Custo Unitário | E14: Custo Parcial | F14: Custo Unitário | G14: Custo Parcial | J14: Valor | K14: %
A16: 2. SERVIÇOS PRELIMINARES/ TÉCNICOS | M16: =SUM(L17:L28) -> 0
A17: 2. 6. TAPUMES
A18: 2. 6. 3. TELA DE POLIETILENO
A19: TAPUME TELA POLIETILENO, ALT 1,20M (incluindo montantes de aço 1,70m) | B19: 27.7 | C19: M | E19: =B19*D19 -> 0 | G19: =B19*F19 -> 0 | H19: =D19+F19 -> 0 | I19: =E19+G19 -> 0 | J19: =I19*K19 -> 0 | K19: =$K$12 -> 0 | L19: =I19+J19 -> 0
A20: 2. 7. PLACAS DE IDENTIFICAÇÃO DE EXERCÍCIO PROFISIONAL EM OBRAS
A21: PLACA DE OBRA-PINTADA/FIXADA ESTRUTURA DE MADEIRA | B21: 2.03 | C21: M2 | E21: =B21*D21 -> 0 | G21: =B21*F21 -> 0 | H21: =D21+F21 -> 0 | I21: =E21+G21 -> 0 | J21: =I21*K21 -> 0 | K21: =$K$12 -> 0 | L21: =I21+J21 -> 0
A22: 2. 8. DEMOLIÇÕES E REMOÇÕES
A23: 2. 8. 2. DEMOLIÇÃO DE ALVENARIA DE TIJOLOS
A24: DEMOLICAO DE ALVENARIA DE TIJOLOS | B24: 0.47 | C24: M3 | E24: =B24*D24 -> 0 | G24: =B24*F24 -> 0 | H24: =D24+F24 -> 0 | I24: =E24+G24 -> 0 | J24: =I24*K24 -> 0 | K24: =$K$12 -> 0 | L24: =I24+J24 -> 0
A25: 2. 8.16. REMOÇÃO DE COBERTURA
A26: REMOÇÃO DE TELHAS, FIBROCIMENTO, METÁLICA E CERÂMICA, DE FORMA MANUAL, SEM REAP. | B26: 252.08 | C26: M2 | E26: =B26*D26 -> 0 | G26: =B26*F26 -> 0 | H26: =D26+F26 -> 0 | I26: =E26+G26 -> 0 | J26: =I26*K26 -> 0 | K26: =$K$12 -> 0 | L26: =I26+J26 -> 0
A27: 2. 8.22. REMOÇÃO DE ESQUADRIAS DE FERRO
A28: REMOÇÃO DE PORTAS, DE FORMA MANUAL, SEM REAPROVEITAMENTO | B28: 11.73 | C28: M2 | E28: =B28*D28 -> 0 | G28: =B28*F28 -> 0 | H28: =D28+F28 -> 0 | I28: =E28+G28 -> 0 | J28: =I28*K28 -> 0 | K28: =$K$12 -> 0 | L28: =I28+J28 -> 0
A29: 7. ALVENARIA/ VEDAÇÃO/ DIVISÓRIA | M29: =SUM(L29:L35) -> 0
A30: 7. 1. ALVENARIA
A31: 7. 1. 1. ALVENARIA DE TIJOLOS CERÂMICOS FURADOS
A32: ALVENARIA TIJ.6FUROS-DE 10CM-J15MM CI-CA-AR 1:2:8 | B32: 8.22 | C32: M2 | E32: =B32*D32 -> 0 | G32: =B32*F32 -> 0 | H32: =D32+F32 -> 0 | I32: =E32+G32 -> 0 | J32: =I32*K32 -> 0 | K32: =$K$12 -> 0 | L32: =I32+J32 -> 0
A33: 7. 3. VEDAÇÕES
A34: 7. 3. 3. TELA OTIS
A35: VEDAÇÃO EM TELA OTIS | B35: 46.51 | C35: M2 | E35: =B35*D35 -> 0 | G35: =B35*F35 -> 0 | H35: =D35+F35 -> 0 | I35: =E35+G35 -> 0 | J35: =I35*K35 -> 0 | K35: =$K$12 -> 0 | L35: =I35+J35 -> 0
A36: 8. ESQUADRIAS | M36: =SUM(L37:L41) -> 0
A37: 8. 3. 1. PORTÕES
A38: PORTÃO EM TELA OTIS | B38: 11.16 | C38: M2 | E38: =B38*D38 -> 0 | G38: =B38*F38 -> 0 | H38: =D38+F38 -> 0 | I38: =E38+G38 -> 0 | J38: =I38*K38 -> 0 | K38: =$K$12 -> 0 | L38: =I38+J38 -> 0
A39: CAIXILHO CORRER-FERRO TUBO METALON | B39: 2.52 | C39: M2 | E39: =B39*D39 -> 0 | G39: =B39*F39 -> 0 | H39: =D39+F39 -> 0 | I39: =E39+G39 -> 0 | J39: =I39*K39 -> 0 | K39: =$K$12 -> 0 | L39: =I39+J39 -> 0
A40: 8. 6. RECUPERAÇÃO E/ OU REUTILIZAÇÃO DE ESQUADRIAS
A41: RECUPERAÇÃO DE ESQUADRIAS | B41: 24 | C41: M2 | E41: =B41*D41 -> 0 | G41: =B41*F41 -> 0 | H41: =D41+F41 -> 0 | I41: =E41+G41 -> 0 | J41: =I41*K41 -> 0 | K41: =$K$12 -> 0 | L41: =I41+J41 -> 0
A42: 9. COBERTURA | M42: =SUM(L43:L51) -> 0
A43: 9. 2. TELHAMENTO
A44: 9. 2. 1. COM TELHAS DE FIBROCIMENTO ( SEM AMIANTO)
A45: COBERTURA COM TELHA FIBROCIMENTO 8MM | B45: 252.08 | C45: M2 | E45: =B45*D45 -> 0 | G45: =B45*F45 -> 0 | H45: =D45+F45 -> 0 | I45: =E45+G45 -> 0 | J45: =I45*K45 -> 0 | K45: =$K$12 -> 0 | L45: =I45+J45 -> 0
A46: 9. 3. CALHAS
...

Sheet Cronograma empresa
A1: INCLUIR LOGOTIPO DA EMPRESA
A6: DADOS DA EMPRESA
A7: DADOS DA EMPRESA
A8: DADOS DA EMPRESA
A9: CRONOGRAMA FÍSICO-FINANCEIRO
A11: Obra: Reforma e adaptações quadra poliesportiva e bloco 03 (etapa 5) | C11: Endereço: Pinheiro Machado, nº 205
A12: Cliente: Instituto Federal Sul-rio-grandense | C12: Cidade: Novo Hamburgo - RS
A13: ITEM | B13: VALOR | C13: 30 dias | E13: 60 dias | G13: TOTAL
C14: VALOR | D14: % | E14: VALOR | F14: % | G14: VALOR | H14: %
A15: 2. SERVIÇOS PRELIMINARES/ TÉCNICOS | B15: ='Orçamento empresa'!M16 -> 0 | C15: =$B$15*D15 -> 0 | D15: 1 | E15: =$B$15*F15 -> 0 | F15: 0 | G15: =C15+E15 -> 0 | H15: =B15/G15 -> #DIV/0!
A16: 7. ALVENARIA/ VEDAÇÕES/ DIVISÓRIAS | B16: ='Orçamento empresa'!M29 -> 0 | C16: =$B$16*D16 -> 0 | D16: 0 | E16: =$B$16*F16 -> 0 | F16: 1 | G16: =C16+E16 -> 0 | H16: =B16/G16 -> #DIV/0!
A17: 8. ESQUADRIAS | B17: ='Orçamento empresa'!M36 -> 0 | C17: =$B$17*D17 -> 0 | D17: 0.045 | E17: =$B$17*F17 -> 0 | F17: 0.955 | G17: =C17+E17 -> 0 | H17: =B17/G17 -> #DIV/0!
A18: 9. COBERTURAS | B18: ='Orçamento empresa'!M42 -> 0 | C18: =$B$18*D18 -> 0 | D18: 0 | E18: =$B$18*F18 -> 0 | F18: 1 | G18: =C18+E18 -> 0 | H18: =B18/G18 -> #DIV/0!
A19: 10. INSTALAÇÕES ELÉTRICAS | B19: ='Orçamento empresa'!M52 -> 0 | C19: =$B$19*D19 -> 0 | D19: 0 | E19: =$B$19*F19 -> 0 | F19: 1 | G19: =C19+E19 -> 0 | H19: =B19/G19 -> #DIV/0!
A20: 14. INSTALAÇÕES DE COMBATE A INCÊNDIO | B20: ='Orçamento empresa'!M80 -> 0 | C20: =$B$20*D20 -> 0 | D20: 0 | E20: =$B$20*F20 -> 0 | F20: 1 | G20: =C20+E20 -> 0 | H20: =B20/G20 -> #DIV/0!
A21: 15. REVESTIMENTOS | B21: ='Orçamento empresa'!M89 -> 0 | C21: =$B$21*D21 -> 0 | D21: 1 | E21: =$B$21*F21 -> 0 | F21: 0 | G21: =C21+E21 -> 0 | H21: =B21/G21 -> #DIV/0!
A22: 16. VIDROS | B22: ='Orçamento empresa'!M95 -> 0 | C22: =$B$22*D22 -> 0 | D22: 1 | E22: =$B$22*F22 -> 0 | F22: 0 | G22: =C22+E22 -> 0 | H22: =B22/G22 -> #DIV/0!
A23: 17. PINTURA | B23: ='Orçamento empresa'!M98 -> 0 | C23: =$B$23*D23 -> 0 | D23: 0.5 | E23: =$B$23*F23 -> 0 | F23: 0.5 | G23: =C23+E23 -> 0 | H23: =B23/G23 -> #DIV/0!
A24: 18. SERVIÇOS COMPLEMENTARES | B24: ='Orçamento empresa'!M105 -> 0 | C24: =$B$24*D24 -> 0 | D24: 0 | E24: =$B$24*F24 -> 0 | F24: 1 | G24: =C24+E24 -> 0 | H24: =B24/G24 -> #DIV/0!
A25: 20. EQUIPAMENTOS | B25: ='Orçamento empresa'!M108 -> 0 | C25: =$B$25*D25 -> 0 | D25: 0 | E25: =$B$25*F25 -> 0 | F25: 1 | G25: =C25+E25 -> 0 | H25: =B25/G25 -> #DIV/0!
A26: 21. GERENCIAMENTO DE OBRAS/ FISCALIZAÇÃO | B26: ='Orçamento empresa'!M111 -> 0 | C26: =$B$26*D26 -> 0 | D26: 0.5 | E26: =$B$26*F26 -> 0 | F26: 0.5 | G26: =C26+E26 -> 0 | H26: =B26/G26 -> #DIV/0!
A27: 24. PISO | B27: ='Orçamento empresa'!M115 -> 0 | C27: =$B$27*D27 -> 0 | D27: 1 | E27: =$B$27*F27 -> 0 | F27: 0 | G27: =C27+E27 -> 0 | H27: =B27/G27 -> #DIV/0!
A28: TOTAL DA ETAPA | B28: =SUM(B15:B27) -> 0 | C28: =SUM(C15:C27) -> 0 | D28: =C28/$B$28 -> #DIV/0! | E28: =SUM(E15:E27) -> 0 | F28: =E28/$B$28 -> #DIV/0! | G28: =SUM(G15:G27) -> 0 | H28: =B28/G28 -> #DIV/0!
A29: TOTAL ACUMULADO | B29: =B28 -> 0 | C29: =C28 -> 0 | D29: =C29/$B$29 -> #DIV/0! | E29: =C29+E28 -> 0 | F29: =E29/$B$29 -> #DIV/0! | G29: =G28 -> 0
A32: Local e Data
A38: Nome do Profissional Responsável
A39: Especificação do Cargo/função
A40: N° do CREA ou CAU
