Workbook

Sheet ORÇAMENTO - DIVISÓRIAS
B1: INCLUIR LOGOTIPO DA EMPRESA
B6: DADOS DA EMPRESA
B7: DADOS DA EMPRESA
B8: DADOS DA EMPRESA
B9: PLANILHA DE ORÇAMENTO GLOBAL
B11: OBRA: | C11: REITORIA - INSTALAÇÃO DE DIVISÓRIAS | I11: ENDEREÇO: | J11: RUA GONÇALVES CHAVES, 3218 - CENTRO | O11: RESP. TÉC: | P11: XXXXXXXXXXXXXXXXX
B12: CLIENTE: | C12: INSTITUTO FEDERAL SUL-RIO-GRANDENSE | I12: CIDADE: | J12: PELOTAS | O12: DATA BASE: | P12: MAIO 2018
B14: ITEM | C14: CÓDIGOS | E14: DESCRIÇÃO | I14: QTD. | J14: UN | K14: MÃO-DE -OBRA | M14: MATERIAL | O14: C. UNIT. TOTAL | P14: C. DIRETO | Q14: BDI | S14: SUB TOTAL | T14: TOTAL
K15: C. UNIT. c/ENC | L15: C. PARCIAL | M15: C. UNIT. c/ ENC. | N15: C. PARCIAL | Q15: VALOR | R15: xx
B17: 2. | E17: SERVIÇOS PRELIMINARES / TÉCNICOS | T17: =T18 -> #VALUE!
B18: 2.1 | E18: MEDICINA E SEGURANÇA DO TRABALHO | T18: =SUM(S20:S21) -> #VALUE!
B19: 2.1.1 | E19: EQUIPAMENTOS DE PROTEÇÃO INDIVIDUAL
B20: 2.1.1.1 | E20: EQUIPAMENTOS INDIVIDUAIS DE SEGURANÇA | I20: 5 | J20: UN | K20: - | L20: =I20*K20 -> #VALUE! | M20: - | N20: =I20*M20 -> #VALUE! | O20: =K20+M20 -> #VALUE! | P20: =L20+N20 -> #VALUE! | Q20: =P20*R20 -> #VALUE! | R20: =R15 -> xx | S20: =P20+Q20 -> #VALUE!
B21: 7. | E21: ALVENARIA/ VEDAÇÃO/DIVISÓRIA | T21: =T22 -> #VALUE!
B22: 7. 2. | E22: DIVISÓRIAS | T22: =SUM(S23:S24) -> #VALUE!
B23: 7. 2. 2. | E23: DIVISÓRIA COM PAINÉIS DE GESSO
B24: 7. 2. 2. 1 | E24: PAREDE DE GESSO ACARTONADO C/ ISOLAMENTO EM LÃ DE ROCHA 5CM | I24: 127.81 | J24: M2 | K24: - | L24: =I24*K24 -> #VALUE! | M24: - | N24: =I24*M24 -> #VALUE! | O24: =K24+M24 -> #VALUE! | P24: =L24+N24 -> #VALUE! | Q24: =P24*R24 -> #VALUE! | R24: =R15 -> xx | S24: =P24+Q24 -> #VALUE!
B25: 8. | E25: ESQUADRIAS | T25: =T26+T30 -> #VALUE!
B26: 8. 1. | E26: ESQUADRIAS DE MADEIRA | T26: =SUM(S27:S29) -> #VALUE!
B27: 8. 1. 2. | E27: PORTAS INTERNAS
B28: 8. 1. 2. 1. | C28: PLEO | D28: 111125 | E28: PORTA INT.SEMI-OCA 0,80X2,10 COM FERRAGEM COMPLETA (MADEIRA CURUPIXÁ, SEM VISOR) | I28: 4 | J28: CJ | K28: - | L28: =I28*K28 -> #VALUE! | M28: - | N28: =I28*M28 -> #VALUE! | O28: =K28+M28 -> #VALUE! | P28: =L28+N28 -> #VALUE! | Q28: =P28*R28 -> #VALUE! | R28: =R15 -> xx | S28: =P28+Q28 -> #VALUE!
B29: 8. 1. 2. 1. | C29: PLEO | D29: 111125 | E29: PORTA INT.SEMI-OCA 0,80X2,10 COM FERRAGEM COMPLETA (MADEIRA CURUPIXÁ, COM VISOR) | I29: 4 | J29: CJ | K29: - | L29: =I29*K29 -> #VALUE! | M29: - | N29: =I29*M29 -> #VALUE! | O29: =K29+M29 -> #VALUE! | P29: =L29+N29 -> #VALUE! | Q29: =P29*R29 -> #VALUE! | R29: =R15 -> xx | S29: =P29+Q29 -> #VALUE!
B30: 8. 2. | E30: ESQUADRIAS DE ALUMÍNIO | T30: =SUM(S31:S32) -> #VALUE!
B31: 8. 2. 1. | E31: JANELAS
B32: 8. 2. 1. 1. | C32: PLEO | D32: 111125 | E32: CAIXILHO FIXO ALUMINIO ANODIZADO | I32: 4.5 | J32: M2 | K32: - | L32: =I32*K32 -> #VALUE! | M32: - | N32: =I32*M32 -> #VALUE! | O32: =K32+M32 -> #VALUE! | P32: =L32+N32 -> #VALUE! | Q32: =P32*R32 -> #VALUE! | R32: =R15 -> xx | S32: =P32+Q32 -> #VALUE!
B33: 10. | E33: INSTALAÇÕES ELÉTRICAS | T33: =T34 -> #VALUE!
B34: 10. 1. | E34: INSTALAÇÕES ELÉTRICA DE BAIXA TENSÃO | T34: =SUM(S35:S41) -> #VALUE!
B35: 10.1.1. | E35: LUMINARIAS
B36: 10.1.1.1 | E36: REMOÇÃO E REINSTALAÇÃO DE LUMINARIAS | I36: 2 | J36: UN | K36: - | L36: =I36*K36 -> #VALUE! | M36: - | N36: =I36*M36 -> #VALUE! | O36: =K36+M36 -> #VALUE! | P36: =L36+N36 -> #VALUE! | Q36: =P36*R36 -> #VALUE! | R36: =R15 -> xx | S36: =P36+Q36 -> #VALUE!
B37: 10.1.1.2 | E37: PLAFON DE EMBUTIR C/ LAMP. COMP. 23W | I37: 2 | J37: UN | K37: - | L37: =I37*K37 -> #VALUE! | M37: - | N37: =I37*M37 -> #VALUE! | O37: =K37+M37 -> #VALUE! | P37: =L37+N37 -> #VALUE! | Q37: =P37*R37 -> #VALUE! | R37: =R15 -> xx | S37: =P37+Q37 -> #VALUE!
B38: 10.1.2. | E38: INTERRUPTORES, TOMADAS E ACESSÓRIOS
B39: 10.1.2.1 | E39: INTERRUPTOR EMBUTIR SIMPLES | I39: 1 | J39: UN | K39: - | L39: =I39*K39 -> #VALUE! | M39: - | N39: =I39*M39 -> #VALUE! | O39: =K39+M39 -> #VALUE! | P39: =L39+N39 -> #VALUE! | Q39: =P39*R39 -> #VALUE! | R39: =R15 -> xx | S39: =P39+Q39 -> #VALUE!
B40: 10.1.2.2 | E40: TOMADA DUPLO RJ-45, INCL. CX. 3X3 | I40: 13 | J40: UN | K40: - | L40: =I40*K40 -> #VALUE! | M40: - | N40: =I40*M40 -> #VALUE! | O40: =K40+M40 -> #VALUE! | P40: =L40+N40 -> #VALUE! | Q40: =P40*R40 -> #VALUE! | R40: =R15 -> xx | S40: =P40+Q40 -> #VALUE!
B41: 10.1.2.3 | E41: TOMADA DUPLA - 10A, INCL. CX. 3X3 | I41: 9 | J41: UN | K41: - | L41: =I41*K41 -> #VALUE! | M41: - | N41: =I41*M41 -> #VALUE! | O41: =K41+M41 -> #VALUE! | P41: =L41+N41 -> #VALUE! | Q41: =P41*R41 -> #VALUE! | R41: =R15 -> xx | S41: =P41+Q41 -> #VALUE!
B42: 14. | E42: INSTALAÇÕES DE COMBATE AO INCÊNDIO | T42: =T43+T45+T51 -> #VALUE!
B43: 14. 2. | E43: ILUMINAÇÃO DE EMERGÊNCIA | T43: =S44 -> #VALUE!
B44: 14. 2. 1. | C44: MERCADO | D44: - | E44: LUMINÁRIA DE EMERGÊNCIA DE 30 LEDS (2 LINHAS DE 15 LEDS) | I44: 4 | J44: UN | K44: - | L44: =I44*K44 -> #VALUE! | M44: - | N44: =I44*M44 -> #VALUE! | O44: =K44+M44 -> #VALUE! | P44: =L44+N44 -> #VALUE! | Q44: =P44*R44 -> #VALUE! | R44: =R15 -> xx | S44: =P44+Q44 -> #VALUE!
B45: 14. 3. | E45: SINALIZAÇÃO DE EMERGÊNCIA | T45: =SUM(S46:S50) -> #VALUE!
B46: 14. 3. 1. | E46: PLACA DE "SAÍDA"
B47: 14. 3. 1. 1. | C47: PLEO | D47: 173360A | E47: PLACA ACRÍLICA DE SINALIZAÇÃO DE SAÍDA C/ SETA P/ A DIREITA (PAREDE) COD. 13D | I47: 1 | J47: UN | K47: - | L47: =I47*K47 -> #VALUE! | M47: - | N47: =I47*M47 -> #VALUE! | O47: =K47+M47 -> #VALUE! | P47: =L47+N47 -> #VALUE! | Q47: =P47*R47 -> #VALUE! | R47: =R15 -> xx | S47: =P47+Q47 -> #VALUE!
B48: 14. 3. 1. 2. | E48: PLACA ACRÍLICA DE SINALIZAÇÃO DE SAÍDA (SOBRE A PORTA) - CÓDIGO 17 | I48: 6 | J48: UN | K48: - | L48: =I48*K48 -> #VALUE! | M48: - | N48: =I48*M48 -> #VALUE! | O48: =K48+M48 -> #VALUE! | P48: =L48+N48 -> #VALUE! | Q48: =P48*R48 -> #VALUE! | R48: =R15 -> xx | S48: =P48+Q48 -> #VALUE!
B49: 14. 3. 2. | E49: PLACA DE "PROIBIDO FUMAR"
B50: 14. 3. 2. 1. | C50: PLEO | D50: 173360B | E50: PLACA ACRILICA DE SINALIZAÇÃO DE PROIBIDO FUMAR - CÓDIGO | I50: 2 | J50: UN | K50: - | L50: =I50*K50 -> #VALUE! | M50: - | N50: =I50*M50 -> #VALUE! | O50: =K50+M50 -> #VALUE! | P50: =L50+N50 -> #VALUE! | Q50: =P50*R50 -> #VALUE! | R50: =R15 -> xx | S50: =P50+Q50 -> #VALUE!
B51: 14. 6. | E51: ALARME DE INCÊNDIO | T51: =S52 -> #VALUE!
B52: 14.6.1. | E52: DETECTOR DE FUMAÇA (MODELO DFN-E OU SIMILAR) | I52: 5 | J52: UN | K52: - | L52: =I52*K52 -> #VALUE! | M52: - | N52: =I52*M52 -> #VALUE! | O52: =K52+M52 -> #VALUE! | P52: =L52+N52 -> #VALUE! | Q52: =P52*R52 -> #VALUE! | R52: =R15 -> xx | S52: =P52+Q52 -> #VALUE!
B53: 16. | E53: VIDRO | T53: =T54 -> #VALUE!
B54: 16. 1. | E54: VIDRO LISO | T54: =S55 -> #VALUE!
B55: 16. 1. 1. | C55: PLEO | D55: 20015 | E55: VIDRO TRANSPARENTE 4MM COLOCADO COM NEOPRENE (visores) / baguete madeira (portas) | I55: 5.2 | J55: M2 | K55: - | L55: =I55*K55 -> #VALUE! | M55: - | N55: =I55*M55 -> #VALUE! | O55: =K55+M55 -> #VALUE! | P55: =L55+N55 -> #VALUE! | Q55: =P55*R55 -> #VALUE! | R55: =R15 -> xx | S55: =P55+Q55 -> #VALUE!
B56: 17. | E56: PINTURA | T56: =T57+T59+T61 -> #VALUE!
B57: 17. 1. | E57: SELADOR/PREPARAÇÃO | T57: =S58 -> #VALUE!
B58: 17. 1. 1. | C58: PLEO | D58: 141250 | E58: SELADOR PARA PAREDES INTERNAS/EXTERNAS 1 DEMAO | I58: 255.62 | J58: M2 | K58: - | L58: =I58*K58 -> #VALUE! | M58: - | N58: =I58*M58 -> #VALUE! | O58: =K58+M58 -> #VALUE! | P58: =L58+N58 -> #VALUE! | Q58: =P58*R58 -> #VALUE! | R58: =R15 -> xx | S58: =P58+Q58 -> #VALUE!
B59: 17. 3. | E59: BASE ACRÍLICA | T59: =S60 -> #VALUE!
B60: 17. 3. 1. | C60: PLEO | D60: 141256 | E60: PINTURA ACRILICA SOBRE MASSA ACRILICA-2 DEMAOS | I60: 255.62 | J60: M2 | K60: - | L60: =I60*K60 -> #VALUE! | M60: - | N60: =I60*M60 -> #VALUE! | O60: =K60+M60 -> #VALUE! | P60: =L60+N60 -> #VALUE! | Q60: =P60*R60 -> #VALUE! | R60: =R15 -> xx | S60: =P60+Q60 -> #VALUE!
B61: 17. 6. | E61: MASSA CORRIDA | T61: =S62 -> #VALUE!
B62: 17. 6. 1. | E62: MASSA CORRIDA PVA PARA INTERIORES 2 DEMAOS | I62: 255.62 | J62: M2 | K62: - | L62: =I62*K62 -> #VALUE! | M62: - | N62: =I62*M62 -> #VALUE! | O62: =K62+M62 -> #VALUE! | P62: =L62+N62 -> #VALUE! | Q62: =P62*R62 -> #VALUE! | R62: =R15 -> xx | S62: =P62+Q62 -> #VALUE!
B63: 18. | E63: SERVIÇOS COMPLEMENTARES | T63: =T64 -> #VALUE!
B64: 18. 5. | E64: LIMPEZA E ENTREGA DA OBRA | T64: =S65 -> #VALUE!
B65: 18. 5. 1. | C65: PLEO | D65: 20015 | E65: LIMPEZA FINAL DA OBRA | I65: 320.25 | J65: M2 | K65: - | L65: =I65*K65 -> #VALUE! | M65: - | N65: =I65*M65 -> #VALUE! | O65: =K65+M65 -> #VALUE! | P65: =L65+N65 -> #VALUE! | Q65: =P65*R65 -> #VALUE! | R65: =R15 -> xx | S65: =P65+Q65 -> #VALUE!
B66: 21. | E66: GERENCIAMENTO DE OBRAS/ FISCALIZAÇÃO | T66: =T67 -> #VALUE!
B67: 21. 1. | E67: ADMINISTRAÇÃO DA OBRA | T67: =S69 -> #VALUE!
B68: 21.1.1. | E68: DESPESAS COM PESSOAL
B69: 21.1.1.1. | C69: PLEO | D69: 20015 | E69: CONTRAMESTRE | I69: 1.5 | J69: MS | K69: - | L69: =I69*K69 -> #VALUE! | M69: - | N69: =I69*M69 -> #VALUE! | O69: =K69+M69 -> #VALUE! | P69: =L69+N69 -> #VALUE! | Q69: =P69*R69 -> #VALUE! | R69: =R15 -> xx | S69: =P69+Q69 -> #VALUE!
Q70: TOTAL DO ORÇAMENTO | T70: =T17+T21+T25+T33+T42+T53+T56+T63+T66 -> #VALUE!
E72: OBSERVAÇÕES:
E73: 1) As composições de custos apresentadas nesta planilha orçamentária englobam em seu valor toda a mão-de-obra, materiais, ferramentas, equipamentos e demais itens necessários à sua perfeita e completa execução.
E74: 2) A presente planilha deve ser analisada em conjunto com as especificações técnicas, com o cronograma físico-financeiro e com os respectivos projetos.
P75: Local e Data
F76: LEGENDA:
F78: PLEO | G78: PLANILHA ELETRÔICA DE ORÇAMENTOS | Q78: Nome do Profissional Responsável
F79: SINAPI | G79: SISTEMA NACIONAL DE PESQUISA DE CUSTOS E ÍNDICES DA CONSTRUÇÃO CIVIL | Q79: Especificação do Cargo/função
F80: MERCADO | G80: PESQUISA NO MERCADO LOCAL | Q80: N° do CREA ou CAU

Sheet CRONOGRAMA - DIVISÓRIAS
A1: INCLUIR LOGOTIPO DA EMPRESA
A6: DADOS DA EMPRESA
A7: DADOS DA EMPRESA
A8: DADOS DA EMPRESA
A9: CRONOGRAMA FÍSICO-FINANCEIRO
A10: Obra: Reitoria - Instalação de Divisórias
A11: Cliente: Instituto Federal Sul-rio-grandense
A13: ITEM | B13: 20 dias | D13: 25 dias | F13: TOTAL
B14: VALOR | C14: % | D14: VALOR | E14: % | F14: VALOR | G14: %
A15: 2. SERVIÇOS PRELIMINARES / TÉCNICOS | B15: =C15*$F15 -> #VALUE! | C15: 1 | F15: ='ORÇAMENTO - DIVISÓRIAS'!T17 -> #VALUE! | G15: =C15+E15 -> 1
A16: 7. ALVENARIA / VEDAÇÃO / DIVISÓRIA | B16: =C16*$F16 -> #VALUE! | C16: 0.5 | D16: =E16*$F16 -> #VALUE! | E16: 0.5 | F16: ='ORÇAMENTO - DIVISÓRIAS'!T21 -> #VALUE! | G16: =C16+E16 -> 1
A17: 8. ESQUADRIAS | D17: =E17*$F17 -> #VALUE! | E17: 1 | F17: ='ORÇAMENTO - DIVISÓRIAS'!T25 -> #VALUE! | G17: =C17+E17 -> 1
A18: 10. INSTALAÇÕES ELÉTRICAS | B18: =C18*$F18 -> #VALUE! | C18: 0.5 | D18: =E18*$F18 -> #VALUE! | E18: 0.5 | F18: ='ORÇAMENTO - DIVISÓRIAS'!T33 -> #VALUE! | G18: =C18+E18 -> 1
A19: 14. INSTALAÇÕES DE COMBATE À INCÊNDIO | D19: =E19*$F19 -> #VALUE! | E19: 1 | F19: ='ORÇAMENTO - DIVISÓRIAS'!T42 -> #VALUE! | G19: =C19+E19 -> 1
A20: 16. VIDRO | D20: =E20*$F20 -> #VALUE! | E20: 1 | F20: ='ORÇAMENTO - DIVISÓRIAS'!T53 -> #VALUE! | G20: =C20+E20 -> 1
A21: 17. PINTURA | B21: =C21*$F21 -> #VALUE! | C21: 0.5 | D21: =E21*$F21 -> #VALUE! | E21: 0.5 | F21: ='ORÇAMENTO - DIVISÓRIAS'!T56 -> #VALUE! | G21: =C21+E21 -> 1
A22: 18. SERVIÇOS COMPLEMENTARES | B22: =C22*$F22 -> #VALUE! | C22: 0.5 | D22: =E22*$F22 -> #VALUE! | E22: 0.5 | F22: ='ORÇAMENTO - DIVISÓRIAS'!T63 -> #VALUE! | G22: =C22+E22 -> 1
A23: 21. GERENCIAMENTO DE OBRAS / FISCALIZAÇÃO | B23: =C23*$F23 -> #VALUE! | C23: 0.4444 | D23: =E23*$F23 -> #VALUE! | E23: 0.5556 | F23: ='ORÇAMENTO - DIVISÓRIAS'!T66 -> #VALUE! | G23: =C23+E23 -> 1
A24: Total da Etapa | B24: =SUM(B15:B23) -> #VALUE! | C24: =B24/$F$24 -> #VALUE! | D24: =SUM(D15:D23) -> #VALUE! | E24: =D24/$F$24 -> #VALUE! | F24: ='ORÇAMENTO - DIVISÓRIAS'!T70 -> #VALUE! | G24: =C24+E24 -> #VALUE!
A25: Total Acumulado | F25: =SUM(F15:F23) -> #VALUE!
E27: Local e Data
D33: Nome do Profissional Responsável
D34: Especificação do Cargo/função
D35: N° do CREA ou CAU
