Workbook

Sheet RESUMO
A1: LEI 14.133/2021 - RESUMO GERAL
A2: QUADRO-RESUMO DOS SERVIÇOS - Regime de Tributação: Lucro Real
A3: ANEXO ---- do Pregão nº XX/2024 – CONTA VINCULADA MODELO DE PLANILHA DE CUSTOS E FORMAÇÃO DE PREÇOS
A4: Nº do processo: | G4: xxxx
A5: Licitação nº:
A6: Dia:
A7: DISCRIMINAÇÃO DOS SERVIÇOS (DADOS REFERENTES À CONTRATAÇÃO)
A8: A | C8: Data de apresentação da proposta (dia/mês/ano)
A9: B | C9: UG/UASG Gerenciadora da Contratação | G9: 26436/158126
A10: C | C10: Data base do Orçamento Estimado (Planilha de Ref.)
A11: D | C11: Número de meses de execução contratual | G11: 60
A12: VALOR MENSAL DOS SERVIÇOS
A13: Item | B13: Unidade de Execução | C13: Tipo de serviço (A) | D13: Valor Proposto por Empregado (B) | E13: Qtde. de Empregados por Posto (C) | F13: Valor Proposto por Posto (D) = (B x C) | G13: Qtde. de Postos (E) | H13: Valor Total do Serviço (F) = (D x E)
A14: I | B14: Gravataí | C14: Of. de Manut. Predial | D14: ='Oficial de Manut. Pred. - Grava'!J148 -> 9409.3719 | E14: 1 | F14: =PRODUCT(D14:E14) -> 9409.3719 | G14: 1 | H14: =PRODUCT(F14:G14) -> 9409.3719
A15: II | B15: Gravataí | C15: Aux. Manut. Predial | D15: ='Aux. Manut. Pred. - Gravataí'!J150 -> 2588.7717 | E15: 1 | F15: =PRODUCT(D15:E15) -> 2588.7717 | G15: 1 | H15: =PRODUCT(F15:G15) -> 2588.7717
A16: III | B16: Gravataí | C16: Jardinagem | D16: ='Jardinagem - Gravataí'!J150 -> 7425.6462 | E16: 1 | F16: =PRODUCT(D16:E16) -> 7425.6462 | G16: 1 | H16: =PRODUCT(F16:G16) -> 7425.6462
A17: IV | B17: Lajeado | C17: Of. de Manut. Predial | D17: ='Oficial de Manut. Pred. - Lajea'!J148 -> 6304.8687 | E17: 1 | F17: =PRODUCT(D17:E17) -> 6304.8687 | G17: 1 | H17: =PRODUCT(F17:G17) -> 6304.8687
A18: V | B18: Lajeado | C18: Aux. Manut. Predial | D18: ='Aux. Manut. Pred. - Lajeado'!J150 -> 2595.1308 | E18: 1 | F18: =PRODUCT(D18:E18) -> 2595.1308 | G18: 1 | H18: =PRODUCT(F18:G18) -> 2595.1308
A19: VI | B19: Lajeado | C19: Jardinagem | D19: ='Jardinagem - Lajeado'!J150 -> 3855.9946 | E19: 1 | F19: =PRODUCT(D19:E19) -> 3855.9946 | G19: 1 | H19: =PRODUCT(F19:G19) -> 3855.9946
A20: VII | B20: Sapiranga | C20: Of. de Manut. Predial | D20: ='SG-Oficial de Manut. Pred'!J148 -> 5683.1531 | E20: 1 | F20: =PRODUCT(D20:E20) -> 5683.1531 | G20: 1 | H20: =PRODUCT(F20:G20) -> 5683.1531
A21: VIII | B21: Sapiranga | C21: Jardinagem | D21: ='SG-Jardinagem'!J150 -> 3871.1621 | E21: 1 | F21: =PRODUCT(D21:E21) -> 3871.1621 | G21: 1 | H21: =PRODUCT(F21:G21) -> 3871.1621
A22: Valor Mensal dos Serviços | H22: =SUM(H14:H21) -> 41734.099
A24: QUADRO DEMONSTRATIVO DO VALOR GLOBAL DA PROPOSTA
A25: A | B25: Valor mensal do serviço | H25: =H22 -> 41734.099
A26: B | B26: Valor Anual da Contratação | H26: =H25*12 -> 500809.19
A27: C | B27: Número de meses do Contrato | H27: =G11 -> 60
A28: D | B28: Valor Global do Proposta (Valor mensal do serviço x nº de meses do contrato). | H28: =H25*H27 -> 2504046

Sheet Oficial de Manut. Pred. - Grava
A1: LEI 14.133/2021 - GRAVATAÍ
A2: Oficial de Manutenção Predial - Regime de Tributação: Lucro Real
A3: ANEXO ---- do Pregão nº XX/2024 – CONTA VINCULADA PLANILHA DE CUSTOS E FORMAÇÃO DE PREÇOS
A4: Nº do processo: | H4: xxxxx
A5: Licitação nº:
A6: Dia:
A7: DISCRIMINAÇÃO DOS SERVIÇOS (DADOS REFERENTES À CONTRATAÇÃO)
A8: A | B8: Data de apresentação da proposta (dia/mês/ano)
A9: B | B9: Município/UF | H9: Gravataí/RS
A10: C | B10: Ano do Acordo, Convenção ou Dissídio Coletivo | H10: CONVENÇÃO COLETIVA DE TRABALHO 2024/2025 - a ser homologada (incluída Circular no processo)
A11: D | B11: Número de meses de execução contratual [Para efeito da análise dos Custos Não Renováveis (Analisar a exclusão dos CNR anualmente, em cada repactuação)] | H11: 60
A13: 1. MÓDULOS Mão de obra Mão de obra vinculada à execução contratual
A15: Dados para composição dos custos referente à mão de obra
A16: 1 | B16: Tipo de Serviço (mesmo serviço com características distintas) | H16: Manutenção Predial
A17: 2 | B17: Classificação Brasileira de Ocupações (CBO) | H17: 5143-25
A18: 3 | B18: Salário Normativo da Categoria Profissional - para a jornada de 44 h/sem | H18: 2228.6
A19: 4 | B19: Categoria Profissional (vinculada à execução contratual) | H19: Oficial de Manutenção Predial
A20: 5 | B20: Data-Base da Categoria (dia/mês/ano) | H20: 1º de junho de 2024
A22: Módulo 1: Composição da Remuneração
A23: 1 | B23: Composição da Remuneração | H23: Percentual (R$) | J23: Valor (R$)
A24: A | B24: Salário-Base (44h/semana) | J24: =ROUND(((44/6)*30)*(H18/220),2) -> 2228.6
A25: B | B25: Adicional de Periculosidade | I25: 0.3 | J25: =ROUND(I25*J24,2) -> 668.58
A26: C | B26: Adicional Noturno
A27: D | B27: Adicional de Hora Noturna Reduzida
A28: E | B28: Adicional de Hora Extra no Feriado Trabalhado
A29: B | B29: Adicional de Insalubridade | I29: 0 | J29: =ROUND(I29*J24,2) -> 0
A30: Total | J30: =SUM(J24:J29) -> 2897.18
A32: Módulo 2 – Encargos e Benefícios Anuais, Mensais e Diários
A33: Submódulo 2.1 – 13º (décimo terceiro) Salário e Adicional de Férias
A34: 2.1 | B34: 13º (décimo terceiro) Salário e Adicional de Férias | J34: Valor (R$)
A35: A | B35: 13º (décimo terceiro) Salário Obrigatória a cotação de 8,33% sobre o valor do Módulo 1 – Composição da Remuneração, conforme Anexo XII da IN 5/17 | I35: 0.0833 | J35: =ROUND($J$30*I35,2) -> 241.34
A36: B | B36: Adicional de Férias Obrigatória a cotação de 3,025% sobre o valor do Módulo 1 – Composição da Remuneração, conforme Anexo XII da IN 5/17 (Férias + Adicional = 9,075% + 3,025% = 12,10%) | I36: 0.03025 | J36: =ROUND($J$30*I36,2) -> 87.64
A37: Total | J37: =SUM(J35+J36) -> 328.98
A38: C | B38: Incidência dos encargos do Submódulo 2.2 sobre o total do Submódulo 2.1 | J38: =ROUND(I51*J37,2) -> 121.06
A39: Total | J39: =J37+J38 -> 450.04
A41: Submódulo 2.2 - Encargos Previdenciários (GPS), Fundo de Garantia por Tempo de Serviço (FGTS) e outras contribuições
A42: 2.2 | B42: GPS, FGTS e outras contribuições | I42: Percentual (%) | J42: Valor (R$)
A43: A | B43: INSS | I43: 0.2 | J43: =ROUND($J$30*I43,2) -> 579.44
A44: B | B44: Salário Educação | I44: 0.025 | J44: =ROUND($J$30*I44,2) -> 72.43
A45: C | B45: RAT x FAP | E45: RAT = | F45: 0.03 | G45: FAP = | H45: 1 | I45: =ROUND((F45*H45),6) -> 0.03 | J45: =ROUND($J$30*I45,2) -> 86.92
...

Sheet Aux. Manut. Pred. - Gravataí
A1: LEI 14.133/2021 - GRAVATAÍ
A2: Aux. Manutenção Predial - Regime de Tributação: Lucro Real
A3: ANEXO ---- do Pregão nº XX/2024 – CONTA VINCULADA PLANILHA DE CUSTOS E FORMAÇÃO DE PREÇOS
A4: Nº do processo: | H4: xxxxx
A5: Licitação nº:
A6: Dia:
A7: DISCRIMINAÇÃO DOS SERVIÇOS (DADOS REFERENTES À CONTRATAÇÃO)
A8: A | B8: Data de apresentação da proposta (dia/mês/ano)
A9: B | B9: Município/UF | H9: Gravataí/RS
A10: C | B10: Ano do Acordo, Convenção ou Dissídio Coletivo | H10: CONVENÇÃO COLETIVA DE TRABALHO 2024 - MTE: RS004917/2023
A11: D | B11: Número de meses de execução contratual [Para efeito da análise dos Custos Não Renováveis (Analisar a exclusão dos CNR anualmente, em cada repactuação)] | H11: 60
A13: 1. MÓDULOS Mão de obra Mão de obra vinculada à execução contratual
A15: Dados para composição dos custos referente à mão de obra
A16: 1 | B16: Tipo de Serviço (mesmo serviço com características distintas) | H16: Manutenção Predial
A17: 2 | B17: Classificação Brasileira de Ocupações (CBO) | H17: 5143-10
A18: 3 | B18: Salário Normativo da Categoria Profissional - para a jornada de 44 h/sem | H18: 1540.51
A19: 4 | B19: Categoria Profissional (vinculada à execução contratual) | H19: Auxiliar de Manutenção Predial
A20: 5 | B20: Data-Base da Categoria (dia/mês/ano) | H20: 1º de janeiro de 2024
A22: Módulo 1: Composição da Remuneração
A23: 1 | B23: Composição da Remuneração | H23: Percentual (R$) | J23: Valor (R$)
A24: A | B24: Salário-Base (25h/semana) | J24: =ROUND(((25/6)*30)*(H18/220),2) -> 875.29
A25: B | B25: Adicional de Periculosidade | I25: 0 | J25: =ROUND(I25*J24,2) -> 0
A26: C | B26: Adicional Noturno
A27: D | B27: Adicional de Hora Noturna Reduzida
A28: E | B28: Adicional de Hora Extra no Feriado Trabalhado
A29: B | B29: Adicional de Insalubridade | I29: 0 | J29: =ROUND(I29*J24,2) -> 0
A30: Total | J30: =SUM(J24:J29) -> 875.29
A32: Módulo 2 – Encargos e Benefícios Anuais, Mensais e Diários
A33: Submódulo 2.1 – 13º (décimo terceiro) Salário e Adicional de Férias
A34: 2.1 | B34: 13º (décimo terceiro) Salário e Adicional de Férias | J34: Valor (R$)
A35: A | B35: 13º (décimo terceiro) Salário Obrigatória a cotação de 8,33% sobre o valor do Módulo 1 – Composição da Remuneração, conforme Anexo XII da IN 5/17 | I35: 0.0833 | J35: =ROUND($J$30*I35,2) -> 72.91
A36: B | B36: Adicional de Férias Obrigatória a cotação de 3,025% sobre o valor do Módulo 1 – Composição da Remuneração, conforme Anexo XII da IN 5/17 (Férias + Adicional = 9,075% + 3,025% = 12,10%) | I36: 0.03025 | J36: =ROUND($J$30*I36,2) -> 26.48
A37: Total | J37: =SUM(J35+J36) -> 99.39
A38: C | B38: Incidência dos encargos do Submódulo 2.2 sobre o total do Submódulo 2.1 | J38: =ROUND(I51*J37,2) -> 36.58
A39: Total | J39: =J37+J38 -> 135.97
A41: Submódulo 2.2 - Encargos Previdenciários (GPS), Fundo de Garantia por Tempo de Serviço (FGTS) e outras contribuições
A42: 2.2 | B42: GPS, FGTS e outras contribuições | I42: Percentual (%) | J42: Valor (R$)
A43: A | B43: INSS | I43: 0.2 | J43: =ROUND($J$30*I43,2) -> 175.06
A44: B | B44: Salário Educação | I44: 0.025 | J44: =ROUND($J$30*I44,2) -> 21.88
A45: C | B45: RAT x FAP | E45: RAT = | F45: 0.03 | G45: FAP = | H45: 1 | I45: =ROUND((F45*H45),6) -> 0.03 | J45: =ROUND($J$30*I45,2) -> 26.26
...

Sheet Jardinagem - Gravataí
A1: LEI 14.133/2021 - GRAVATAÍ
A2: Aux. Manutenção Predial - Regime de Tributação: Lucro Real
A3: ANEXO ---- do Pregão nº XX/2024 – CONTA VINCULADA PLANILHA DE CUSTOS E FORMAÇÃO DE PREÇOS
A4: Nº do processo: | H4: xxxxx
A5: Licitação nº:
A6: Dia:
A7: DISCRIMINAÇÃO DOS SERVIÇOS (DADOS REFERENTES À CONTRATAÇÃO)
A8: A | B8: Data de apresentação da proposta (dia/mês/ano)
A9: B | B9: Município/UF | H9: Gravataí/RS
A10: C | B10: Ano do Acordo, Convenção ou Dissídio Coletivo | H10: CONVENÇÃO COLETIVA DE TRABALHO 2024 - MTE: RS004917/2023
A11: D | B11: Número de meses de execução contratual [Para efeito da análise dos Custos Não Renováveis (Analisar a exclusão dos CNR anualmente, em cada repactuação)] | H11: 60
A13: 1. MÓDULOS Mão de obra Mão de obra vinculada à execução contratual
A15: Dados para composição dos custos referente à mão de obra
A16: 1 | B16: Tipo de Serviço (mesmo serviço com características distintas) | H16: Jardinagem
A17: 2 | B17: Classificação Brasileira de Ocupações (CBO) | H17: 1578123
A18: 3 | B18: Salário Normativo da Categoria Profissional - para a jornada de 44 h/sem | H18: 1540.51
A19: 4 | B19: Categoria Profissional (vinculada à execução contratual) | H19: Jardineiro(a)
A20: 5 | B20: Data-Base da Categoria (dia/mês/ano) | H20: 1º de janeiro de 2024
A22: Módulo 1: Composição da Remuneração
A23: 1 | B23: Composição da Remuneração | H23: Percentual (R$) | J23: Valor (R$)
A24: A | B24: Salário-Base (valor para somente 1 Jardineiro/a - 44h/semana) | J24: =ROUND(((44/6)*30)*(H18/220),2) -> 1540.51
A25: B | B25: Adicional de Periculosidade | I25: 0.3 | J25: =ROUND(I25*J24,2) -> 462.15
A26: C | B26: Adicional Noturno
A27: D | B27: Adicional de Hora Noturna Reduzida
A28: E | B28: Adicional de Hora Extra no Feriado Trabalhado
A29: B | B29: Adicional de Insalubridade | I29: 0.2 | J29: =ROUND(I29*J24,2) -> 308.1
A30: Total | J30: =SUM(J24:J29) -> 2310.76
A32: Módulo 2 – Encargos e Benefícios Anuais, Mensais e Diários
A33: Submódulo 2.1 – 13º (décimo terceiro) Salário e Adicional de Férias
A34: 2.1 | B34: 13º (décimo terceiro) Salário e Adicional de Férias | J34: Valor (R$)
A35: A | B35: 13º (décimo terceiro) Salário Obrigatória a cotação de 8,33% sobre o valor do Módulo 1 – Composição da Remuneração, conforme Anexo XII da IN 5/17 | I35: 0.0833 | J35: =ROUND($J$30*I35,2) -> 192.49
A36: B | B36: Adicional de Férias Obrigatória a cotação de 3,025% sobre o valor do Módulo 1 – Composição da Remuneração, conforme Anexo XII da IN 5/17 (Férias + Adicional = 9,075% + 3,025% = 12,10%) | I36: 0.03025 | J36: =ROUND($J$30*I36,2) -> 69.9
A37: Total | J37: =SUM(J35+J36) -> 262.39
A38: C | B38: Incidência dos encargos do Submódulo 2.2 sobre o total do Submódulo 2.1 | J38: =ROUND(I51*J37,2) -> 96.56
A39: Total | J39: =J37+J38 -> 358.95
A41: Submódulo 2.2 - Encargos Previdenciários (GPS), Fundo de Garantia por Tempo de Serviço (FGTS) e outras contribuições
A42: 2.2 | B42: GPS, FGTS e outras contribuições | I42: Percentual (%) | J42: Valor (R$)
A43: A | B43: INSS | I43: 0.2 | J43: =ROUND($J$30*I43,2) -> 462.15
A44: B | B44: Salário Educação | I44: 0.025 | J44: =ROUND($J$30*I44,2) -> 57.77
A45: C | B45: RAT x FAP | E45: RAT = | F45: 0.03 | G45: FAP = | H45: 1 | I45: =ROUND((F45*H45),6) -> 0.03 | J45: =ROUND($J$30*I45,2) -> 69.32
...

Sheet Oficial de Manut. Pred. - Lajea
A1: LEI 14.133/2021 - LAJEADO
A2: Oficial de Manutenção Predial - Regime de Tributação: Lucro Real
A3: ANEXO ---- do Pregão nº XX/2024 – CONTA VINCULADA PLANILHA DE CUSTOS E FORMAÇÃO DE PREÇOS
A4: Nº do processo: | H4: xxxxx
A5: Licitação nº:
A6: Dia:
A7: DISCRIMINAÇÃO DOS SERVIÇOS (DADOS REFERENTES À CONTRATAÇÃO)
A8: A | B8: Data de apresentação da proposta (dia/mês/ano)
A9: B | B9: Município/UF | H9: Lajeado/RS
A10: C | B10: Ano do Acordo, Convenção ou Dissídio Coletivo | H10: CONVENÇÃO COLETIVA DE TRABALHO 2024/2025 - MTE RS002055/2024
A11: D | B11: Número de meses de execução contratual [Para efeito da análise dos Custos Não Renováveis (Analisar a exclusão dos CNR anualmente, em cada repactuação)] | H11: 60
A13: 1. MÓDULOS Mão de obra Mão de obra vinculada à execução contratual
A15: Dados para composição dos custos referente à mão de obra
A16: 1 | B16: Tipo de Serviço (mesmo serviço com características distintas) | H16: Manutenção Predial
A17: 2 | B17: Classificação Brasileira de Ocupações (CBO) | H17: 5143-25
A18: 3 | B18: Salário Normativo da Categoria Profissional - para a jornada de 44 h/sem | H18: 2410.12
A19: 4 | B19: Categoria Profissional (vinculada à execução contratual) | H19: Oficial de Manutenção Predial
A20: 5 | B20: Data-Base da Categoria (dia/mês/ano) | H20: 1º de maio de 2024
A22: Módulo 1: Composição da Remuneração
A23: 1 | B23: Composição da Remuneração | H23: Percentual (R$) | J23: Valor (R$)
A24: A | B24: Salário-Base (25h/semana) | J24: =ROUND(((25/6)*30)*(H18/220),2) -> 1369.39
A25: B | B25: Adicional de Periculosidade | I25: 0.3 | J25: =ROUND(I25*J24,2) -> 410.82
A26: C | B26: Adicional Noturno
A27: D | B27: Adicional de Hora Noturna Reduzida
A28: E | B28: Adicional de Hora Extra no Feriado Trabalhado
A29: B | B29: Adicional de Insalubridade | I29: 0 | J29: =ROUND(I29*J24,2) -> 0
A30: Total | J30: =SUM(J24:J29) -> 1780.21
A32: Módulo 2 – Encargos e Benefícios Anuais, Mensais e Diários
A33: Submódulo 2.1 – 13º (décimo terceiro) Salário e Adicional de Férias
A34: 2.1 | B34: 13º (décimo terceiro) Salário e Adicional de Férias | J34: Valor (R$)
A35: A | B35: 13º (décimo terceiro) Salário Obrigatória a cotação de 8,33% sobre o valor do Módulo 1 – Composição da Remuneração, conforme Anexo XII da IN 5/17 | I35: 0.0833 | J35: =ROUND($J$30*I35,2) -> 148.29
A36: B | B36: Adicional de Férias Obrigatória a cotação de 3,025% sobre o valor do Módulo 1 – Composição da Remuneração, conforme Anexo XII da IN 5/17 (Férias + Adicional = 9,075% + 3,025% = 12,10%) | I36: 0.03025 | J36: =ROUND($J$30*I36,2) -> 53.85
A37: Total | J37: =SUM(J35+J36) -> 202.14
A38: C | B38: Incidência dos encargos do Submódulo 2.2 sobre o total do Submódulo 2.1 | J38: =ROUND(I51*J37,2) -> 74.39
A39: Total | J39: =J37+J38 -> 276.53
A41: Submódulo 2.2 - Encargos Previdenciários (GPS), Fundo de Garantia por Tempo de Serviço (FGTS) e outras contribuições
A42: 2.2 | B42: GPS, FGTS e outras contribuições | I42: Percentual (%) | J42: Valor (R$)
A43: A | B43: INSS | I43: 0.2 | J43: =ROUND($J$30*I43,2) -> 356.04
A44: B | B44: Salário Educação | I44: 0.025 | J44: =ROUND($J$30*I44,2) -> 44.51
A45: C | B45: RAT x FAP | E45: RAT = | F45: 0.03 | G45: FAP = | H45: 1 | I45: =ROUND((F45*H45),6) -> 0.03 | J45: =ROUND($J$30*I45,2) -> 53.41
...

Sheet Aux. Manut. Pred. - Lajeado
A1: LEI 14.133/2021 - LAJEADO
A2: Aux. Manutenção Predial - Regime de Tributação: Lucro Real
A3: ANEXO ---- do Pregão nº XX/2024 – CONTA VINCULADA PLANILHA DE CUSTOS E FORMAÇÃO DE PREÇOS
A4: Nº do processo: | H4: xxxxx
A5: Licitação nº:
A6: Dia:
A7: DISCRIMINAÇÃO DOS SERVIÇOS (DADOS REFERENTES À CONTRATAÇÃO)
A8: A | B8: Data de apresentação da proposta (dia/mês/ano)
A9: B | B9: Município/UF | H9: Lajeado/RS
A10: C | B10: Ano do Acordo, Convenção ou Dissídio Coletivo | H10: CONVENÇÃO COLETIVA DE TRABALHO 2024 - MTE: RS004919/2023
A11: D | B11: Número de meses de execução contratual [Para efeito da análise dos Custos Não Renováveis (Analisar a exclusão dos CNR anualmente, em cada repactuação)] | H11: 60
A13: 1. MÓDULOS Mão de obra Mão de obra vinculada à execução contratual
A15: Dados para composição dos custos referente à mão de obra
A16: 1 | B16: Tipo de Serviço (mesmo serviço com características distintas) | H16: Manutenção Predial
A17: 2 | B17: Classificação Brasileira de Ocupações (CBO) | H17: 5143-10
A18: 3 | B18: Salário Normativo da Categoria Profissional - para a jornada de 44 h/sem | H18: 1540.51
A19: 4 | B19: Categoria Profissional (vinculada à execução contratual) | H19: Auxiliar de Manutenção Predial
A20: 5 | B20: Data-Base da Categoria (dia/mês/ano) | H20: 1º de janeiro de 2024
A22: Módulo 1: Composição da Remuneração
A23: 1 | B23: Composição da Remuneração | H23: Percentual (R$) | J23: Valor (R$)
A24: A | B24: Salário-Base (25h/semana) | J24: =ROUND(((25/6)*30)*(H18/220),2) -> 875.29
A25: B | B25: Adicional de Periculosidade | I25: 0 | J25: =ROUND(I25*J24,2) -> 0
A26: C | B26: Adicional Noturno
A27: D | B27: Adicional de Hora Noturna Reduzida
A28: E | B28: Adicional de Hora Extra no Feriado Trabalhado
A29: B | B29: Adicional de Insalubridade | I29: 0 | J29: =ROUND(I29*J24,2) -> 0
A30: Total | J30: =SUM(J24:J29) -> 875.29
A32: Módulo 2 – Encargos e Benefícios Anuais, Mensais e Diários
A33: Submódulo 2.1 – 13º (décimo terceiro) Salário e Adicional de Férias
A34: 2.1 | B34: 13º (décimo terceiro) Salário e Adicional de Férias | J34: Valor (R$)
A35: A | B35: 13º (décimo terceiro) Salário Obrigatória a cotação de 8,33% sobre o valor do Módulo 1 – Composição da Remuneração, conforme Anexo XII da IN 5/17 | I35: 0.0833 | J35: =ROUND($J$30*I35,2) -> 72.91
A36: B | B36: Adicional de Férias Obrigatória a cotação de 3,025% sobre o valor do Módulo 1 – Composição da Remuneração, conforme Anexo XII da IN 5/17 (Férias + Adicional = 9,075% + 3,025% = 12,10%) | I36: 0.03025 | J36: =ROUND($J$30*I36,2) -> 26.48
A37: Total | J37: =SUM(J35+J36) -> 99.39
A38: C | B38: Incidência dos encargos do Submódulo 2.2 sobre o total do Submódulo 2.1 | J38: =ROUND(I51*J37,2) -> 36.58
A39: Total | J39: =J37+J38 -> 135.97
A41: Submódulo 2.2 - Encargos Previdenciários (GPS), Fundo de Garantia por Tempo de Serviço (FGTS) e outras contribuições
A42: 2.2 | B42: GPS, FGTS e outras contribuições | I42: Percentual (%) | J42: Valor (R$)
A43: A | B43: INSS | I43: 0.2 | J43: =ROUND($J$30*I43,2) -> 175.06
A44: B | B44: Salário Educação | I44: 0.025 | J44: =ROUND($J$30*I44,2) -> 21.88
A45: C | B45: RAT x FAP | E45: RAT = | F45: 0.03 | G45: FAP = | H45: 1 | I45: =ROUND((F45*H45),6) -> 0.03 | J45: =ROUND($J$30*I45,2) -> 26.26
...

Sheet Jardinagem - Lajeado
A1: LEI 14.133/2021 - LAJEADO
A2: Jardinagem - Regime de Tributação: Lucro Real
A3: ANEXO ---- do Pregão nº XX/2024 – CONTA VINCULADA PLANILHA DE CUSTOS E FORMAÇÃO DE PREÇOS
A4: Nº do processo: | H4: xxxxx
A5: Licitação nº:
A6: Dia:
A7: DISCRIMINAÇÃO DOS SERVIÇOS (DADOS REFERENTES À CONTRATAÇÃO)
A8: A | B8: Data de apresentação da proposta (dia/mês/ano)
A9: B | B9: Município/UF | H9: Lajeado/RS
A10: C | B10: Ano do Acordo, Convenção ou Dissídio Coletivo | H10: CONVENÇÃO COLETIVA DE TRABALHO 2024 - MTE: RS004919/2023
A11: D | B11: Número de meses de execução contratual [Para efeito da análise dos Custos Não Renováveis (Analisar a exclusão dos CNR anualmente, em cada repactuação)] | H11: 60
A13: 1. MÓDULOS Mão de obra Mão de obra vinculada à execução contratual
A15: Dados para composição dos custos referente à mão de obra
A16: 1 | B16: Tipo de Serviço (mesmo serviço com características distintas) | H16: Jardinagem
A17: 2 | B17: Classificação Brasileira de Ocupações (CBO) | H17: 1578123
A18: 3 | B18: Salário Normativo da Categoria Profissional - para a jornada de 44 h/sem | H18: 1540.51
A19: 4 | B19: Categoria Profissional (vinculada à execução contratual) | H19: Jardineiro(a)
A20: 5 | B20: Data-Base da Categoria (dia/mês/ano) | H20: 1º de janeiro de 2024
A22: Módulo 1: Composição da Remuneração
A23: 1 | B23: Composição da Remuneração | H23: Percentual (R$) | J23: Valor (R$)
A24: A | B24: Salário-Base (valor para somente 1 Jardineiro/a - 25h/semana) | J24: =ROUND(((25/6)*30)*(H18/220),2) -> 875.29
A25: B | B25: Adicional de Periculosidade | I25: 0 | J25: =ROUND(I25*J24,2) -> 0
A26: C | B26: Adicional Noturno
A27: D | B27: Adicional de Hora Noturna Reduzida
A28: E | B28: Adicional de Hora Extra no Feriado Trabalhado
A29: B | B29: Adicional de Insalubridade | I29: 0.2 | J29: =ROUND(I29*J24,2) -> 175.06
A30: Total | J30: =SUM(J24:J29) -> 1050.35
A32: Módulo 2 – Encargos e Benefícios Anuais, Mensais e Diários
A33: Submódulo 2.1 – 13º (décimo terceiro) Salário e Adicional de Férias
A34: 2.1 | B34: 13º (décimo terceiro) Salário e Adicional de Férias | J34: Valor (R$)
A35: A | B35: 13º (décimo terceiro) Salário Obrigatória a cotação de 8,33% sobre o valor do Módulo 1 – Composição da Remuneração, conforme Anexo XII da IN 5/17 | I35: 0.0833 | J35: =ROUND($J$30*I35,2) -> 87.49
A36: B | B36: Adicional de Férias Obrigatória a cotação de 3,025% sobre o valor do Módulo 1 – Composição da Remuneração, conforme Anexo XII da IN 5/17 (Férias + Adicional = 9,075% + 3,025% = 12,10%) | I36: 0.03025 | J36: =ROUND($J$30*I36,2) -> 31.77
A37: Total | J37: =SUM(J35+J36) -> 119.26
A38: C | B38: Incidência dos encargos do Submódulo 2.2 sobre o total do Submódulo 2.1 | J38: =ROUND(I51*J37,2) -> 43.89
A39: Total | J39: =J37+J38 -> 163.15
A41: Submódulo 2.2 - Encargos Previdenciários (GPS), Fundo de Garantia por Tempo de Serviço (FGTS) e outras contribuições
A42: 2.2 | B42: GPS, FGTS e outras contribuições | I42: Percentual (%) | J42: Valor (R$)
A43: A | B43: INSS | I43: 0.2 | J43: =ROUND($J$30*I43,2) -> 210.07
A44: B | B44: Salário Educação | I44: 0.025 | J44: =ROUND($J$30*I44,2) -> 26.26
A45: C | B45: RAT x FAP | E45: RAT = | F45: 0.03 | G45: FAP = | H45: 1 | I45: =ROUND((F45*H45),6) -> 0.03 | J45: =ROUND($J$30*I45,2) -> 31.51
...

Sheet SG-Oficial de Manut. Pred
A1: LEI 14.133/2021 - SAPIRANGA
A2: Oficial de Manutenção Predial - Regime de Tributação: Lucro Real
A3: ANEXO ---- do Pregão nº XX/2024 – CONTA VINCULADA PLANILHA DE CUSTOS E FORMAÇÃO DE PREÇOS
A4: Nº do processo: | H4: xxxxx
A5: Licitação nº:
A6: Dia:
A7: DISCRIMINAÇÃO DOS SERVIÇOS (DADOS REFERENTES À CONTRATAÇÃO)
A8: A | B8: Data de apresentação da proposta (dia/mês/ano)
A9: B | B9: Município/UF | H9: Sapiranga/RS
A10: C | B10: Ano do Acordo, Convenção ou Dissídio Coletivo | H10: CONVENÇÃO COLETIVA DE TRABALHO 2024 - MTE RS000238/2024
A11: D | B11: Número de meses de execução contratual [Para efeito da análise dos Custos Não Renováveis (Analisar a exclusão dos CNR anualmente, em cada repactuação)] | H11: 60
A13: 1. MÓDULOS Mão de obra Mão de obra vinculada à execução contratual
A15: Dados para composição dos custos referente à mão de obra
A16: 1 | B16: Tipo de Serviço (mesmo serviço com características distintas) | H16: Manutenção Predial
A17: 2 | B17: Classificação Brasileira de Ocupações (CBO) | H17: 5143-25
A18: 3 | B18: Salário Normativo da Categoria Profissional - para a jornada de 44 h/sem | H18: =9.31*220 -> 2048.2
A19: 4 | B19: Categoria Profissional (vinculada à execução contratual) | H19: Oficial de Manutenção Predial
A20: 5 | B20: Data-Base da Categoria (dia/mês/ano) | H20: 1º de janeiro de 2024
A22: Módulo 1: Composição da Remuneração
A23: 1 | B23: Composição da Remuneração | H23: Percentual (R$) | J23: Valor (R$)
A24: A | B24: Salário-Base (25h/semana) | J24: =ROUND(((25/6)*30)*(H18/220),2) -> 1163.75
A25: B | B25: Adicional de Periculosidade | I25: 0.3 | J25: =ROUND(I25*J24,2) -> 349.13
A26: C | B26: Adicional Noturno
A27: D | B27: Adicional de Hora Noturna Reduzida
A28: E | B28: Adicional de Hora Extra no Feriado Trabalhado
A29: B | B29: Adicional de Insalubridade | I29: 0 | J29: =ROUND(I29*J24,2) -> 0
A30: Total | J30: =SUM(J24:J29) -> 1512.88
A32: Módulo 2 – Encargos e Benefícios Anuais, Mensais e Diários
A33: Submódulo 2.1 – 13º (décimo terceiro) Salário e Adicional de Férias
A34: 2.1 | B34: 13º (décimo terceiro) Salário e Adicional de Férias | J34: Valor (R$)
A35: A | B35: 13º (décimo terceiro) Salário Obrigatória a cotação de 8,33% sobre o valor do Módulo 1 – Composição da Remuneração, conforme Anexo XII da IN 5/17 | I35: 0.0833 | J35: =ROUND($J$30*I35,2) -> 126.02
A36: B | B36: Adicional de Férias Obrigatória a cotação de 3,025% sobre o valor do Módulo 1 – Composição da Remuneração, conforme Anexo XII da IN 5/17 (Férias + Adicional = 9,075% + 3,025% = 12,10%) | I36: 0.03025 | J36: =ROUND($J$30*I36,2) -> 45.76
A37: Total | J37: =SUM(J35+J36) -> 171.78
A38: C | B38: Incidência dos encargos do Submódulo 2.2 sobre o total do Submódulo 2.1 | J38: =ROUND(I51*J37,2) -> 63.22
A39: Total | J39: =J37+J38 -> 235
A41: Submódulo 2.2 - Encargos Previdenciários (GPS), Fundo de Garantia por Tempo de Serviço (FGTS) e outras contribuições
A42: 2.2 | B42: GPS, FGTS e outras contribuições | I42: Percentual (%) | J42: Valor (R$)
A43: A | B43: INSS | I43: 0.2 | J43: =ROUND($J$30*I43,2) -> 302.58
A44: B | B44: Salário Educação | I44: 0.025 | J44: =ROUND($J$30*I44,2) -> 37.82
A45: C | B45: RAT x FAP | E45: RAT = | F45: 0.03 | G45: FAP = | H45: 1 | I45: =ROUND((F45*H45),6) -> 0.03 | J45: =ROUND($J$30*I45,2) -> 45.39
...

Sheet SG-Jardinagem
A1: LEI 14.133/2021 - SAPIRANGA
A2: Jardinagem - Regime de Tributação: Lucro Real
A3: ANEXO ---- do Pregão nº XX/2024 – CONTA VINCULADA PLANILHA DE CUSTOS E FORMAÇÃO DE PREÇOS
A4: Nº do processo: | H4: xxxxx
A5: Licitação nº:
A6: Dia:
A7: DISCRIMINAÇÃO DOS SERVIÇOS (DADOS REFERENTES À CONTRATAÇÃO)
A8: A | B8: Data de apresentação da proposta (dia/mês/ano)
A9: B | B9: Município/UF | H9: Sapiranga/RS
A10: C | B10: Ano do Acordo, Convenção ou Dissídio Coletivo | H10: CONVENÇÃO COLETIVA DE TRABALHO 2024 - MTE: RS000045/2024
A11: D | B11: Número de meses de execução contratual [Para efeito da análise dos Custos Não Renováveis (Analisar a exclusão dos CNR anualmente, em cada repactuação)] | H11: 60
A13: 1. MÓDULOS Mão de obra Mão de obra vinculada à execução contratual
A15: Dados para composição dos custos referente à mão de obra
A16: 1 | B16: Tipo de Serviço (mesmo serviço com características distintas) | H16: Jardinagem
A17: 2 | B17: Classificação Brasileira de Ocupações (CBO) | H17: 1578123
A18: 3 | B18: Salário Normativo da Categoria Profissional - para a jornada de 44 h/sem | H18: 1540.51
A19: 4 | B19: Categoria Profissional (vinculada à execução contratual) | H19: Jardineiro(a)
A20: 5 | B20: Data-Base da Categoria (dia/mês/ano) | H20: 1º de janeiro de 2024
A22: Módulo 1: Composição da Remuneração
A23: 1 | B23: Composição da Remuneração | H23: Percentual (R$) | J23: Valor (R$)
A24: A | B24: Salário-Base (valor para somente 1 Jardineiro/a - 25h/semana) | J24: =ROUND(((25/6)*30)*(H18/220),2) -> 875.29
A25: B | B25: Adicional de Periculosidade | I25: 0 | J25: =ROUND(I25*J24,2) -> 0
A26: C | B26: Adicional Noturno
A27: D | B27: Adicional de Hora Noturna Reduzida
A28: E | B28: Adicional de Hora Extra no Feriado Trabalhado
A29: B | B29: Adicional de Insalubridade | I29: 0.2 | J29: =ROUND(I29*J24,2) -> 175.06
A30: Total | J30: =SUM(J24:J29) -> 1050.35
A32: Módulo 2 – Encargos e Benefícios Anuais, Mensais e Diários
A33: Submódulo 2.1 – 13º (décimo terceiro) Salário e Adicional de Férias
A34: 2.1 | B34: 13º (décimo terceiro) Salário e Adicional de Férias | J34: Valor (R$)
A35: A | B35: 13º (décimo terceiro) Salário Obrigatória a cotação de 8,33% sobre o valor do Módulo 1 – Composição da Remuneração, conforme Anexo XII da IN 5/17 | I35: 0.0833 | J35: =ROUND($J$30*I35,2) -> 87.49
A36: B | B36: Adicional de Férias Obrigatória a cotação de 3,025% sobre o valor do Módulo 1 – Composição da Remuneração, conforme Anexo XII da IN 5/17 (Férias + Adicional = 9,075% + 3,025% = 12,10%) | I36: 0.03025 | J36: =ROUND($J$30*I36,2) -> 31.77
A37: Total | J37: =SUM(J35+J36) -> 119.26
A38: C | B38: Incidência dos encargos do Submódulo 2.2 sobre o total do Submódulo 2.1 | J38: =ROUND(I51*J37,2) -> 43.89
A39: Total | J39: =J37+J38 -> 163.15
A41: Submódulo 2.2 - Encargos Previdenciários (GPS), Fundo de Garantia por Tempo de Serviço (FGTS) e outras contribuições
A42: 2.2 | B42: GPS, FGTS e outras contribuições | I42: Percentual (%) | J42: Valor (R$)
A43: A | B43: INSS | I43: 0.2 | J43: =ROUND($J$30*I43,2) -> 210.07
A44: B | B44: Salário Educação | I44: 0.025 | J44: =ROUND($J$30*I44,2) -> 26.26
A45: C | B45: RAT x FAP | E45: RAT = | F45: 0.03 | G45: FAP = | H45: 1 | I45: =ROUND((F45*H45),6) -> 0.03 | J45: =ROUND($J$30*I45,2) -> 31.51
...

Sheet INSUMOS - Gravataí
A1: QUADRO INSUMOS DOS MATERIAIS, EQUIPAMENTOS E UNIFORMES
A2: GRAVATAÍ
A3: Quantitativo para 12 meses
A4: Oficial de Manutenção Predial
A5: DESCRIÇÃO DOS MATERIAIS | B5: UNIDADE | C5: QUANTIDADE ANUAL | D5: VALOR UNITÁRIO | E5: CUSTO ANUAL
A6: Alicate de bico isolado | B6: Unidade | C6: 1 | D6: 20.49 | E6: =C6*D6 -> 20.49
A7: Alicate de corte isolado | B7: Unidade | C7: 1 | D7: 31.05 | E7: =C7*D7 -> 31.05
A8: Alicate universal isolado 8” padrão VDE 1000V | B8: Unidade | C8: 1 | D8: 42.87 | E8: =C8*D8 -> 42.87
A9: Masseira plástica para argamassa | B9: Unidade | C9: 1 | D9: 18.76 | E9: =C9*D9 -> 18.76
A10: Balde de pedreiro plástico | B10: Unidade | C10: 1 | D10: 19.96 | E10: =C10*D10 -> 19.96
A11: Carrinho de mão | B11: Unidade | C11: 1 | D11: 163.49 | E11: =C11*D11 -> 163.49
A12: Chave de teste elétrico, isolada | B12: Unidade | C12: 1 | D12: 20.64 | E12: =C12*D12 -> 20.64
A13: Colher de pedreiro | B13: Unidade | C13: 1 | D13: 19.94 | E13: =C13*D13 -> 19.94
A14: Corda trançada, diâmetro 12mm, mínimo 20m | B14: Unidade | C14: 1 | D14: 67.93 | E14: =C14*D14 -> 67.93
A15: Jogo chave fenda chata isolada | B15: Conjunto | C15: 1 | D15: 148.77 | E15: =C15*D15 -> 148.77
A16: Jogo chave fenda cruzada isolada | B16: Conjunto | C16: 1 | D16: 105.12 | E16: =C16*D16 -> 105.12
A17: Conjunto de brocas para concreto, mínimo 5 peças, bitolas de 4, 5, 6, 8 e 10 mm | B17: Conjunto | C17: 4 | D17: 27.73 | E17: =C17*D17 -> 110.92
... A55: Trincha | B55: Unidade | C55: 1 | D55: 8.9 | E55: =C55*D55 -> 8.9
A56: CUSTO ANUAL DOS MATERIAIS | E56: =SUM(E6:E55) -> 4692.94
A57: CUSTO MENSAL DOS MATERIAIS | E57: =E56/12 -> 391.07833
A59: DESCRIÇÃO ESPECÍFICOS (PINTURA) | B59: UNIDADE | C59: QUANTIDADE ANUAL | D59: QUANTIDADE POR PEDIDO | E59: QUANTIDADE TOTAL (duas vezes durante a vigência do contrato) | F59: VALOR UNITÁRIO | G59: CUSTO ANUAL
A60: Tinta acrílica emborrachada, de primeira linha, qualificada pela ABRAFATI, que atenda a NBR 11702/2010, com elasticidade para acompanhar a movimentação natural das trincas e fissuras existentes, marca Suvinil (Proteção Total) ou similar. Cores uva verde, vitral, verde paraíso, verde bucólico, palha, pérola aveludada, concreto, branco gelo e branco neve ou outra tinta similar (a depender da atualização da nomenclatura da paleta de cores do fabricante), acabamento fosco. Inclui a pintura de muros cegos. As tonalidades das tintas a serem utilizadas deverão ser aprovadas pela Diretoria de Projetos e Obras. Será necessária a preparação da superfície com o uso de uma demão de fundo preparador do mesmo fabricante da tinta e específico para o tipo de tinta utilizada - não considerado no quantitativo. A pintura deverá ser feita com aplicação de no mínimo três demãos ou quantas mais forem necessárias para um perfeito cobrimento da tinta, com diluição recomendada pelo fabricante. Deverá ser utilizada fita de papel gomado para acabamento, tomando-se o cuidado para não haver respingos em outras paredes, pisos ou aberturas. O ambiente deverá ser entregue limpo e organizado ao final da pintura. Fornecimento de material para pintura, incluindo todas as tintas, pincéis, rolos, lixas, desempenadeiras, espátulas, andaimes, telas para proteção de fachadas, lonas plásticas, equipamentos de proteção individual e coletiva e quaisquer outros materiais ou equipamentos que se fizerem necessários para a completa execução do serviço, tudo por conta da CONTRATADA. | B60: Lata 18L | C60: =E60/5 -> 24.8 | D60: 62 | E60: =D60*2 -> 124 | F60: 569.58 | G60: =F60*C60 -> 14125.584
A61: Tinta acrílica emborrachada, de primeira linha, qualificada pela ABRAFATI, que atenda a NBR 11702/2010, com elasticidade para acompanhar a movimentação natural das trincas e fissuras existentes, marca Suvinil (Proteção Total) ou similar. Cores vermelho, vermelho-contemporâneo, vermelho-escarlate, vermelho-jalapeño ou outra tonalidade similar (a depender da atualização da nomenclatura da paleta de cores do fabricante), acabamento fosco. As tonalidades das tintas a serem utilizadas deverão ser aprovadas pela Diretoria de Projetos e Obras. Será necessária a preparação da superfície com o uso de uma demão de fundo preparador do mesmo fabricante da tinta e específico para o tipo de tinta utilizada - não considerado no quantitativo. A pintura deverá ser feita com aplicação de no mínimo três demãos ou quantas mais forem necessárias para um perfeito cobrimento da tinta, com diluição recomendada pelo fabricante. Deverá ser utilizada fita de papel gomado para acabamento, tomando-se o cuidado para não haver respingos em outras paredes, pisos ou aberturas. O ambiente deverá ser entregue limpo e organizado ao final da pintura. Fornecimento de material para pintura, incluindo todas as tintas, pincéis, rolos, lixas, desempenadeiras, espátulas, andaimes, telas para proteção de fachadas, lonas plásticas, equipamentos de proteção individual e coletiva e quaisquer outros materiais ou equipamentos que se fizerem necessários para a completa execução do serviço, tudo por conta da CONTRATADA. | B61: Lata 3,6L | C61: =E61/5 -> 0.4 | D61: 1 | E61: =D61*2 -> 2 | F61: 208.9 | G61: =F61*C61 -> 83.56
A62: Tinta esmalte sintético à base de água para serviço de pintura de elementos de madeira (portas, janelas, beirais, etc), de primeira linha, qualificada pela ABRAFATI, que atenda a NBR 11702/2010, marca Suvinil ou similar. Método de aplicação com rolo/pincel e/ou pistola. Aplicação externa. Cores uva verde, vitral, verde paraíso, verde bucólico, palha, pérola aveludada, branco neve e branco gelo ou outra tonalidade similar (a depender da atualização da nomenclatura da paleta de cores do fabricante), semibrilho. A pintura deverá ser feita com aplicação de no mínimo duas demãos de tinta, ou até a efetiva colorização e cobrimento da superfície dos elementos de madeira. Deverá ser utilizada fita de papel gomado para acabamento, tomando-se o cuidado para não haver respingos em outras paredes, pisos ou aberturas. Previamente à pintura, deverá ser realizado o lixamento, correção das massas de vidro (massa vidraceiro) e a limpeza dos elementos de madeira, como também a correção de imperfeições e/ou rachaduras com uso massa apropriada. Após o lixamento, aplicar uma demão de fundo preparador do mesmo fabricante da tinta e específico para o tipo de tinta utilizada - não considerado no quantitativo. O ambiente deverá ser entregue limpo e organizado ao final da pintura. Fornecimento de material, incluindo todas as tintas, pincéis, rolos, lixas, desempenadeiras, espátulas, compressores, pistolas, cabos e equipamentos elétricos, andaimes, lonas plásticas, equipamentos de proteção individual e coletiva e quaisquer outros materiais ou equipamentos que se fizerem necessários para a completa execução do serviço, tudo por conta da CONTRATADA. | B62: Lata 3,6L | C62: =E62/5 -> 0.4 | D62: 1 | E62: =D62*2 -> 2 | F62: 139.76 | G62: =C62*F62 -> 55.904
A63: Tinta esmalte sintético à base de solvente para serviço de pintura de elementos metálicos (estruturas metálicas - reservatório, grades de proteção, calhas de beiral, portas, janelas, portões, corrimãos, escada de marinheiro, passarela coberta, guarda-corpo, estruturas metálicas das salas modulares, etc), de primeira linha, qualificada pela ABRAFATI, que atenda a NBR 11702/2010, marca Suvinil ou similar. Método de aplicação com rolo/pincel e/ou pistola. Aplicação externa. Cor branco, verde, cinza, marrom, preto e vermelho ou outra tonalidade similar (a depender da atualização da nomenclatura da paleta de cores do fabricante), semibrilho. A pintura deverá ser feita com aplicação de no mínimo duas demãos de tinta, ou até a efetiva colorização e cobrimento da superfície dos elementos metálicos. Deverá ser utilizada fita de papel gomado para acabamento, tomando-se o cuidado para não haver respingos em outras paredes, pisos ou aberturas. Previamente à pintura, deverá ser realizado o lixamento e limpeza dos elementos metálicos, atentando para a remoção completa da ferrugem. Após o lixamento, aplicar uma demão de fundo a base de cromato de zinco específico para superfícies metálicas (função anticorrosiva) ou convertedor de ferrugem TF-7 (se for o caso) - não considerado no quantitativo. O ambiente deverá ser entregue limpo e organizado ao final da pintura. Fornecimento de material, incluindo todas as tintas, pincéis, rolos, lixas, desempenadeiras, espátulas, compressores, pistolas, cabos e equipamentos elétricos, andaimes, lonas plásticas, equipamentos de proteção individual e coletiva e quaisquer outros materiais ou equipamentos que se fizerem necessários para a completa execução do serviço, tudo por conta da CONTRATADA. | B63: Lata 3,6L | C63: =E63/5 -> 6 | D63: 15 | E63: =D63*2 -> 30 | F63: 153.6 | G63: =C63*F63 -> 921.6
A64: CUSTO ANUAL DOS MATERIAIS | G64: =SUM(G60:G63) -> 15186.648
A65: CUSTO MENSAL DOS MATERIAIS | G65: =G64/12 -> 1265.554
A67: EQUIPAMENTOS | B67: UNIDADE | C67: QUANTIDADE A DISPONIBILIZAR | D67: DEPRECIAÇÃO (em meses) | E67: QUANTIDADE ANUAL | F67: VALOR UNITÁRIO | G67: CUSTO ANUAL
A68: Carro de transporte de carga com 2 rodas formato L, carga de no mínimo 400KG | B68: Unidade | C68: 1 | D68: 60 | E68: =12/D68*C68 -> 0.2 | F68: 856.5 | G68: =E68*F68 -> 171.3
A69: Escada Articulada de, no mínimo, 12 degraus | B69: Unidade | C69: 1 | D69: 30 | E69: =12/D69*C69 -> 0.4 | F69: 659.85 | G69: =E69*F69 -> 263.94
A70: Esmerilhadeira 850W | B70: Unidade | C70: 1 | D70: 24 | E70: =12/D70*C70 -> 0.5 | F70: 425.12 | G70: =E70*F70 -> 212.56
A71: Lixadeira orbital 350W | B71: Unidade | C71: 1 | D71: 24 | E71: =12/D71*C71 -> 0.5 | F71: 336.35 | G71: =E71*F71 -> 168.175
A72: Parafusadeira Elétrica a bateria 18V | B72: Unidade | C72: 1 | D72: 30 | E72: =12/D72*C72 -> 0.4 | F72: 906 | G72: =E72*F72 -> 362.4
A73: Furadeira mínimo 600W | B73: Unidade | C73: 1 | D73: 24 | E73: =12/D73*C73 -> 0.5 | F73: 375.34 | G73: =E73*F73 -> 187.67
A74: Serra Tico Tico mínimo 550W | B74: Unidade | C74: 1 | D74: 30 | E74: =12/D74*C74 -> 0.4 | F74: 471.3 | G74: =E74*F74 -> 188.52
A75: Serra circular mínimo 1500W | B75: Unidade | C75: 1 | D75: 30 | E75: =12/D75*C75 -> 0.4 | F75: 569.83 | G75: =E75*F75 -> 227.932
A76: Inversor de solda portátil | B76: Unidade | C76: 1 | D76: 30 | E76: =12/D76*C76 -> 0.4 | F76: 505.23 | G76: =E76*F76 -> 202.092
A77: Lavadora De Alta Pressão | B77: Unidade | C77: 1 | D77: 30 | E77: =12/D77*C77 -> 0.4 | F77: 540.74 | G77: =E77*F77 -> 216.296
A78: CUSTO ANUAL DOS EQUIPAMENTOS | G78: =SUM(G68:G77) -> 2200.885
A79: CUSTO MENSAL DOS EQUIPAMENTOS | G79: =G78/12 -> 183.40708
...

Sheet INSUMOS - Lajeado
A1: QUADRO INSUMOS DOS MATERIAIS, EQUIPAMENTOS E UNIFORMES
A2: LAJEADO
A3: Quantitativo para 12 meses
A4: Oficial de Manutenção Predial
A5: DESCRIÇÃO DOS MATERIAIS | B5: UNIDADE | C5: QUANTIDADE ANUAL | D5: VALOR UNITÁRIO | E5: CUSTO ANUAL
A6: Alicate de bico isolado | B6: Unidade | C6: 1 | D6: 20.49 | E6: =C6*D6 -> 20.49
A7: Alicate de corte isolado | B7: Unidade | C7: 1 | D7: 31.05 | E7: =C7*D7 -> 31.05
A8: Alicate universal isolado 8” padrão VDE 1000V | B8: Unidade | C8: 1 | D8: 42.87 | E8: =C8*D8 -> 42.87
A9: Masseira plástica para argamassa | B9: Unidade | C9: 1 | D9: 18.76 | E9: =C9*D9 -> 18.76
A10: Balde de pedreiro plástico | B10: Unidade | C10: 1 | D10: 19.96 | E10: =C10*D10 -> 19.96
A11: Carrinho de mão | B11: Unidade | C11: 1 | D11: 163.49 | E11: =C11*D11 -> 163.49
A12: Chave de teste elétrico, isolada | B12: Unidade | C12: 1 | D12: 20.64 | E12: =C12*D12 -> 20.64
A13: Colher de pedreiro | B13: Unidade | C13: 1 | D13: 19.94 | E13: =C13*D13 -> 19.94
A14: Corda trançada, diâmetro 12mm, mínimo 20m | B14: Unidade | C14: 1 | D14: 67.93 | E14: =C14*D14 -> 67.93
A15: Jogo chave fenda chata isolada | B15: Conjunto | C15: 1 | D15: 148.77 | E15: =C15*D15 -> 148.77
A16: Jogo chave fenda cruzada isolada | B16: Conjunto | C16: 1 | D16: 105.12 | E16: =C16*D16 -> 105.12
A17: Conjunto de brocas para concreto, mínimo 5 peças, bitolas de 4, 5, 6, 8 e 10 mm | B17: Conjunto | C17: 4 | D17: 27.73 | E17: =C17*D17 -> 110.92
... A55: Trincha | B55: Unidade | C55: 1 | D55: 8.9 | E55: =C55*D55 -> 8.9
A56: CUSTO ANUAL DOS MATERIAIS | E56: =SUM(E6:E55) -> 4692.94
A57: CUSTO MENSAL DOS MATERIAIS | E57: =E56/12 -> 391.07833
A59: DESCRIÇÃO ESPECÍFICOS (PINTURA) | B59: UNIDADE | C59: QUANTIDADE ANUAL | D59: QUANTIDADE POR PEDIDO | E59: QUANTIDADE TOTAL (duas vezes durante a vigência do contrato) | F59: VALOR UNITÁRIO | G59: CUSTO ANUAL
A60: Tinta acrílica emborrachada, de primeira linha, qualificada pela ABRAFATI, que atenda a NBR 11702/2010, com elasticidade para acompanhar a movimentação natural das trincas e fissuras existentes, marca Suvinil (Proteção Total) ou similar. Cores uva verde, vitral, verde paraíso, verde bucólico, palha, pérola aveludada, concreto, branco gelo e branco neve ou outra tinta similar (a depender da atualização da nomenclatura da paleta de cores do fabricante), acabamento fosco. Inclui a pintura de muros cegos. As tonalidades das tintas a serem utilizadas deverão ser aprovadas pela Diretoria de Projetos e Obras. Será necessária a preparação da superfície com o uso de uma demão de fundo preparador do mesmo fabricante da tinta e específico para o tipo de tinta utilizada - não considerado no quantitativo. A pintura deverá ser feita com aplicação de no mínimo três demãos ou quantas mais forem necessárias para um perfeito cobrimento da tinta, com diluição recomendada pelo fabricante. Deverá ser utilizada fita de papel gomado para acabamento, tomando-se o cuidado para não haver respingos em outras paredes, pisos ou aberturas. O ambiente deverá ser entregue limpo e organizado ao final da pintura. Fornecimento de material para pintura, incluindo todas as tintas, pincéis, rolos, lixas, desempenadeiras, espátulas, andaimes, telas para proteção de fachadas, lonas plásticas, equipamentos de proteção individual e coletiva e quaisquer outros materiais ou equipamentos que se fizerem necessários para a completa execução do serviço, tudo por conta da CONTRATADA. | B60: Lata 18L | C60: =E60/5 -> 20 | D60: 50 | E60: =D60*2 -> 100 | F60: 569.58 | G60: =F60*C60 -> 11391.6
A61: Tinta esmalte sintético à base de água para serviço de pintura de elementos de madeira (portas, janelas, beirais, etc), de primeira linha, qualificada pela ABRAFATI, que atenda a NBR 11702/2010, marca Suvinil ou similar. Método de aplicação com rolo/pincel e/ou pistola. Aplicação externa. Cores uva verde, vitral, verde paraíso, verde bucólico, palha, pérola aveludada, branco neve e branco gelo ou outra tonalidade similar (a depender da atualização da nomenclatura da paleta de cores do fabricante), semibrilho. A pintura deverá ser feita com aplicação de no mínimo duas demãos de tinta, ou até a efetiva colorização e cobrimento da superfície dos elementos de madeira. Deverá ser utilizada fita de papel gomado para acabamento, tomando-se o cuidado para não haver respingos em outras paredes, pisos ou aberturas. Previamente à pintura, deverá ser realizado o lixamento, correção das massas de vidro (massa vidraceiro) e a limpeza dos elementos de madeira, como também a correção de imperfeições e/ou rachaduras com uso massa apropriada. Após o lixamento, aplicar uma demão de fundo preparador do mesmo fabricante da tinta e específico para o tipo de tinta utilizada - não considerado no quantitativo. O ambiente deverá ser entregue limpo e organizado ao final da pintura. Fornecimento de material, incluindo todas as tintas, pincéis, rolos, lixas, desempenadeiras, espátulas, compressores, pistolas, cabos e equipamentos elétricos, andaimes, lonas plásticas, equipamentos de proteção individual e coletiva e quaisquer outros materiais ou equipamentos que se fizerem necessários para a completa execução do serviço, tudo por conta da CONTRATADA. | B61: Lata 3,6L | C61: =E61/5 -> 2 | D61: 5 | E61: =D61*2 -> 10 | F61: 139.76 | G61: =C61*F61 -> 279.52
A62: Tinta esmalte sintético à base de solvente para serviço de pintura de elementos metálicos (estruturas metálicas - reservatório, grades de proteção, calhas de beiral, portas, janelas, portões, corrimãos, escada de marinheiro, passarela coberta, guarda-corpo, estruturas metálicas das salas modulares, etc), de primeira linha, qualificada pela ABRAFATI, que atenda a NBR 11702/2010, marca Suvinil ou similar. Método de aplicação com rolo/pincel e/ou pistola. Aplicação externa. Cor branco, verde, cinza, marrom, preto e vermelho ou outra tonalidade similar (a depender da atualização da nomenclatura da paleta de cores do fabricante), semibrilho. A pintura deverá ser feita com aplicação de no mínimo duas demãos de tinta, ou até a efetiva colorização e cobrimento da superfície dos elementos metálicos. Deverá ser utilizada fita de papel gomado para acabamento, tomando-se o cuidado para não haver respingos em outras paredes, pisos ou aberturas. Previamente à pintura, deverá ser realizado o lixamento e limpeza dos elementos metálicos, atentando para a remoção completa da ferrugem. Após o lixamento, aplicar uma demão de fundo a base de cromato de zinco específico para superfícies metálicas (função anticorrosiva) ou convertedor de ferrugem TF-7 (se for o caso) - não considerado no quantitativo. O ambiente deverá ser entregue limpo e organizado ao final da pintura. Fornecimento de material, incluindo todas as tintas, pincéis, rolos, lixas, desempenadeiras, espátulas, compressores, pistolas, cabos e equipamentos elétricos, andaimes, lonas plásticas, equipamentos de proteção individual e coletiva e quaisquer outros materiais ou equipamentos que se fizerem necessários para a completa execução do serviço, tudo por conta da CONTRATADA. | B62: Lata 3,6L | C62: =E62/5 -> 6 | D62: 15 | E62: =D62*2 -> 30 | F62: 153.6 | G62: =C62*F62 -> 921.6
A63: CUSTO ANUAL DOS MATERIAIS | G63: =SUM(G60:G62) -> 12592.72
A64: CUSTO MENSAL DOS MATERIAIS | G64: =G63/12 -> 1049.3933
A66: EQUIPAMENTOS | B66: UNIDADE | C66: QUANTIDADE A DISPONIBILIZAR | D66: DEPRECIAÇÃO (em meses) | E66: QUANTIDADE ANUAL | F66: VALOR UNITÁRIO | G66: CUSTO ANUAL
A67: Carro de transporte de carga com 2 rodas formato L, carga de no mínimo 400KG | B67: Unidade | C67: 1 | D67: 60 | E67: =12/D67*C67 -> 0.2 | F67: 856.5 | G67: =E67*F67 -> 171.3
A68: Escada Articulada de, no mínimo, 12 degraus | B68: Unidade | C68: 1 | D68: 30 | E68: =12/D68*C68 -> 0.4 | F68: 659.85 | G68: =E68*F68 -> 263.94
A69: Esmerilhadeira 850W | B69: Unidade | C69: 1 | D69: 24 | E69: =12/D69*C69 -> 0.5 | F69: 425.12 | G69: =E69*F69 -> 212.56
A70: Lixadeira orbital 350W | B70: Unidade | C70: 1 | D70: 24 | E70: =12/D70*C70 -> 0.5 | F70: 336.35 | G70: =E70*F70 -> 168.175
A71: Parafusadeira Elétrica a bateria 18V | B71: Unidade | C71: 1 | D71: 30 | E71: =12/D71*C71 -> 0.4 | F71: 906 | G71: =E71*F71 -> 362.4
A72: Furadeira mínimo 600W | B72: Unidade | C72: 1 | D72: 24 | E72: =12/D72*C72 -> 0.5 | F72: 375.34 | G72: =E72*F72 -> 187.67
A73: Serra Tico Tico mínimo 550W | B73: Unidade | C73: 1 | D73: 30 | E73: =12/D73*C73 -> 0.4 | F73: 471.3 | G73: =E73*F73 -> 188.52
A74: CUSTO ANUAL DOS EQUIPAMENTOS | G74: =SUM(G67:G73) -> 1554.565
A75: CUSTO MENSAL DOS EQUIPAMENTOS | G75: =G74/12 -> 129.54708
A77: UNIFORMES | B77: UNIDADE | C77: QUANTIDADE ANUAL | D77: VALOR UNITÁRIO | E77: CUSTO ANUAL
A78: Bota de segurança de couro, antiderrapante, preta | B78: Par | C78: 2 | D78: 161.67 | E78: =C78*D78 -> 323.34
A79: Calça de uniforme, brim, cinza | B79: Unidade | C79: 3 | D79: 81.32 | E79: =C79*D79 -> 243.96
A80: Camiseta de uniforme, algodão, manga curta, cinza | B80: Unidade | C80: 3 | D80: 24.51 | E80: =C80*D80 -> 73.53
...

Sheet INSUMOS - Sapiranga
A1: QUADRO INSUMOS DOS MATERIAIS, EQUIPAMENTOS E UNIFORMES
A2: SAPIRANGA
A3: Quantitativo para 12 meses
A4: Oficial de Manutenção Predial
A5: DESCRIÇÃO DOS MATERIAIS | B5: UNIDADE | C5: QUANTIDADE ANUAL | D5: VALOR UNITÁRIO | E5: CUSTO ANUAL
A6: Alicate de bico isolado | B6: Unidade | C6: 1 | D6: 20.49 | E6: =C6*D6 -> 20.49
A7: Alicate de corte isolado | B7: Unidade | C7: 1 | D7: 31.05 | E7: =C7*D7 -> 31.05
A8: Alicate universal isolado 8” padrão VDE 1000V | B8: Unidade | C8: 1 | D8: 42.87 | E8: =C8*D8 -> 42.87
A9: Masseira plástica para argamassa | B9: Unidade | C9: 1 | D9: 18.76 | E9: =C9*D9 -> 18.76
A10: Balde de pedreiro plástico | B10: Unidade | C10: 1 | D10: 19.96 | E10: =C10*D10 -> 19.96
A11: Carrinho de mão | B11: Unidade | C11: 1 | D11: 163.49 | E11: =C11*D11 -> 163.49
A12: Chave de teste elétrico, isolada | B12: Unidade | C12: 1 | D12: 20.64 | E12: =C12*D12 -> 20.64
A13: Colher de pedreiro | B13: Unidade | C13: 1 | D13: 19.94 | E13: =C13*D13 -> 19.94
A14: Corda trançada, diâmetro 12mm, mínimo 20m | B14: Unidade | C14: 1 | D14: 67.93 | E14: =C14*D14 -> 67.93
A15: Jogo chave fenda chata isolada | B15: Conjunto | C15: 1 | D15: 148.77 | E15: =C15*D15 -> 148.77
A16: Jogo chave fenda cruzada isolada | B16: Conjunto | C16: 1 | D16: 105.12 | E16: =C16*D16 -> 105.12
A17: Conjunto de brocas para concreto, mínimo 5 peças, bitolas de 4, 5, 6, 8 e 10 mm | B17: Conjunto | C17: 4 | D17: 27.73 | E17: =C17*D17 -> 110.92
... A55: Trincha | B55: Unidade | C55: 1 | D55: 8.9 | E55: =C55*D55 -> 8.9
A56: CUSTO ANUAL DOS MATERIAIS | E56: =SUM(E6:E55) -> 4692.94
A57: CUSTO MENSAL DOS MATERIAIS | E57: =E56/12 -> 391.07833
A59: DESCRIÇÃO ESPECÍFICOS (PINTURA) | B59: UNIDADE | C59: QUANTIDADE ANUAL | D59: QUANTIDADE POR PEDIDO | E59: QUANTIDADE TOTAL (duas vezes durante a vigência do contrato) | F59: VALOR UNITÁRIO | G59: CUSTO ANUAL
A60: Tinta acrílica emborrachada, de primeira linha, qualificada pela ABRAFATI, que atenda a NBR 11702/2010, com elasticidade para acompanhar a movimentação natural das trincas e fissuras existentes, marca Suvinil (Proteção Total) ou similar. Cores uva verde, vitral, verde paraíso, verde bucólico, palha, pérola aveludada, concreto, branco gelo e branco neve ou outra tinta similar (a depender da atualização da nomenclatura da paleta de cores do fabricante), acabamento fosco. Inclui a pintura de muros cegos. As tonalidades das tintas a serem utilizadas deverão ser aprovadas pela Diretoria de Projetos e Obras. Será necessária a preparação da superfície com o uso de uma demão de fundo preparador do mesmo fabricante da tinta e específico para o tipo de tinta utilizada - não considerado no quantitativo. A pintura deverá ser feita com aplicação de no mínimo três demãos ou quantas mais forem necessárias para um perfeito cobrimento da tinta, com diluição recomendada pelo fabricante. Deverá ser utilizada fita de papel gomado para acabamento, tomando-se o cuidado para não haver respingos em outras paredes, pisos ou aberturas. O ambiente deverá ser entregue limpo e organizado ao final da pintura. Fornecimento de material para pintura, incluindo todas as tintas, pincéis, rolos, lixas, desempenadeiras, espátulas, andaimes, telas para proteção de fachadas, lonas plásticas, equipamentos de proteção individual e coletiva e quaisquer outros materiais ou equipamentos que se fizerem necessários para a completa execução do serviço, tudo por conta da CONTRATADA. | B60: Lata 18L | C60: =E60/5 -> 21.6 | D60: 54 | E60: =D60*2 -> 108 | F60: 569.58 | G60: =F60*C60 -> 12302.928
A61: Tinta acrílica emborrachada, de primeira linha, qualificada pela ABRAFATI, que atenda a NBR 11702/2010, com elasticidade para acompanhar a movimentação natural das trincas e fissuras existentes, marca Suvinil (Proteção Total) ou similar. Cores vermelho, vermelho-contemporâneo, vermelho-escarlate, vermelho-jalapeño ou outra tonalidade similar (a depender da atualização da nomenclatura da paleta de cores do fabricante), acabamento fosco. As tonalidades das tintas a serem utilizadas deverão ser aprovadas pela Diretoria de Projetos e Obras. Será necessária a preparação da superfície com o uso de uma demão de fundo preparador do mesmo fabricante da tinta e específico para o tipo de tinta utilizada - não considerado no quantitativo. A pintura deverá ser feita com aplicação de no mínimo três demãos ou quantas mais forem necessárias para um perfeito cobrimento da tinta, com diluição recomendada pelo fabricante. Deverá ser utilizada fita de papel gomado para acabamento, tomando-se o cuidado para não haver respingos em outras paredes, pisos ou aberturas. O ambiente deverá ser entregue limpo e organizado ao final da pintura. Fornecimento de material para pintura, incluindo todas as tintas, pincéis, rolos, lixas, desempenadeiras, espátulas, andaimes, telas para proteção de fachadas, lonas plásticas, equipamentos de proteção individual e coletiva e quaisquer outros materiais ou equipamentos que se fizerem necessários para a completa execução do serviço, tudo por conta da CONTRATADA. | B61: Lata 3,6L | C61: =E61/5 -> 0.4 | D61: 1 | E61: =D61*2 -> 2 | F61: 208.9 | G61: =C61*F61 -> 83.56
A62: Tinta esmalte sintético à base de água para serviço de pintura de elementos de madeira (portas, janelas, beirais, etc), de primeira linha, qualificada pela ABRAFATI, que atenda a NBR 11702/2010, marca Suvinil ou similar. Método de aplicação com rolo/pincel e/ou pistola. Aplicação externa. Cores uva verde, vitral, verde paraíso, verde bucólico, palha, pérola aveludada, branco neve e branco gelo ou outra tonalidade similar (a depender da atualização da nomenclatura da paleta de cores do fabricante), semibrilho. A pintura deverá ser feita com aplicação de no mínimo duas demãos de tinta, ou até a efetiva colorização e cobrimento da superfície dos elementos de madeira. Deverá ser utilizada fita de papel gomado para acabamento, tomando-se o cuidado para não haver respingos em outras paredes, pisos ou aberturas. Previamente à pintura, deverá ser realizado o lixamento, correção das massas de vidro (massa vidraceiro) e a limpeza dos elementos de madeira, como também a correção de imperfeições e/ou rachaduras com uso massa apropriada. Após o lixamento, aplicar uma demão de fundo preparador do mesmo fabricante da tinta e específico para o tipo de tinta utilizada - não considerado no quantitativo. O ambiente deverá ser entregue limpo e organizado ao final da pintura. Fornecimento de material, incluindo todas as tintas, pincéis, rolos, lixas, desempenadeiras, espátulas, compressores, pistolas, cabos e equipamentos elétricos, andaimes, lonas plásticas, equipamentos de proteção individual e coletiva e quaisquer outros materiais ou equipamentos que se fizerem necessários para a completa execução do serviço, tudo por conta da CONTRATADA. | B62: Lata 3,6L | C62: =E62/5 -> 0.4 | D62: 1 | E62: =D62*2 -> 2 | F62: 139.76 | G62: =C62*F62 -> 55.904
A63: Tinta esmalte sintético à base de solvente para serviço de pintura de elementos metálicos (estruturas metálicas - reservatório, grades de proteção, calhas de beiral, portas, janelas, portões, corrimãos, escada de marinheiro, passarela coberta, guarda-corpo, estruturas metálicas das salas modulares, etc), de primeira linha, qualificada pela ABRAFATI, que atenda a NBR 11702/2010, marca Suvinil ou similar. Método de aplicação com rolo/pincel e/ou pistola. Aplicação externa. Cor branco, verde, cinza, marrom, preto e vermelho ou outra tonalidade similar (a depender da atualização da nomenclatura da paleta de cores do fabricante), semibrilho. A pintura deverá ser feita com aplicação de no mínimo duas demãos de tinta, ou até a efetiva colorização e cobrimento da superfície dos elementos metálicos. Deverá ser utilizada fita de papel gomado para acabamento, tomando-se o cuidado para não haver respingos em outras paredes, pisos ou aberturas. Previamente à pintura, deverá ser realizado o lixamento e limpeza dos elementos metálicos, atentando para a remoção completa da ferrugem. Após o lixamento, aplicar uma demão de fundo a base de cromato de zinco específico para superfícies metálicas (função anticorrosiva) ou convertedor de ferrugem TF-7 (se for o caso) - não considerado no quantitativo. O ambiente deverá ser entregue limpo e organizado ao final da pintura. Fornecimento de material, incluindo todas as tintas, pincéis, rolos, lixas, desempenadeiras, espátulas, compressores, pistolas, cabos e equipamentos elétricos, andaimes, lonas plásticas, equipamentos de proteção individual e coletiva e quaisquer outros materiais ou equipamentos que se fizerem necessários para a completa execução do serviço, tudo por conta da CONTRATADA. | B63: Lata 3,6L | C63: =E63/5 -> 6 | D63: 15 | E63: =D63*2 -> 30 | F63: 153.6 | G63: =C63*F63 -> 921.6
A64: CUSTO ANUAL DOS MATERIAIS | G64: =SUM(G60:G63) -> 13363.992
A65: CUSTO MENSAL DOS MATERIAIS | G65: =G64/12 -> 1113.666
A67: EQUIPAMENTOS | B67: UNIDADE | C67: QUANTIDADE A DISPONIBILIZAR | D67: DEPRECIAÇÃO (em meses) | E67: QUANTIDADE ANUAL | F67: VALOR UNITÁRIO | G67: CUSTO ANUAL
A68: Carro de transporte de carga com 2 rodas formato L, carga de no mínimo 400KG | B68: Unidade | C68: 1 | D68: 60 | E68: =12/D68*C68 -> 0.2 | F68: 856.5 | G68: =E68*F68 -> 171.3
A69: Escada Articulada de, no mínimo, 12 degraus | B69: Unidade | C69: 1 | D69: 30 | E69: =12/D69*C69 -> 0.4 | F69: 659.85 | G69: =E69*F69 -> 263.94
A70: Esmerilhadeira 850W | B70: Unidade | C70: 1 | D70: 24 | E70: =12/D70*C70 -> 0.5 | F70: 425.12 | G70: =E70*F70 -> 212.56
A71: Lixadeira orbital 350W | B71: Unidade | C71: 1 | D71: 24 | E71: =12/D71*C71 -> 0.5 | F71: 336.35 | G71: =E71*F71 -> 168.175
A72: Parafusadeira Elétrica a bateria 18V | B72: Unidade | C72: 1 | D72: 30 | E72: =12/D72*C72 -> 0.4 | F72: 906 | G72: =E72*F72 -> 362.4
A73: Furadeira mínimo 600W | B73: Unidade | C73: 1 | D73: 24 | E73: =12/D73*C73 -> 0.5 | F73: 375.34 | G73: =E73*F73 -> 187.67
A74: Serra Tico Tico mínimo 550W | B74: Unidade | C74: 1 | D74: 30 | E74: =12/D74*C74 -> 0.4 | F74: 471.3 | G74: =E74*F74 -> 188.52
A75: CUSTO ANUAL DOS EQUIPAMENTOS | G75: =SUM(G68:G74) -> 1554.565
A76: CUSTO MENSAL DOS EQUIPAMENTOS | G76: =G75/12 -> 129.54708
A78: UNIFORMES | B78: UNIDADE | C78: QUANTIDADE ANUAL | D78: VALOR UNITÁRIO | E78: CUSTO ANUAL
A79: Bota de segurança de couro, antiderrapante, preta | B79: Par | C79: 2 | D79: 161.67 | E79: =C79*D79 -> 323.34
A80: Calça de uniforme, brim, cinza | B80: Unidade | C80: 2 | D80: 81.32 | E80: =C80*D80 -> 162.64
...
