Workbook
Name Print_Area: 'Cronograma Ar Condicionado'!$A$1:$I$19
Name Print_Area: 'Orçamento Ar Condicionado'!$A$1:$M$65
Name Print_Titles: 'Orçamento Ar Condicionado'!$1:$12

Sheet Orçamento Ar Condicionado
A1: INCLUIR LOGOTIPO DA EMPRESA
A3: DADOS DA EMPRESA
A4: DADOS DA EMPRESA
A6: Planilha de Orçamento - GLOBAL
A8: Obra: Sistema de Ar Condicionado do prédio da Reitoria: Módulo II - B - Sistema de Distribuição do Ar de Renovação | F8: Endereço: Rua Gonçalves Chaves, 3218
A9: Cliente: Instituto Federal Sul-rio-grandense | F9: Cidade: Pelotas - RS | J9: BDI =
A10: Item/Descrição | B10: Qtd. | C10: Un | D10: Material | F10: Mão-de-obra | H10: Custo Unit. Total | I10: Custo Direto | J10: BDI | L10: Sub-Total do Item | M10: Total do Item
D11: Custo Unitário | E11: Custo Parcial | F11: Custo Unitário | G11: Custo Parcial | J11: Valor | K11: 0.25
A13: 2. SERVIÇOS PRELIMINARES / TÉCNICOS | M13: =SUM(L14:L15) -> 0
A14: 2. 7. PLACAS DE IDENTIFICAÇÃO DE OBRA
A15: .1 PLACA DE OBRA EM LONA FIXADA EM ESTRUTURA DE METALON | B15: 2.03 | C15: M2 | D15: 0 | E15: =D15*B15 -> 0 | F15: 0 | G15: =F15*B15 -> 0 | H15: =+D15+F15 -> 0 | I15: =E15+G15 -> 0 | J15: =K15*I15 -> 0 | K15: 0 | L15: =I15+J15 -> 0
A16: 21. GERENCIAMENTO DE OBRAS / FISCALIZAÇÃO | M16: =SUM(L17:L18) -> 0
A17: 21. 1. ADMINISTRAÇÃO DA OBRA
A18: .1 SUPERVISOR TÉCNICO (1 turno - 8h) | B18: 3 | C18: MS | D18: 0 | E18: =D18*B18 -> 0 | F18: 0 | G18: =F18*B18 -> 0 | H18: =+D18+F18 -> 0 | I18: =E18+G18 -> 0 | J18: =K18*I18 -> 0 | K18: 0 | L18: =I18+J18 -> 0
A19: 22. FORRO | M19: =SUM(L20:L22) -> 0
A20: 22. 1. FORROS
A21: 22. 1. 4 PLACAS
A22: .1 FORRO PLACA DE FIBRA MINERAL 625X1250X15MM | B22: 50 | C22: UN | D22: 0 | E22: =D22*B22 -> 0 | F22: 0 | G22: =F22*B22 -> 0 | H22: =+D22+F22 -> 0 | I22: =E22+G22 -> 0 | J22: =K22*I22 -> 0 | K22: 0 | L22: =I22+J22 -> 0
A23: 23. SISTEMA DE DISTRIBUIÇÃO DO AR DE RENOVAÇÃO | M23: =SUM(L24:L63) -> 0
A24: 23. 3. DESCRIÇÃO DO SISTEMA ADOTADO
A25: 23. 3. 1. VENTILADORES
A26: .1 VENTILADOR - TURBO 100 | B26: 8 | C26: UN | D26: 0 | E26: =D26*B26 -> 0 | F26: 0 | G26: =F26*B26 -> 0 | H26: =+D26+F26 -> 0 | I26: =E26+G26 -> 0 | J26: =K26*I26 -> 0 | K26: 0 | L26: =I26+J26 -> 0
A27: .1 VENTILADOR - TURBO 150 | B27: 38 | C27: UN | D27: 0 | E27: =D27*B27 -> 0 | F27: 0 | G27: =F27*B27 -> 0 | H27: =+D27+F27 -> 0 | I27: =E27+G27 -> 0 | J27: =K27*I27 -> 0 | K27: 0 | L27: =I27+J27 -> 0
A28: .2 VENTILADOR - TURBO 200 | B28: 39 | C28: UN | D28: 0 | E28: =D28*B28 -> 0 | F28: 0 | G28: =F28*B28 -> 0 | H28: =+D28+F28 -> 0 | I28: =E28+G28 -> 0 | J28: =K28*I28 -> 0 | K28: 0 | L28: =I28+J28 -> 0
A29: .3 SUPORTES VENTILADORES | B29: 85 | C29: UN | D29: 0 | E29: =D29*B29 -> 0 | F29: 0 | G29: =F29*B29 -> 0 | H29: =+D29+F29 -> 0 | I29: =E29+G29 -> 0 | J29: =K29*I29 -> 0 | K29: 0 | L29: =I29+J29 -> 0
A30: 23. 3. 2. DUTOS
A31: 23. 3. 2. 2. REDE HORIZONTAL - DUTOS FLEXÍVEIS
A32: .1 DUTO FLEXÍVEL REF. ISODEC RT 0.6 - DIÂMETRO NOMINAL 100MM - PEÇA COM 6,00M | B32: 44 | C32: PÇ | D32: 0 | E32: =D32*B32 -> 0 | F32: 0 | G32: =F32*B32 -> 0 | H32: =+D32+F32 -> 0 | I32: =E32+G32 -> 0 | J32: =K32*I32 -> 0 | K32: 0 | L32: =I32+J32 -> 0
A33: .2 DUTO FLEXÍVEL REF. ISODEC RT 0.6 - DIÂMETRO NOMINAL 150MM - PEÇA COM 6,00M | B33: 86 | C33: PÇ | D33: 0 | E33: =D33*B33 -> 0 | F33: 0 | G33: =F33*B33 -> 0 | H33: =+D33+F33 -> 0 | I33: =E33+G33 -> 0 | J33: =K33*I33 -> 0 | K33: 0 | L33: =I33+J33 -> 0
A34: .3 DUTO FLEXÍVEL REF. ISODEC RT 0.6 - DIÂMETRO NOMINAL 200MM - PEÇA COM 6,00M | B34: 72 | C34: PÇ | D34: 0 | E34: =D34*B34 -> 0 | F34: 0 | G34: =F34*B34 -> 0 | H34: =+D34+F34 -> 0 | I34: =E34+G34 -> 0 | J34: =K34*I34 -> 0 | K34: 0 | L34: =I34+J34 -> 0
A35: .4 LUVA PARA UNIÃO DE DUTOS FLEXÍVEIS - DIÂMETRO NOMINAL 100MM | B35: 50 | C35: PÇ | D35: 0 | E35: =D35*B35 -> 0 | F35: 0 | G35: =F35*B35 -> 0 | H35: =+D35+F35 -> 0 | I35: =E35+G35 -> 0 | J35: =K35*I35 -> 0 | K35: 0 | L35: =I35+J35 -> 0
A36: .5 LUVA PARA UNIÃO DE DUTOS FLEXÍVEIS - DIÂMETRO NOMINAL 150MM | B36: 102 | C36: PÇ | D36: 0 | E36: =D36*B36 -> 0 | F36: 0 | G36: =F36*B36 -> 0 | H36: =+D36+F36 -> 0 | I36: =E36+G36 -> 0 | J36: =K36*I36 -> 0 | K36: 0 | L36: =I36+J36 -> 0
A37: .6 LUVA PARA UNIÃO DE DUTOS FLEXÍVEIS - DIÂMETRO NOMINAL 200MM | B37: 83 | C37: PÇ | D37: 0 | E37: =D37*B37 -> 0 | F37: 0 | G37: =F37*B37 -> 0 | H37: =+D37+F37 -> 0 | I37: =E37+G37 -> 0 | J37: =K37*I37 -> 0 | K37: 0 | L37: =I37+J37 -> 0
A38: 23. 3. 3. GRELHAS DE RETORNO DO AR
A39: .1 GRELHA INDEVASSÁVEL P/ RETORNO DO AR (P/ PORTAS - MOLDURA DOS 2 LADOS - 100X400) | B39: 2 | C39: PÇ | D39: 0 | E39: =D39*B39 -> 0 | F39: 0 | G39: =F39*B39 -> 0 | H39: =+D39+F39 -> 0 | I39: =E39+G39 -> 0 | J39: =K39*I39 -> 0 | K39: 0 | L39: =I39+J39 -> 0
A40: .2 GRELHA INDEVASSÁVEL P/ RETORNO DO AR (P/ PORTAS - MOLDURA DOS 2 LADOS - 300X400) | B40: 94 | C40: PÇ | D40: 0 | E40: =D40*B40 -> 0 | F40: 0 | G40: =F40*B40 -> 0 | H40: =+D40+F40 -> 0 | I40: =E40+G40 -> 0 | J40: =K40*I40 -> 0 | K40: 0 | L40: =I40+J40 -> 0
A41: .3 GRELHA INDEVASSÁVEL P/ RETORNO DO AR (P/ PORTAS - MOLDURA DOS 2 LADOS - 300X600) | B41: 3 | C41: PÇ | D41: 0 | E41: =D41*B41 -> 0 | F41: 0 | G41: =F41*B41 -> 0 | H41: =+D41+F41 -> 0 | I41: =E41+G41 -> 0 | J41: =K41*I41 -> 0 | K41: 0 | L41: =I41+J41 -> 0
A42: 23. 3. 5. GRELHAS DE PAREDE, CAPTORES E INSUFLADORES DE AR | D42: 0
A43: .1 GRELHA DE PAREDE DE PLÁSTICO BRANCO COM ALETAS FIXAS E TELA ANTI-INSETO - DN 150MM | B43: 9 | C43: PÇ | D43: 0 | E43: =D43*B43 -> 0 | F43: 0 | G43: =F43*B43 -> 0 | H43: =+D43+F43 -> 0 | I43: =E43+G43 -> 0 | J43: =K43*I43 -> 0 | K43: 0 | L43: =I43+J43 -> 0
A44: .2 CAPTOR E/OU INSUFLADOR DE AR - DIÂMETRO NOMINAL 100MM | B44: 101 | C44: PÇ | D44: 0 | E44: =D44*B44 -> 0 | F44: 0 | G44: =F44*B44 -> 0 | H44: =+D44+F44 -> 0 | I44: =E44+G44 -> 0 | J44: =K44*I44 -> 0 | K44: 0 | L44: =I44+J44 -> 0
A45: .3 CAPTOR E/OU INSUFLADOR DE AR - DIÂMETRO NOMINAL 150MM | B45: 90 | C45: PÇ | D45: 0 | E45: =D45*B45 -> 0 | F45: 0 | G45: =F45*B45 -> 0 | H45: =+D45+F45 -> 0 | I45: =E45+G45 -> 0 | J45: =K45*I45 -> 0 | K45: 0 | L45: =I45+J45 -> 0
A46: .4 CAPTOR E/OU INSUFLADOR DE AR - DIÂMETRO NOMINAL 200MM | B46: 39 | C46: PÇ | D46: 0 | E46: =D46*B46 -> 0 | F46: 0 | G46: =F46*B46 -> 0 | H46: =+D46+F46 -> 0 | I46: =E46+G46 -> 0 | J46: =K46*I46 -> 0 | K46: 0 | L46: =I46+J46 -> 0
A47: 23. 3. 6. CAIXAS DE VENTILAÇÃO
A48: 23. 3. 6. 1. PLACAS DE MPU
A49: .1 PLACAS DE MPU - 1.20M X 2.00M / ESP=20MM | B49: 61 | C49: UN | D49: 0 | E49: =D49*B49 -> 0 | F49: 0 | G49: =F49*B49 -> 0 | H49: =+D49+F49 -> 0 | I49: =E49+G49 -> 0 | J49: =K49*I49 -> 0 | K49: 0 | L49: =I49+J49 -> 0
A50: 23. 3. 6. 2. COLARINHOS PARA DUTOS MPU
A51: .1 COLARINHO MPU COM REGISTRO - 100MM | B51: 92 | C51: PÇ | D51: 0 | E51: =D51*B51 -> 0 | F51: 0 | G51: =F51*B51 -> 0 | H51: =+D51+F51 -> 0 | I51: =E51+G51 -> 0 | J51: =K51*I51 -> 0 | K51: 0 | L51: =I51+J51 -> 0
A52: .2 COLARINHO MPU COM REGISTRO - 150MM | B52: 40 | C52: PÇ | D52: 0 | E52: =D52*B52 -> 0 | F52: 0 | G52: =F52*B52 -> 0 | H52: =+D52+F52 -> 0 | I52: =E52+G52 -> 0 | J52: =K52*I52 -> 0 | K52: 0 | L52: =I52+J52 -> 0
A53: .3 COLARINHO MPU COM REGISTRO - 200MM | B53: 117 | C53: PÇ | D53: 0 | E53: =D53*B53 -> 0 | F53: 0 | G53: =F53*B53 -> 0 | H53: =+D53+F53 -> 0 | I53: =E53+G53 -> 0 | J53: =K53*I53 -> 0 | K53: 0 | L53: =I53+J53 -> 0
A54: 23. 3. 6. 3. ADESIVO DE CONTATO
A55: .1 ADESIVO DE CONTATO SEM TOLUOL REF. CASCOLA-1406653 - LATA 2,8 LITROS | B55: 3 | C55: UN | D55: 0 | E55: =D55*B55 -> 0 | F55: 0 | G55: =F55*B55 -> 0 | H55: =+D55+F55 -> 0 | I55: =E55+G55 -> 0 | J55: =K55*I55 -> 0 | K55: 0 | L55: =I55+J55 -> 0
A56: 23. 3. 6. 4. SELANTE ACRÍLICO
A57: .1 SELANTE ACRÍLICO 5443 N - CARTUCHO 430G | B57: 41 | C57: UN | D57: 0 | E57: =D57*B57 -> 0 | F57: 0 | G57: =F57*B57 -> 0 | H57: =+D57+F57 -> 0 | I57: =E57+G57 -> 0 | J57: =K57*I57 -> 0 | K57: 0 | L57: =I57+J57 -> 0
A58: 23. 3. 6. 5. FITAS DE ALUMÍNIO PARA DUTO DE MPU
A59: .1 FITA DE ALUMÍNIO AUTOADESIVA - ROLO DE 50MM X 50M | B59: 17 | C59: RL | D59: 0 | E59: =D59*B59 -> 0 | F59: 0 | G59: =F59*B59 -> 0 | H59: =+D59+F59 -> 0 | I59: =E59+G59 -> 0 | J59: =K59*I59 -> 0 | K59: 0 | L59: =I59+J59 -> 0
A60: 23. 3. 6. 6. MÃO-DE-OBRA
A61: .1 MÃO-DE-OBRA PARA CONFECÇÃO E INSTALAÇÃO DAS CAIXAS DE VENTILAÇÃO | B61: 75 | C61: UN | D61: 0 | E61: =D61*B61 -> 0 | F61: 0 | G61: =F61*B61 -> 0 | H61: =+D61+F61 -> 0 | I61: =E61+G61 -> 0 | J61: =K61*I61 -> 0 | K61: 0 | L61: =I61+J61 -> 0
A62: 23.4. BALANCEAMENTO DO SISTEMA
A63: .1 MÃO-DE-OBRA PARA REGULAGEM DAS VAZÕES DOS INSUFLADORES INDICADAS NO PROJETO | B63: 148 | C63: UN | D63: 0 | E63: =D63*B63 -> 0 | F63: 0 | G63: =F63*B63 -> 0 | H63: =+D63+F63 -> 0 | I63: =E63+G63 -> 0 | J63: =K63*I63 -> 0 | K63: 0 | L63: =I63+J63 -> 0
H64: TOTAL DO ORÇAMENTO | M64: =SUM(M13:M63) -> 0
L66: Local e Data
J69: Nome do Profissional Responsável
J70: Especificação do Cargo/função
J71: N° do CREA

Sheet Cronograma Ar Condicionado
B2: INCLUIR LOGOTIPO DA EMPRESA
A4: DADOS DA EMPRESA
A5: DADOS DA EMPRESA
A7: CRONOGRAMA FÍSICO-FINANCEIRO
A8: Obra: Sistema de Ar Condicionado do prédio da Reitoria: Módulo II - B - Sistema de Distribuição do Ar de Renovação | D8: Endereço: Rua Gonçalves Chaves, 3218
A9: Cliente: Instituto Federal Sul-rio-grandense | D9: Cidade: Pelotas - RS
A11: ITEM | B11: 1º mês | D11: 2º mês | F11: 3º mês | H11: TOTAL
B12: VALOR | C12: % | D12: VALOR | E12: % | F12: VALOR | G12: % | H12: VALOR | I12: %
A13: 2. SERVIÇOS PRELIMINARES / TÉCNICOS | B13: =C13*$H13 -> 0 | C13: 1 | D13: =E13*$H13 -> 0 | E13: 0 | F13: =G13*$H13 -> 0 | G13: 0 | H13: ='Orçamento Ar Condicionado'!M13 -> 0 | I13: =C13+E13+G13 -> 1
A14: 21. GERENCIAMENTO DE OBRAS / FISCALIZAÇÃO | B14: =C14*$H14 -> 0 | C14: 0.4 | D14: =E14*$H14 -> 0 | E14: 0.3 | F14: =G14*$H14 -> 0 | G14: 0.3 | H14: ='Orçamento Ar Condicionado'!M16 -> 0 | I14: =C14+E14+G14 -> 1
A15: 22. FORRO | B15: =C15*$H15 -> 0 | C15: 0.33333 | D15: =E15*$H15 -> 0 | E15: 0.33333 | F15: =G15*$H15 -> 0 | G15: 0.333333 | H15: ='Orçamento Ar Condicionado'!M19 -> 0 | I15: =C15+E15+G15 -> 0.999993
A16: 23. SISTEMA DE DISTRIBUIÇÃO DO AR DE RENOVAÇÃO | B16: =C16*$H16 -> 0 | C16: 0.4 | D16: =E16*$H16 -> 0 | E16: 0.3 | F16: =G16*$H16 -> 0 | G16: 0.3 | H16: ='Orçamento Ar Condicionado'!M23 -> 0 | I16: =C16+E16+G16 -> 1
A17: Total da Etapa | B17: =SUM(B13:B16) -> 0 | C17: =B17/$H$17 -> #DIV/0! | D17: =SUM(D13:D16) -> 0 | E17: =D17/$H$17 -> #DIV/0! | F17: =SUM(F13:F16) -> 0 | G17: =F17/$H$17 -> #DIV/0! | H17: ='Orçamento Ar Condicionado'!M64 -> 0 | I17: =C17+E17+G17 -> #DIV/0!
A18: Total Acumulado | B18: =B17 -> 0 | C18: =C17 -> #DIV/0! | D18: =B18+D17 -> 0 | E18: =C18+E17 -> #DIV/0! | F18: =D18+F17 -> 0 | G18: =E18+G17 -> #DIV/0! | H18: =SUM(H13:H16) -> 0
H21: Local e Data
F26: Nome do Profissional Responsável
F27: Especificação do Cargo/função
F28: N° do CREA
