Workbook
Name Print_Area: 'Orçamento REFORÇO ESTRUTURAL'!$A$6:$M$115
Name Print_Titles: 'Orçamento REFORÇO ESTRUTURAL'!$6:$16

Sheet Orçamento REFORÇO ESTRUTURAL
A1: INCLUIR LOGOTIPO DA EMPRESA
A7: DADOS DA EMPRESA
A8: DADOS DA EMPRESA
A10: Planilha de Orçamento - GLOBAL
A12: Obra: REFORÇO ESTRUTURAL NA SALA DOS PROFESSORES | F12: Endereço: Rua. Mem de Sá nº 800, Loteamento Bom Sucesso
A13: Cliente: Instituto Federal Sul-Rio-Grandense | F13: Cidade: Gravataí - RS | J13: BDI =
A14: Item/Descrição | B14: Qtd. | C14: Un | D14: Mão-de-Obra | F14: Material | H14: Custo Unit. Total | I14: Custo Direto | J14: BDI | L14: Sub-Total do Item | M14: Total do Item
D15: Custo Unitário | E15: Custo Parcial | F15: Custo Unitário | G15: Custo Parcial | J15: Valor | K15: %
A17: 2. SERVIÇOS PRELIMINARES / TÉCNICOS | M17: =SUM(L18:L32) -> 0
A18: 2.8. DEMOLIÇÕES E REMOÇÕES
A19: 2.8.7 DEMOLIÇÃO E REMOÇÃO DE PISO
A20: .1 REMOÇÃO DE PISO CERÂMICOS, INCL. ARGAMASSA DE ASSENTAMENTO | B20: 95.13 | C20: M2 | E20: =D20*B20 -> 0 | G20: =F20*B20 -> 0 | H20: =+D20+F20 -> 0 | I20: =E20+G20 -> 0 | J20: =K20*I20 -> 0 | K20: =$K$13 -> 0 | L20: =I20+J20 -> 0
A21: .2 RETIRADA DE RODAPÉ CERÂMICO, INCL. ARGAMASSA DE ASSENTAMENTO | B21: 35.84 | C21: M2 | E21: =D21*B21 -> 0 | G21: =F21*B21 -> 0 | H21: =+D21+F21 -> 0 | I21: =E21+G21 -> 0 | J21: =K21*I21 -> 0 | K21: =$K$13 -> 0 | L21: =I21+J21 -> 0
A22: 2.8.13 REMOÇÃO DE ESQUADRIA DE MADEIRA
A23: .1 RETIRADA DE ESQUADRIAS DE MADEIRA (PORTA) | B23: 1.89 | C23: M2 | E23: =D23*B23 -> 0 | G23: =F23*B23 -> 0 | H23: =+D23+F23 -> 0 | I23: =E23+G23 -> 0 | J23: =K23*I23 -> 0 | K23: =$K$13 -> 0 | L23: =I23+J23 -> 0
A24: 2.8.14 DEMOLIÇÃO DE CONTRAPISO
A25: .1 DEMOLIÇÃO DE CONTRAPISO DE CONCRETO SIMPLES 8CM | B25: 2.88 | C25: M2 | E25: =D25*B25 -> 0 | G25: =F25*B25 -> 0 | H25: =+D25+F25 -> 0 | I25: =E25+G25 -> 0 | J25: =K25*I25 -> 0 | K25: =$K$13 -> 0 | L25: =I25+J25 -> 0
A26: 2.8.25 REMOÇÃO DE DIVISÓRIAS
A27: .1 DESMONTAGEM DE DIVISÓRIAS LEVES | B27: 25.14 | C27: M2 | E27: =D27*B27 -> 0 | G27: =F27*B27 -> 0 | H27: =+D27+F27 -> 0 | I27: =E27+G27 -> 0 | J27: =K27*I27 -> 0 | K27: =$K$13 -> 0 | L27: =I27+J27 -> 0
A28: 2.10. TRANSPORTES
A29: .1 LOCAÇÃO DE CAÇAMBA COLETORA DE ENTULHO, CAPACIDADE 7M3 | B29: 1 | C29: UN | E29: =D29*B29 -> 0 | G29: =F29*B29 -> 0 | H29: =+D29+F29 -> 0 | I29: =E29+G29 -> 0 | J29: =K29*I29 -> 0 | K29: =$K$13 -> 0 | L29: =I29+J29 -> 0
A30: 2.14. ESCORAMENTO
A31: 2.14.2 ESCORA METÁLICA
A32: .1 ESCORAMENTO METÁLICO POR TUBO - LOCAÇÃO MENSAL | B32: 90 | C32: UN | E32: =D32*B32 -> 0 | G32: =F32*B32 -> 0 | H32: =+D32+F32 -> 0 | I32: =E32+G32 -> 0 | J32: =K32*I32 -> 0 | K32: =$K$13 -> 0 | L32: =I32+J32 -> 0
A33: 3. MOVIMENTO DE TERRA | M33: =SUM(L34:L37) -> 0
A34: 3. 1. ESCAVAÇÕES
A35: .1 ESCAVACAO MANUAL DE SOLO DE 1A. ATE 1,50M | B35: 3.17 | C35: M3 | E35: =D35*B35 -> 0 | G35: =F35*B35 -> 0 | H35: =+D35+F35 -> 0 | I35: =E35+G35 -> 0 | J35: =K35*I35 -> 0 | K35: =$K$13 -> 0 | L35: =I35+J35 -> 0
A36: 3. 3. REATERRO DE VALAS DE FUNDAÇÃO
A37: .1 REATERRO VALAS COM AREIA - COMPACTADA | B37: 1.54 | C37: M3 | E37: =D37*B37 -> 0 | G37: =F37*B37 -> 0 | H37: =+D37+F37 -> 0 | I37: =E37+G37 -> 0 | J37: =K37*I37 -> 0 | K37: =$K$13 -> 0 | L37: =I37+J37 -> 0
A38: 4. INFRA-ESTRUTURA / FUNDAÇÕES SIMPLES | M38: =SUM(L39:L49) -> 0
A39: 4.2. SAPATAS
A40: 4.2.1. FORMA
A41: .1 FORMA COMPENS.RESINADO-REAP.3X-INCL.ESCORAM. | B41: 4.16 | C41: M2 | E41: =D41*B41 -> 0 | G41: =F41*B41 -> 0 | H41: =+D41+F41 -> 0 | I41: =E41+G41 -> 0 | J41: =K41*I41 -> 0 | K41: =$K$13 -> 0 | L41: =I41+J41 -> 0
A42: 4.2.2. AÇO
A43: .1 ARMADURA CA-60 MEDIA 5,0 A 6,0MM | B43: 3 | C43: KG | E43: =D43*B43 -> 0 | G43: =F43*B43 -> 0 | H43: =+D43+F43 -> 0 | I43: =E43+G43 -> 0 | J43: =K43*I43 -> 0 | K43: =$K$13 -> 0 | L43: =I43+J43 -> 0
A44: .2 ARMADURA CA-50 MEDIA 1/4 A 3/8-6,35 A 9,53MM | B44: 31 | C44: KG | E44: =D44*B44 -> 0 | G44: =F44*B44 -> 0 | H44: =+D44+F44 -> 0 | I44: =E44+G44 -> 0 | J44: =K44*I44 -> 0 | K44: =$K$13 -> 0 | L44: =I44+J44 -> 0
A45: 4.2.3. CONCRETO
A46: .1 CONCRETO FCK 25MPA - PRE-MISTURADO - CONV. | B46: 1.08 | C46: M3 | E46: =D46*B46 -> 0 | G46: =F46*B46 -> 0 | H46: =+D46+F46 -> 0 | I46: =E46+G46 -> 0 | J46: =K46*I46 -> 0 | K46: =$K$13 -> 0 | L46: =I46+J46 -> 0
A47: .2 LANCAMENTO MANUAL CONCRETO ESTRUTURAL-ADENSAM.VIB. | B47: 1.08 | C47: M3 | E47: =D47*B47 -> 0 | G47: =F47*B47 -> 0 | H47: =+D47+F47 -> 0 | I47: =E47+G47 -> 0 | J47: =K47*I47 -> 0 | K47: =$K$13 -> 0 | L47: =I47+J47 -> 0
A48: .3 LASTRO MANUAL DE BRITA (BASE SAPATAS) | B48: 0.29 | C48: M3 | E48: =D48*B48 -> 0 | G48: =F48*B48 -> 0 | H48: =+D48+F48 -> 0 | I48: =E48+G48 -> 0 | J48: =K48*I48 -> 0 | K48: =$K$13 -> 0 | L48: =I48+J48 -> 0
...

Sheet Cronograma
A1: INCLUIR LOGOTIPO DA EMPRESA
A6: DADOS DA EMPRESA
A7: DADOS DA EMPRESA
A8: DADOS DA EMPRESA
A9: CRONOGRAMA
A11: Obra: REFORÇO ESTRUTURAL NA SALA DOS PROFESSORES | B11: Endereço: Rua. Mem de Sá nº 800, Loteamento Bom Sucesso
A12: Cliente: Instituto Federal Sul-Rio-Grandense | B12: Cidade: Gravataí - RS
A14: ITEM | B14: 30 dias | D14: 45 dias | F14: TOTAL
B15: VALOR | C15: % | D15: VALOR | E15: % | F15: VALOR | G15: %
A16: 2. SERVIÇOS PRELIMINARES / TÉCNICOS | B16: =C16*$F16 -> 0 | C16: 0.9 | D16: =E16*$F16 -> 0 | E16: 0.1 | F16: ='Orçamento REFORÇO ESTRUTURAL'!M17 -> 0 | G16: =C16+E16 -> 1
A17: 3. MOVIMENTO DE TERRA | B17: =C17*$F17 -> 0 | C17: 1 | D17: =E17*$F17 -> 0 | E17: 0 | F17: ='Orçamento REFORÇO ESTRUTURAL'!M33 -> 0 | G17: =C17+E17 -> 1
A18: 4. INFRA-ESTRUTURA / FUNDAÇÕES SIMPLES | B18: =C18*$F18 -> 0 | C18: 1 | D18: =E18*$F18 -> 0 | F18: ='Orçamento REFORÇO ESTRUTURAL'!M38 -> 0 | G18: =C18+E18 -> 1
A19: 6. SUPERESTRUTURA | B19: =C19*$F19 -> 0 | C19: 0.5 | D19: =E19*$F19 -> 0 | E19: 0.5 | F19: ='Orçamento REFORÇO ESTRUTURAL'!M50 -> 0 | G19: =C19+E19 -> 1
A20: 7. ALVENARIA/ VEDAÇÃO/ DIVISÓRIA | B20: =C20*$F20 -> 0 | D20: =E20*$F20 -> 0 | E20: 1 | F20: ='Orçamento REFORÇO ESTRUTURAL'!M56 -> 0 | G20: =C20+E20 -> 1
A21: 8. ESQUADRIAS | B21: =C21*$F21 -> 0 | D21: =E21*$F21 -> 0 | E21: 1 | F21: ='Orçamento REFORÇO ESTRUTURAL'!M61 -> 0 | G21: =C21+E21 -> 1
A22: 10. INSTALAÇÕES ELÉTRICAS | B22: =C22*$F22 -> 0 | D22: =E22*$F22 -> 0 | E22: 1 | F22: ='Orçamento REFORÇO ESTRUTURAL'!M69 -> 0 | G22: =C22+E22 -> 1
A23: 17. PINTURA | B23: =C23*$F23 -> 0 | D23: =E23*$F23 -> 0 | E23: 1 | F23: ='Orçamento REFORÇO ESTRUTURAL'!M78 -> 0 | G23: =C23+E23 -> 1
A24: 21. GERENCIAMENTO DE OBRAS / FISCALIZAÇÃO | B24: =C24*$F24 -> 0 | C24: 0.66 | D24: =E24*$F24 -> 0 | E24: 0.34 | F24: ='Orçamento REFORÇO ESTRUTURAL'!M85 -> 0 | G24: =C24+E24 -> 1
A25: 24. PISO | B25: =C25*$F25 -> 0 | C25: 0.9 | D25: =E25*$F25 -> 0 | E25: 0.1 | F25: ='Orçamento REFORÇO ESTRUTURAL'!M89 -> 0 | G25: =C25+E25 -> 1
A26: Total da Etapa | B26: =SUM(B16:B25) -> 0 | C26: =B26/$F$26 -> #DIV/0! | D26: =SUM(D16:D25) -> 0 | E26: =D26/$F$26 -> #DIV/0! | F26: =SUM(F16:F25) -> 0 | G26: =C26+E26 -> #DIV/0!
D29: Local e Data
D32: Nome do Profissional Responsável
D33: Especificação do Cargo/função
D34: N° do CREA ou CAU
