Workbook

Sheet Avaliação das entregas
B2: Nome da chefia
B3: Nome da/o participante
B4: Data de início do período avaliativo
B6: Semana | E6: Nota | F6: Análise fundamentada
B7: =IF(Cálculos!F2>6,Cálculos!A3,"") | C7: =IF(F4<>0,IF(Cálculos!F2>6,"a",""),"") | D7: =IF(Cálculos!F2>6,Cálculos!B3,"")
B8: =IF(Cálculos!F2>13,Cálculos!A4,"") | C8: =IF(F4<>0,IF(Cálculos!F2>13,"a",""),"") | D8: =IF(Cálculos!F2>13,Cálculos!B4,"")
B9: =IF(Cálculos!F2>20,Cálculos!A5,"") | C9: =IF(F4<>0,IF(Cálculos!F2>20,"a",""),"") | D9: =IF(Cálculos!F2>20,Cálculos!B5,"")
B10: =IF(Cálculos!F2>27,Cálculos!A6,"") | C10: =IF(F4<>0,IF(Cálculos!F2>27,"a",""),"") | D10: =IF(Cálculos!F2>27,Cálculos!B6,"")
B11: =IF(Cálculos!F2>34,Cálculos!A7,"") | C11: =IF(F4<>0,IF(Cálculos!F2>34,"a",""),"") | D11: =IF(Cálculos!F2>34,Cálculos!B7,"")
A14: Versão 1.0.0

Sheet Cálculos
A1: Períodos Avaliativos | E1: Hoje | F1: Total de dias | I1: Nota
A2: Início | B2: Término | E2: =IF('Avaliação das entregas'!F4<>0,TODAY(),"") | F2: =IF('Avaliação das entregas'!F4<>0,E2-'Avaliação das entregas'!F4,0) -> 0 | I2: 0
A3: =IF('Avaliação das entregas'!F4<>0,'Avaliação das entregas'!F4,"") | B3: =IF('Avaliação das entregas'!F4<>0,A3+6,"") | I3: 1
A4: =IF('Avaliação das entregas'!F4<>0,B3+1,"") | B4: =IF('Avaliação das entregas'!F4<>0,A4+6,"") | I4: 2
A5: =IF('Avaliação das entregas'!F4<>0,B4+1,"") | B5: =IF('Avaliação das entregas'!F4<>0,A5+6,"") | I5: 3
A6: =IF('Avaliação das entregas'!F4<>0,B5+1,"") | B6: =IF('Avaliação das entregas'!F4<>0,A6+6,"") | I6: 4
A7: =IF('Avaliação das entregas'!F4<>0,B6+1,"") | B7: =IF('Avaliação das entregas'!F4<>0,A7+6,"") | I7: 5
I8: 6
I9: 7
I10: 8
I11: 9
I12: 10
