Workbook
Name __xlfn_SINGLE: NA()

Sheet Real BCCPA-IN 5-CV - 40%
A1: LIMPEZA - Regime de Tributação: Lucro Real
A2: ANEXO ---- do Pregão nº 32/2020 – CONTA VINCULADA PLANILHA DE CUSTOS E FORMAÇÃO DE PREÇOS
A3: Nº do processo: | H3: 23163.003961.2020-61
A4: Licitação nº: | H4: 32/2020
A5: Dia:
A6: DISCRIMINAÇÃO DOS SERVIÇOS (DADOS REFERENTES À CONTRATAÇÃO)
A7: A | B7: Data de apresentação da proposta (dia/mês/ano)
A8: B | B8: Município/UF | H8: Lajeado/RS
A9: C | B9: Ano do Acordo, Convenção ou Dissídio Coletivo
A10: D | B10: Número de meses de execução contratual | H10: 12
A11: IDENTIFICAÇÃO DO SERVIÇO
A12: Tipo de Serviço: Limpeza e Conservação Predial para o Câmpus Lajeado IFSUL (Insalubridade 40%) | G12: Unidade de Medida | I12: Quantidade total a contratar (Em função da unidade de medida)
A13: a) Áreas internas - Pisos acarpetados | G13: m2 | I13: 0
A14: b) Áreas internas - Pisos frios | G14: m2 | I14: 1185.76
A15: c) Áreas internas - Laboratórios | G15: m2 | I15: 237.26
A16: d) Áreas internas - Almoxarifados/galpões | G16: m2 | I16: 89.31
A17: e) Áreas internas - Oficinas | G17: m2 | I17: 0
A18: f) Áreas internas - Áreas com espaços livres - saguão, hall e salão | D18: m-2 | E18: m-1 | F18: m0 | G18: m2 | I18: 305.71
A19: g) Banheiros | G19: m2 | I19: 98.76
A20: TOTAL DA ÁREA INTERNA | I20: =ROUND(I13+I14+I15+I16+I17+I18+I19,2) -> 1916.8
A22: a) Áreas externas - Pisos pavimentados adjacentes/contíguos às edificações | H22: m2 | J22: 0
A23: b) Áreas externas - Varrição de passeios e arruamentos | H23: m2 | J23: 6975.29
A24: c) Áreas externas - Pátios com áreas verdes com alta frequência | H24: m2 | J24: 0
A25: d) Áreas externas - Pátios com áreas verdes com média frequência | H25: m2 | J25: 0
A26: e) Áreas externas - Pátios com áreas verdes com baixa frequência | H26: m2 | J26: 0
A27: f) Áreas externas - Coleta de detritos em pátios e áreas verdes com frequência diária | H27: m2 | J27: 8992.76
A28: TOTAL DA ÁREA EXTERNA | J28: =ROUND(J22+J23+J24+J25+J26+J27,2) -> 15968.05
A30: a) Esquadrias externas - Face externa com exposição a situação de risco | H30: m2 | J30: 0
A31: b) Esquadrias externas - Face externa sem exposição a situação de risco | H31: m2 | J31: 320.58
A32: c) Esquadrias - Face interna | H32: m2 | J32: 320.58
A33: TOTAL DA ÁREA DA ESQUADRIA EXTERNA - FACE INTERNA/EXTERNA | J33: =ROUND(J30+J31+J32,2) -> 641.16
A35: a) Fachada envidraçada | H35: m2 | J35: 0
A36: TOTAL DA ÁREA DA FACHADA ENVIDRAÇADA | J36: =J35 -> 0
A38: a) Áreas hospitalares e assemelhadas | H38: m2 | J38: 0
A39: TOTAL DAS ÁREAS HOSPITALARES | J39: 0
A41: a) Outras áreas (especificar) | H41: m2 | J41: 0
A42: TOTAL DAS OUTRAS ÁREAS (ESPECIFICAR) | J42: 0
A44: TOTAL GERAL | J44: =ROUND(I20+J28+J33+J36+J39,2) -> 18526.01
A46: 1. MÓDULOS Mão de obra Mão de obra vinculada à execução contratual
A48: Dados para composição dos custos referente à mão de obra
...

Sheet RESUMO
A1: LIMPEZA - Regime de Tributação: Lucro Real
A2: ANEXO ---- do Pregão nº XX/2020 – CONTA VINCULADA MODELO DE PLANILHA DE CUSTOS E FORMAÇÃO DE PREÇOS
A3: Nº do processo: | H3: xxxxxxx
A4: Licitação nº: | H4: xxxxxxx
A5: Dia: | H5: xxxxxxx
A6: DISCRIMINAÇÃO DOS SERVIÇOS (DADOS REFERENTES À CONTRATAÇÃO)
A7: A | B7: Data de apresentação da proposta (dia/mês/ano)
A8: B | B8: Município/UF | H8: Lajeado/RS
A9: C | B9: Ano do Acordo, Convenção ou Dissídio Coletivo | H9: RS000162/2021 SINDIASSEIO
A10: D | B10: Número de meses de execução contratual | H10: 12
A12: Tipo de Serviço: Limpeza e Conservação Predial Para o Câmpus Lajeado do IFSUL (Insalubridade 40%)
A13: Valor mensal do serviço | I13: ='Real BCCPA-IN 5-CV - 40%'!I241:J241 -> 0
A15: Número de meses do contrato | I15: ='Real BCCPA-IN 5-CV - 40%'!I243:J243 -> 12
A17: Valor global da proposta (valor mensal do serviço x nº de meses do contrato) | I17: ='Real BCCPA-IN 5-CV - 40%'!I245:J245 -> 0
A19: Valor Total Mensal do Contrato | I19: =I13 -> 0
A20: Valor Total Anual do Contrato | I20: =I17 -> 0

Sheet INSUMOS
A1: LIMPEZA - Regime de Tributação: Lucro Real
A2: ANEXO ---- do Pregão nº XX/2020 – CONTA VINCULADA MODELO DE PLANILHA DE CUSTOS E FORMAÇÃO DE PREÇOS
A3: Nº do processo: | F3: xxxxxx
A4: Licitação nº: | F4: xxxxxx
A5: Dia: | F5: xxxxxx
A6: INSUMOS DIVERSOS
A7: Materiais de Limpeza – SANEANTES DOMISSANITÁRIOS | B7: Unidade | C7: Quantidade Mensal | D7: Quantidade Anual | E7: Valor Unitário | F7: Custo Anual
A8: Água Sanitária de 1ª qualidade, galão de 5 litros | B8: galão | C8: 6 | D8: =C8*12 -> 72 | E8: 0 | F8: =D8*E8 -> 0
A9: Álcool 70 °INPM (70% p/p) ou 77 °GL (77% v/v) | B9: litro | C9: 20 | D9: =C9*12 -> 240 | E9: 0 | F9: =D9*E9 -> 0
A10: Álcool em gel, 70% INPM ou 77º GL (77% v/v) | B10: litro | C10: 15 | D10: =C10*12 -> 180 | E10: 0 | F10: =D10*E10 -> 0
A11: Detergente neutro líquido | B11: litro | C11: 4 | D11: =C11*12 -> 48 | E11: 0 | F11: =D11*E11 -> 0
A12: Desinfetante de uso geral | B12: litro | C12: 15 | D12: =C12*12 -> 180 | E12: 0 | F12: =D12*E12 -> 0
A13: Desodorizador de ar de 360 ml (tipo aerossol) | B13: unidade | C13: 10 | D13: =C13*12 -> 120 | E13: 0 | F13: =D13*E13 -> 0
A14: Limpa vidros, frasco de 500 ml | B14: unidade | C14: 2 | D14: =C14*12 -> 24 | E14: 0 | F14: =D14*E14 -> 0
A15: Limpador Multiuso | B15: litro | C15: 30 | D15: =C15*12 -> 360 | E15: 0 | F15: =D15*E15 -> 0
A16: Polidor de metais, 200 ml | B16: unidade | C16: 1 | D16: =C16*12 -> 12 | E16: 0 | F16: =D16*E16 -> 0
D17: =C17*12 -> 0 | F17: =D17*E17 -> 0
A18: Sabão em pó | B18: kg | C18: 1 | D18: =C18*12 -> 12 | E18: 0 | F18: =D18*E18 -> 0
A19: Saponáceo em pó, detergente com 300g | B19: unidade | C19: 10 | D19: =C19*12 -> 120 | E19: 0 | F19: =D19*E19 -> 0
A20: Tela desodorante para mictório | B20: unidade | C20: 12 | D20: =C20*12 -> 144 | E20: 0 | F20: =D20*E20 -> 0
A21: CUSTO ANUAL DOS SANEANTES DOMISSANITÁRIOS | F21: =SUM(F8:F20) -> 0
A22: CUSTO MENSAL DOS SANEANTES DOMISSANITÁRIOS | F22: =F21/12 -> 0
A24: Materiais de Limpeza – COMPLEMENTARES | B24: Unidade | C24: Quantidade Mensal | D24: Quantidade Anual | E24: Valor Unitário | F24: Custo Anual
A25: Papel higiênico branco de alta qualidade, tipo personal, Nice ou similar, rolo de 300m x 10 cm | B25: unidade | C25: 48 | D25: =C25*12 -> 576 | E25: 0 | F25: =D25*E25 -> 0
A26: Papel toalha branco 100% celulose interfolhado com 1000 folhas 20cm x 21cm | B26: pacote | C26: 50 | D26: =C26*12 -> 600 | E26: 0 | F26: =D26*E26 -> 0
A27: Sabonete líquido para mãos, cremoso, 5 litros (galão) | B27: galão | C27: 5 | D27: =C27*12 -> 60 | E27: 0 | F27: =D27*E27 -> 0
A28: CUSTO ANUAL DOS MATERIAIS DE LIMPEZA – COMPLEMENTARES | F28: =SUM(F25:F27) -> 0
A29: CUSTO MENSAL DOS MATERIAIS DE LIMPEZA – COMPLEMENTARES | E29: =F28*12 -> 0 | F29: =F28/12 -> 0
A31: UTENSÍLIOS | B31: Unidade | C31: Quantidade a disponibilizar | D31: Vida Útil (em meses) | E31: Quantidade Anual | F31: Valor Unitário | G31: Custo Anual
A32: Balde plástico, 20 litros | B32: unidade | C32: 6 | D32: 12 | E32: =12/D32*C32 -> 6 | F32: 0 | G32: =E32*F32 -> 0
A33: Desentupidor de pia | B33: unidade | C33: 2 | D33: 12 | E33: =12/D33*C33 -> 2 | F33: 0 | G33: =E33*F33 -> 0
A34: Desentupidor de vaso sanitário | B34: unidade | C34: 2 | D34: 12 | E34: =12/D34*C34 -> 2 | F34: 0 | G34: =E34*F34 -> 0
A35: Escova nylon manual, cerdas duras (escova de mão) | B35: unidade | C35: 2 | D35: 12 | E35: =12/D35*C35 -> 2 | F35: 0 | G35: =E35*F35 -> 0
A36: Escova para vaso sanitário | B36: unidade | C36: 2 | D36: 12 | E36: =12/D36*C36 -> 2 | F36: 0 | G36: =E36*F36 -> 0
A37: Esponja dupla face | B37: unidade | C37: 6 | D37: 1 | E37: =12/D37*C37 -> 72 | F37: 0 | G37: =E37*F37 -> 0
A38: Extensão elétrica com cabo PP - comprimento = 30m | B38: unidade | C38: 3 | D38: 12 | E38: =12/D38*C38 -> 3 | F38: 0 | G38: =E38*F38 -> 0
A39: Prendedor de roupas, pacote com 12 unidades | B39: pacote | C39: 2 | D39: 12 | E39: =12/D39*C39 -> 2 | F39: 0 | G39: =E39*F39 -> 0
A40: Pá de Lixo, com cabo longo | B40: unidade | C40: 4 | D40: 12 | E40: =12/D40*C40 -> 4 | F40: 0 | G40: =E40*F40 -> 0
A41: Pano de chão, 100% algodão 50x70 cm | B41: unidade | C41: 10 | D41: 1 | E41: =12/D41*C41 -> 120 | F41: 0 | G41: =E41*F41 -> 0
A42: Rodo com 2 borrachas - 40cm de largura, com cabo | B42: unidade | C42: 3 | D42: 12 | E42: =12/D42*C42 -> 3 | F42: 0 | G42: =E42*F42 -> 0
...
