Workbook
Name Print_Area: 'Cronograma Estúdio de Gravações'!$A$1:$I$50
Name Print_Area: 'Orçamento Estúdio de Gravações'!$A$1:$M$184
Name Print_Titles: 'Orçamento Estúdio de Gravações'!$1:$15

Sheet Orçamento Estúdio de Gravações
A1: INCLUIR LOGOTIPO DA EMPRESA
A6: DADOS DA EMPRESA
A7: DADOS DA EMPRESA
A8: DADOS DA EMPRESA
A9: Planilha de Orçamento - GLOBAL
A11: Obra: Estúdio de Gravações da Reitoria – Reformas e Adaptações | F11: Endereço: Rua Gonçalves Chaves, 3218
A12: Cliente: Instituto Federal Sul-Rio-Grandense - Reitoria | F12: Cidade: Pelotas - RS | J12: BDI = | K12: xx% | L12: 42992
A13: Item/Descrição | B13: Qtd. | C13: Un | D13: Mão-de-Obra | F13: Material | H13: Custo Unit. Total | I13: Custo Direto | J13: BDI | L13: Sub-Total do Item | M13: Total do Item
D14: Custo Unitário | E14: Custo Parcial | F14: Custo Unitário | G14: Custo Parcial | J14: Valor | K14: %
A16: 2. SERVIÇOS PRELIMINARES / TÉCNICOS | M16: =SUM(L17:L27) -> #VALUE!
A17: 2. 8. DEMOLIÇÕES E REMOÇÕES
A18: 2. 8. 2. DEMOLIÇÃO DE ALVENARIA DE TIJOLOS
A19: .1 DEMOLIÇÃO DE ALVENARIA DE TIJOLOS | B19: 0.32 | C19: M3 | E19: =D19*B19 -> 0 | G19: =F19*B19 -> 0 | H19: =+D19+F19 -> 0 | I19: =E19+G19 -> 0 | J19: =(K19/100)*I19 -> #VALUE! | K19: =$K$12 -> xx% | L19: =I19+J19 -> #VALUE!
A20: 2. 8. 3. REMOÇÃO DE ESQUADRIAS DE ALUMÍNIO
A21: .1 RETIRADA DE ESQUADRIAS | B21: 2 | C21: M2 | E21: =D21*B21 -> 0 | G21: =F21*B21 -> 0 | H21: =+D21+F21 -> 0 | I21: =E21+G21 -> 0 | J21: =(K21/100)*I21 -> #VALUE! | K21: =$K$12 -> xx% | L21: =I21+J21 -> #VALUE!
A22: 2. 8. 4. REMOÇÃO DE INSTALAÇÕES ELÉTRICAS
A23: .1 REMOÇÃO DE INTERRUPTORES E TOMADAS, INCL. CX. | B23: 8 | C23: UN | E23: =D23*B23 -> 0 | G23: =F23*B23 -> 0 | H23: =+D23+F23 -> 0 | I23: =E23+G23 -> 0 | J23: =(K23/100)*I23 -> #VALUE! | K23: =$K$12 -> xx% | L23: =I23+J23 -> #VALUE!
A24: .2 REMOÇÃO DE LUMINÁRIAS | B24: 20 | C24: UN | E24: =D24*B24 -> 0 | G24: =F24*B24 -> 0 | H24: =+D24+F24 -> 0 | I24: =E24+G24 -> 0 | J24: =(K24/100)*I24 -> #VALUE! | K24: =$K$12 -> xx% | L24: =I24+J24 -> #VALUE!
A25: .3 REINSTALAÇÃO DE LUMINÁRIAS | B25: 17 | C25: UN | E25: =D25*B25 -> 0 | G25: =F25*B25 -> 0 | H25: =+D25+F25 -> 0 | I25: =E25+G25 -> 0 | J25: =(K25/100)*I25 -> #VALUE! | K25: =$K$12 -> xx% | L25: =I25+J25 -> #VALUE!
A26: 2. 8.38. REMOÇÃO DE INSTALAÇÕES LÓGICAS/TELEFÔNICAS
A27: .1 REMOÇÃO DE TOMADAS, INCL. CX. E CABOS | B27: 1 | C27: UN | E27: =D27*B27 -> 0 | G27: =F27*B27 -> 0 | H27: =+D27+F27 -> 0 | I27: =E27+G27 -> 0 | J27: =(K27/100)*I27 -> #VALUE! | K27: =$K$12 -> xx% | L27: =I27+J27 -> #VALUE!
A28: 6. SUPERESTRUTURA | M28: =SUM(L29:L31) -> #VALUE!
A29: 6. 1. ESTRUTURA DE CONCRETO
A30: 6. 1. 5. VERGA
A31: .1 VERGA EM CONCRETO PRÉ-MOLDADO - COM TRASPASSE 20cm (com esperas das armaduras para engastar no pilar) | B31: 1.4 | C31: M | E31: =D31*B31 -> 0 | G31: =F31*B31 -> 0 | H31: =+D31+F31 -> 0 | I31: =E31+G31 -> 0 | J31: =(K31/100)*I31 -> #VALUE! | K31: =$K$12 -> xx% | L31: =I31+J31 -> #VALUE!
A32: 7. ALVENARIA / VEDAÇÃO / DIVISÓRIA | M32: =SUM(L33:L36) -> #VALUE!
A33: 7. 2. DIVISÓRIAS
A34: 7. 2. 2. DIVISÓRIA COM PAINÉIS DE GESSO
A35: .1 PAREDE DE GESSO ACARTONADO 10cm C/ ISOLAMENTO EM LÃ DE ROCHA | B35: 85.02 | C35: M2 | E35: =D35*B35 -> 0 | G35: =F35*B35 -> 0 | H35: =+D35+F35 -> 0 | I35: =E35+G35 -> 0 | J35: =(K35/100)*I35 -> #VALUE! | K35: =$K$12 -> xx% | L35: =I35+J35 -> #VALUE!
A36: .2 PAREDE DE GESSO ACARTONADO 20cm C/ ISOLAMENTO EM LÃ DE ROCHA | B36: 19.92 | C36: M2 | E36: =D36*B36 -> 0 | G36: =F36*B36 -> 0 | H36: =+D36+F36 -> 0 | I36: =E36+G36 -> 0 | J36: =(K36/100)*I36 -> #VALUE! | K36: =$K$12 -> xx% | L36: =I36+J36 -> #VALUE!
A37: 8. ESQUADRIAS | M37: =SUM(L38:L42) -> #VALUE!
A38: 8. 9. ESQUADRIAS ACÚSTICAS
A39: 8. 9. 1. PORTA ACÚSTICA
A40: .1 PORTA ACÚSTICA 0,80X2,10 - LINHA PROFISSIONAL - 50dB | B40: 1 | C40: UN | E40: =D40*B40 -> 0 | G40: =F40*B40 -> 0 | H40: =+D40+F40 -> 0 | I40: =E40+G40 -> 0 | J40: =(K40/100)*I40 -> #VALUE! | K40: =$K$12 -> xx% | L40: =I40+J40 -> #VALUE!
A41: 8. 9. 2. JANELA ACÚSTICA
A42: .1 VISOR ACÚSTICO - 2,50x1,35m | B42: 1 | C42: UN | E42: =D42*B42 -> 0 | G42: =F42*B42 -> 0 | H42: =+D42+F42 -> 0 | I42: =E42+G42 -> 0 | J42: =(K42/100)*I42 -> #VALUE! | K42: =$K$12 -> xx% | L42: =I42+J42 -> #VALUE!
A43: 10. INSTALAÇÕES ELÉTRICAS | M43: =SUM(L44:L88) -> #VALUE!
A44: 10. 1. INSTALAÇÕES DE BAIXA TENSÃO
A45: 10. 1. 2. INTERRUPTORES, TOMADAS E ACESSÓRIOS
A46: .1 INTERRUPTOR EMBUTIR SIMPLES-INCLUSIVE CAIXA 2X4" P/ GESSO | B46: 1 | C46: UN | E46: =D46*B46 -> 0 | G46: =F46*B46 -> 0 | H46: =+D46+F46 -> 0 | I46: =E46+G46 -> 0 | J46: =(K46/100)*I46 -> #VALUE! | K46: =$K$12 -> xx% | L46: =I46+J46 -> #VALUE!
...

Sheet Cronograma Estúdio de Gravações
A1: INCLUIR LOGOTIPO DA EMPRESA
A6: DADOS DA EMPRESA
A7: DADOS DA EMPRESA
A8: DADOS DA EMPRESA
A9: CRONOGRAMA FÍSICO-FINANCEIRO
A10: Obra: Estúdio de Gravações da Reitoria – Reformas e Adaptações | D10: Endereço: Rua Gonçalves Chaves, 3218
A11: Cliente: Instituto Federal Sul-Rio-Grandense - Reitoria | D11: Cidade: Pelotas - RS
A13: ITEM | B13: 25 dias | D13: 50 dias | F13: 75 dias | H13: TOTAL
B14: VALOR | C14: % | D14: VALOR | E14: % | F14: VALOR | G14: % | H14: VALOR | I14: %
A15: 2. SERVIÇOS PRELIMINARES / TÉCNICOS | B15: =C15*$H15 -> #VALUE! | C15: 1 | D15: =E15*$H15 -> #VALUE! | E15: 0 | F15: =G15*$H15 -> #VALUE! | H15: ='Orçamento Estúdio de Gravações'!M16 -> #VALUE! | I15: =C15+E15+G15 -> 1
A16: 6. SUPERESTRUTURA | B16: =C16*$H16 -> #VALUE! | C16: 1 | D16: =E16*$H16 -> #VALUE! | F16: =G16*$H16 -> #VALUE! | H16: ='Orçamento Estúdio de Gravações'!M28 -> #VALUE! | I16: =C16+E16+G16 -> 1
A17: 7. ALVENARIA / VEDAÇÃO / DIVISÓRIA | B17: =C17*$H17 -> #VALUE! | C17: 0.5 | D17: =E17*$H17 -> #VALUE! | E17: 0.5 | H17: ='Orçamento Estúdio de Gravações'!M32 -> #VALUE! | I17: =C17+E17+G17 -> 1
A18: 8. ESQUADRIAS | D18: =E18*$H18 -> #VALUE! | E18: 1 | H18: ='Orçamento Estúdio de Gravações'!M37 -> #VALUE! | I18: =C18+E18+G18 -> 1
A19: 10. INSTALAÇÕES ELÉTRICAS | B19: =C19*$H19 -> #VALUE! | C19: 0.3 | D19: =E19*$H19 -> #VALUE! | E19: 0.3 | F19: =G19*$H19 -> #VALUE! | G19: 0.4 | H19: ='Orçamento Estúdio de Gravações'!M43 -> #VALUE! | I19: =C19+E19+G19 -> 1
A20: 11. INSTALAÇÕES LÓGICA/TELEFÔNICA | B20: =C20*$H20 -> #VALUE! | C20: 0 | D20: =E20*$H20 -> #VALUE! | E20: 1 | F20: =G20*$H20 -> #VALUE! | G20: 0 | H20: ='Orçamento Estúdio de Gravações'!M89 -> #VALUE! | I20: =C20+E20+G20 -> 1
A21: 14. INSTALAÇÕES DE COMBATE À INCÊNDIO | F21: =G21*$H21 -> #VALUE! | G21: 1 | H21: ='Orçamento Estúdio de Gravações'!M105 -> #VALUE! | I21: =C21+E21+G21 -> 1
A22: 15. REVESTIMENTOS | D22: =E22*$H22 -> #VALUE! | E22: 1 | H22: ='Orçamento Estúdio de Gravações'!M115 -> #VALUE! | I22: =C22+E22+G22 -> 1
A23: 16. VIDROS | D23: =E23*$H23 -> #VALUE! | F23: =G23*$H23 -> #VALUE! | G23: 1 | H23: ='Orçamento Estúdio de Gravações'!M123 -> #VALUE! | I23: =C23+E23+G23 -> 1
A24: 17. PINTURA | B24: =C24*$H24 -> #VALUE! | D24: =E24*$H24 -> #VALUE! | E24: 0 | F24: =G24*$H24 -> #VALUE! | G24: 1 | H24: ='Orçamento Estúdio de Gravações'!M126 -> #VALUE! | I24: =C24+E24+G24 -> 1
A25: 18. SERVIÇOS COMPLEMENTARES | B25: =C25*$H25 -> #VALUE! | D25: =E25*$H25 -> #VALUE! | F25: =G25*$H25 -> #VALUE! | G25: 1 | H25: ='Orçamento Estúdio de Gravações'!M136 -> #VALUE! | I25: =C25+E25+G25 -> 1
A26: 20. EQUIPAMENTOS | B26: =C26*$H26 -> #VALUE! | C26: 0.2 | D26: =E26*$H26 -> #VALUE! | E26: 0.3 | F26: =G26*$H26 -> #VALUE! | G26: 0.5 | H26: ='Orçamento Estúdio de Gravações'!M139 -> #VALUE! | I26: =C26+E26+G26 -> 1
A27: 21. GERENCIAMENTO DE OBRAS / FISCALIZAÇÃO | B27: =C27*$H27 -> #VALUE! | C27: 0.3333333 | D27: =E27*$H27 -> #VALUE! | E27: 0.3333333 | F27: =G27*$H27 -> #VALUE! | G27: 0.3333333 | H27: ='Orçamento Estúdio de Gravações'!M152 -> #VALUE! | I27: =C27+E27+G27 -> 0.9999999
A28: 22. FORRO | B28: =C28*$H28 -> #VALUE! | C28: 0 | D28: =E28*$H28 -> #VALUE! | E28: 0 | F28: =G28*$H28 -> #VALUE! | G28: 1 | H28: ='Orçamento Estúdio de Gravações'!M156 -> #VALUE! | I28: =C28+E28+G28 -> 1
A29: 23. AR CONDICIONADO | F29: =G29*$H29 -> #VALUE! | G29: 1 | H29: ='Orçamento Estúdio de Gravações'!M161 -> #VALUE! | I29: =C29+E29+G29 -> 1
A30: 24. PISO | B30: =C30*$H30 -> #VALUE! | C30: 0 | D30: =E30*$H30 -> #VALUE! | E30: 0 | F30: =G30*$H30 -> #VALUE! | G30: 1 | H30: ='Orçamento Estúdio de Gravações'!M168 -> #VALUE! | I30: =C30+E30+G30 -> 1
A31: Total da Etapa | B31: =SUM(B15:B30) -> #VALUE! | C31: =B31/$H$31 -> #VALUE! | D31: =SUM(D15:D30) -> #VALUE! | E31: =D31/$H$31 -> #VALUE! | F31: =SUM(F15:F30) -> #VALUE! | G31: =F31/$H$31 -> #VALUE! | H31: ='Orçamento Estúdio de Gravações'!M171 -> #VALUE! | I31: =C31+E31+G31 -> #VALUE!
A32: Total Acumulado | B32: =B31 -> #VALUE! | C32: =C31 -> #VALUE! | D32: =B32+D31 -> #VALUE! | E32: =C32+E31 -> #VALUE! | F32: =D32+F31 -> #VALUE! | G32: =E32+G31 -> #VALUE! | H32: =SUM(H15:H30) -> #VALUE!
F34: Local e Data
F37: Nome do Profissional Responsável
F38: Especificação do Cargo/função
F39: N° do CREA ou CAU
